BEGIN:VCALENDAR
VERSION:2.0
PRODID:-//UP Alumni Website - ECPv6.15.16//NONSGML v1.0//EN
CALSCALE:GREGORIAN
METHOD:PUBLISH
X-WR-CALNAME:UP Alumni Website
X-ORIGINAL-URL:https://alum.up.edu.ph
X-WR-CALDESC:Events for UP Alumni Website
REFRESH-INTERVAL;VALUE=DURATION:PT1H
X-Robots-Tag:noindex
X-PUBLISHED-TTL:PT1H
BEGIN:VTIMEZONE
TZID:UTC
BEGIN:STANDARD
TZOFFSETFROM:+0000
TZOFFSETTO:+0000
TZNAME:UTC
DTSTART:20220101T000000
END:STANDARD
END:VTIMEZONE
BEGIN:VEVENT
DTSTART;TZID=UTC:20231019T100000
DTEND;TZID=UTC:20240126T160000
DTSTAMP:20260424T115707
CREATED:20231018T181649Z
LAST-MODIFIED:20231018T181649Z
UID:13137-1697709600-1706284800@alum.up.edu.ph
SUMMARY:Waray-Pag-ultan han Pinulongan: Mulay-Mulay ha Binisaya (Waray without Borders: Playing with Words)
DESCRIPTION:Waray-Pag-ultan han Pinulongan: Mulay-Mulay ha Binisaya (Waray without Borders: Playing with Words)\n\nThe Leyte Samar Heritage Center is marking its 28th founding anniversary and Museums and Galleries Month this October with a new exhibit on the Binisaya/Waray language with the title “Waray Pag-ultan han Pinulongan: Mulay-Mulay ha Binisaya (Waray without Borders: Playing with Words).”\n\nThe free interactive exhibit underscores how language carries the collective knowledge of our ancestors\, how it shapes our identity as a people\, and how it helps us navigate this modern world.\n\nEveryone is invited to view the exhibit anytime between 19 October 2023 and 26 January 2024\, from 10:00 AM to 4:00 PM on weekdays except holidays. Book your visit by filling out this form [https://bit.ly/WarayLanguageExhibit].\n\nSource: UP Tacloban – Leyte Samar Heritage Center Facebook
URL:https://alum.up.edu.ph/event/waray-pag-ultan-han-pinulongan-mulay-mulay-ha-binisaya-waray-without-borders-playing-with-words/
END:VEVENT
BEGIN:VEVENT
DTSTART;TZID=UTC:20240111T170000
DTEND;TZID=UTC:20240130T160000
DTSTAMP:20260424T115707
CREATED:20240110T183732Z
LAST-MODIFIED:20240110T183732Z
UID:14280-1704992400-1706630400@alum.up.edu.ph
SUMMARY:Empires of Memory
DESCRIPTION:Photo from the UP Fine Arts Gallery Facebook page\nEveryone is invited to the opening of the exhibit “Empires of Memory” on Jan. 11\, 5 p.m.\, at the Gallery One\, Parola: UP Fine Arts Gallery.\n\nThe exhibit will run until Jan. 30. This will feature works of the MFA 211 students of Assistant Professor Riza Romero\, namely: Lucylle Cawaling\, Rommel Joson\, Manuel Mesina III\, Julien Tan\, and Teta Tulay.\n\nThe gallery is open from Tuesdays to Saturdays\, 9 a.m.–4 p.m. Walk-in guests are welcome.\n\nVisit bit.ly/ParolaVisitorsForm or email cfagallery.upd@up.edu.ph for bookings.
URL:https://alum.up.edu.ph/event/empires-of-memory/
END:VEVENT
BEGIN:VEVENT
DTSTART;TZID=UTC:20240119T080000
DTEND;TZID=UTC:20240123T150000
DTSTAMP:20260424T115707
CREATED:20240117T214639Z
LAST-MODIFIED:20240117T214856Z
UID:14444-1705651200-1706022000@alum.up.edu.ph
SUMMARY:90th Postgraduate Course in Occupational Health and Safety
DESCRIPTION:Join the 90th Postgraduate Course in Occupational Health and Safety on 19 to 23\, 26 to 29 February\, and 01 March 2024\, to be offered online via Zoom and Google Classroom.\n\nThis is open to physicians\, nurses\, dentists\, physical therapists\, sanitary engineers\, and other professionals interested in OHS. This course offering aims to contribute to the achievement of #SDG3 #SDG8.\n\nTo register\, kindly email us at upm.cph.deoh@up.edu.ph or visit our website for more information https://sites.google.com/up.edu.ph/deoh-pgcohs/home\n\nSee you there!\n\nSource: University of the Philippines Manila Facebook
URL:https://alum.up.edu.ph/event/90th-postgraduate-course-in-occupational-health-and-safety-2/
END:VEVENT
END:VCALENDAR