BEGIN:VCALENDAR
VERSION:2.0
PRODID:-//UP Alumni Website - ECPv6.15.16//NONSGML v1.0//EN
CALSCALE:GREGORIAN
METHOD:PUBLISH
X-WR-CALNAME:UP Alumni Website
X-ORIGINAL-URL:https://alum.up.edu.ph
X-WR-CALDESC:Events for UP Alumni Website
REFRESH-INTERVAL;VALUE=DURATION:PT1H
X-Robots-Tag:noindex
X-PUBLISHED-TTL:PT1H
BEGIN:VTIMEZONE
TZID:UTC
BEGIN:STANDARD
TZOFFSETFROM:+0000
TZOFFSETTO:+0000
TZNAME:UTC
DTSTART:20230101T000000
END:STANDARD
END:VTIMEZONE
BEGIN:VEVENT
DTSTART;TZID=UTC:20240203T090000
DTEND;TZID=UTC:20240309T160000
DTSTAMP:20260424T105810
CREATED:20240118T154726Z
LAST-MODIFIED:20240118T154726Z
UID:14476-1706950800-1710000000@alum.up.edu.ph
SUMMARY:1st Food Safety for Business Competitiveness and Profitability Course
DESCRIPTION:We have less than one month left before the start of the Food Safety for Business Profitability Course.\n\nLet us help you in making and serving safe food to your customers. The course is open to all food manufacturers\, processors\, and restaurant owners!\n\nDuration: February 3 to March 9\, 2024 (6 Saturdays)\n\nParticipation fee: PhP 15\,000.00\n\nMode of Conduct: Face to Face\n\nRegistration is now open: bit.ly/UPISSI_TrainingRegistration2024\n\nSource: UP Institute for Small-Scale Industries Facebook
URL:https://alum.up.edu.ph/event/1st-food-safety-for-business-competitiveness-and-profitability-course/
END:VEVENT
BEGIN:VEVENT
DTSTART;TZID=UTC:20240205T140000
DTEND;TZID=UTC:20240205T160000
DTSTAMP:20260424T105810
CREATED:20240131T160350Z
LAST-MODIFIED:20240131T160350Z
UID:14742-1707141600-1707148800@alum.up.edu.ph
SUMMARY:The MSI@50 Lecture Series: Deeper understanding of coral reef ecosystems holds the key to their protection and restoration
DESCRIPTION:For the next entry in the MSI@50 Lecture Series\, Dr. Patrick Cabaitan will delve into the depths of why understanding coral reef ecosystems is important for their conservation.\n\nThe MSI@50 Lecture Series is an official UNESCO Ocean Decade activity that features the various topics and disciplines in marine science our faculty members specialize in. As one of the institute’s major events leading up to our 50th Anniversary\, the hybrid Lecture Series webinars celebrate the many ways UP MSI has gone beyond borders to forward marine science for the people.\n\nDr. Cabaitan’s seminar is on February 5\, 2PM to 3PM at the MSI AVR.\n\nRegister now: bit.ly/MSIat50LS9\n\nSource: UP Marine Science Institute Facebook
URL:https://alum.up.edu.ph/event/the-msi50-lecture-series-deeper-understanding-of-coral-reef-ecosystems-holds-the-key-to-their-protection-and-restoration/
END:VEVENT
BEGIN:VEVENT
DTSTART;TZID=UTC:20240205T143000
DTEND;TZID=UTC:20240205T193000
DTSTAMP:20260424T105810
CREATED:20240204T170735Z
LAST-MODIFIED:20240204T170827Z
UID:14797-1707143400-1707161400@alum.up.edu.ph
SUMMARY:Days of El Maestro: Celebrating Elwood Perez with EdukSine
DESCRIPTION:Days of El Maestro\n\nFebruary 2024 with Days of El Maestro on the occasion of master director Elwood Pérez’s birth month. Big-screen classics for which movie queens Vilma Santos and National Artist for Film and Broadcast Arts Nora Aunor have been bestowed topmost honors under El Maestro’s helm comprise a special selection for a fitting retrospective.\n\nUPFI Film Center\nFebruary 2024\nDays of El Maestro: Celebrating Elwood Perez with EdukSine\n\nFeb 3 Sat 2:30/5 p.m.\n• Ibulong Mo sa Diyos (Regal Films\, 1988)\n• Bilangin ang Bituin sa Langit (Regal Films\, 1989)\n\nFeb 5 Mon 2:30/5 p.m.\n• Mahal Mo\, Mahal Ko (Regal Films\, 1978)\n• Magkaribal (Regal Films\, 1979)\n\nFeb 12 Mon 2:30/5 p.m.\n• Masarap\, Masakit ang Umibig (Sampaguita-VP Pictures\, 1977)\n• Nakawin Natin ang Bawa’t Sandali Sampaguita-VP Pictures\, 1978)\n\nFeb 15 Thurs 2:30/5 p.m.\n• Till We Meet Again (Regal Films\, 1985)\n• I Can’t Stop Loving You (Regal Films\, 1985)\n\nFeb 21 Wed 2:30/5 p.m.\n• Pakawalan Mo Ako (Sampaguita-MVP Pictures\, 1981)\n• Ang Totoong Buhay ni Pacita M. (MRN Films\, 1991)\n\nFREE ADMISSION!\n\n~~~\n🎬 The screenings are open to the public for free on a first-come\, first-served basis. Registration starts 1 hour before screen time at the cinema entrance.\n🎬 Eating and drinking are not allowed.\n\nSource: UPFI Film Center Facebook
URL:https://alum.up.edu.ph/event/days-of-el-maestro-celebrating-elwood-perez-with-eduksine/
END:VEVENT
BEGIN:VEVENT
DTSTART;TZID=UTC:20240205T150000
DTEND;TZID=UTC:20240205T170000
DTSTAMP:20260424T105810
CREATED:20240131T160131Z
LAST-MODIFIED:20240131T160131Z
UID:14739-1707145200-1707152400@alum.up.edu.ph
SUMMARY:The Resurgence of the Left in Latin America and the Challenge of the Right in the Global South: Implications for Asia and the Philippines
DESCRIPTION:Catch esteemed environmental activist Pablo Solón and human rights activist Walden Bello at the UP Asian Center on 5 Feb 2024!\n\nView details\, sign up: https://bit.ly/latinleft\n\nSource: Asian Center\, UP Diliman Facebook
URL:https://alum.up.edu.ph/event/the-resurgence-of-the-left-in-latin-america-and-the-challenge-of-the-right-in-the-global-south-implications-for-asia-and-the-philippines/
END:VEVENT
END:VCALENDAR