BEGIN:VCALENDAR
VERSION:2.0
PRODID:-//UP Alumni Website - ECPv6.15.16//NONSGML v1.0//EN
CALSCALE:GREGORIAN
METHOD:PUBLISH
X-WR-CALNAME:UP Alumni Website
X-ORIGINAL-URL:https://alum.up.edu.ph
X-WR-CALDESC:Events for UP Alumni Website
REFRESH-INTERVAL;VALUE=DURATION:PT1H
X-Robots-Tag:noindex
X-PUBLISHED-TTL:PT1H
BEGIN:VTIMEZONE
TZID:UTC
BEGIN:STANDARD
TZOFFSETFROM:+0000
TZOFFSETTO:+0000
TZNAME:UTC
DTSTART:20230101T000000
END:STANDARD
END:VTIMEZONE
BEGIN:VEVENT
DTSTART;TZID=UTC:20240203T090000
DTEND;TZID=UTC:20240309T160000
DTSTAMP:20260423T115726
CREATED:20240118T154726Z
LAST-MODIFIED:20240118T154726Z
UID:14476-1706950800-1710000000@alum.up.edu.ph
SUMMARY:1st Food Safety for Business Competitiveness and Profitability Course
DESCRIPTION:We have less than one month left before the start of the Food Safety for Business Profitability Course.\n\nLet us help you in making and serving safe food to your customers. The course is open to all food manufacturers\, processors\, and restaurant owners!\n\nDuration: February 3 to March 9\, 2024 (6 Saturdays)\n\nParticipation fee: PhP 15\,000.00\n\nMode of Conduct: Face to Face\n\nRegistration is now open: bit.ly/UPISSI_TrainingRegistration2024\n\nSource: UP Institute for Small-Scale Industries Facebook
URL:https://alum.up.edu.ph/event/1st-food-safety-for-business-competitiveness-and-profitability-course/
END:VEVENT
BEGIN:VEVENT
DTSTART;TZID=UTC:20240206T110000
DTEND;TZID=UTC:20240206T120000
DTSTAMP:20260423T115726
CREATED:20240131T160715Z
LAST-MODIFIED:20240131T160715Z
UID:14745-1707217200-1707220800@alum.up.edu.ph
SUMMARY:Smart Soft Materials with Multiscale Architecture and Dynamic Surface Topographies
DESCRIPTION:DChE Seminar Series\n\nThis seminar features Dr. Luyi Sun\, a professor in the Department of Chemical and Biomolecular Engineering and a member of the Polymer Program at the University of Connecticut. His research focuses on the design and synthesis of nanostructured materials for various applications.\n\nJoin us in the first installment of the DChE Seminar Series this second semester on February 6\, 2024\, 11 AM at DChE A101.\n\nSee you there!
URL:https://alum.up.edu.ph/event/smart-soft-materials-with-multiscale-architecture-and-dynamic-surface-topographies/
END:VEVENT
BEGIN:VEVENT
DTSTART;TZID=UTC:20240206T150000
DTEND;TZID=UTC:20240206T170000
DTSTAMP:20260423T115726
CREATED:20240205T164446Z
LAST-MODIFIED:20240205T164446Z
UID:14806-1707231600-1707238800@alum.up.edu.ph
SUMMARY:Building Roads in Northern Canada: A Driver of Development
DESCRIPTION:HAPPENING NEXT WEEK!\n\nDon’t miss our UPSE-PCED Seminar on “Building Roads in Northern Canada: A Driver of Development?” by Prof. Thomas Stringer to be held on 6 February 2024 (Tuesday)\, 3:00 PM at Julius T. Limpe Lecture Room at the UP School of Economics and online through Zoom.\n\nProf. Stringer’s paper presentation examines the economic effects of road connection\, using Northern Canada as a case study. It will also outline some of the policy options explored for developing this region\, and how infrastructure connectivity could affect remote communities in countries such as the Philippines.\n\nPlease register using the links below or by scanning the QR codes.\n\nOnsite: http://tinyurl.com/bdzeu872\nZoom: http://tinyurl.com/4ssrpw33\n\nWe’d love to see you there!\n\nSource: UP School of Economics Facebook
URL:https://alum.up.edu.ph/event/building-roads-in-northern-canada-a-driver-of-development/
END:VEVENT
END:VCALENDAR