BEGIN:VCALENDAR
VERSION:2.0
PRODID:-//UP Alumni Website - ECPv6.15.16//NONSGML v1.0//EN
CALSCALE:GREGORIAN
METHOD:PUBLISH
X-WR-CALNAME:UP Alumni Website
X-ORIGINAL-URL:https://alum.up.edu.ph
X-WR-CALDESC:Events for UP Alumni Website
REFRESH-INTERVAL;VALUE=DURATION:PT1H
X-Robots-Tag:noindex
X-PUBLISHED-TTL:PT1H
BEGIN:VTIMEZONE
TZID:UTC
BEGIN:STANDARD
TZOFFSETFROM:+0000
TZOFFSETTO:+0000
TZNAME:UTC
DTSTART:20230101T000000
END:STANDARD
END:VTIMEZONE
BEGIN:VEVENT
DTSTART;TZID=UTC:20240203T090000
DTEND;TZID=UTC:20240309T160000
DTSTAMP:20260420T031234
CREATED:20240118T154726Z
LAST-MODIFIED:20240118T154726Z
UID:14476-1706950800-1710000000@alum.up.edu.ph
SUMMARY:1st Food Safety for Business Competitiveness and Profitability Course
DESCRIPTION:We have less than one month left before the start of the Food Safety for Business Profitability Course.\n\nLet us help you in making and serving safe food to your customers. The course is open to all food manufacturers\, processors\, and restaurant owners!\n\nDuration: February 3 to March 9\, 2024 (6 Saturdays)\n\nParticipation fee: PhP 15\,000.00\n\nMode of Conduct: Face to Face\n\nRegistration is now open: bit.ly/UPISSI_TrainingRegistration2024\n\nSource: UP Institute for Small-Scale Industries Facebook
URL:https://alum.up.edu.ph/event/1st-food-safety-for-business-competitiveness-and-profitability-course/
END:VEVENT
BEGIN:VEVENT
DTSTART;TZID=UTC:20240210T080000
DTEND;TZID=UTC:20240323T120000
DTSTAMP:20260420T031234
CREATED:20240116T163359Z
LAST-MODIFIED:20240116T163519Z
UID:14404-1707552000-1711195200@alum.up.edu.ph
SUMMARY:UP College of Nursing "Teaching Nursing Informatics 4.0 "
DESCRIPTION:The UP College of Nursing is inviting BS Nursing faculty and nurses to join its Designing Flexible Learning in Nursing Program’s Teaching Nursing Informatics 4.0 online course. The course will be held on Saturday mornings from February 10-March 23.\n\nRegister here: https://forms.gle/qqasrkvwtYotiU7x7\n\nPadayon!\n\nFor inquiries\, email upcn-cecesp.upm@up.edu.ph\nSource: UP Padayon Public Service Office Facebook
URL:https://alum.up.edu.ph/event/up-college-of-nursing-teaching-nursing-informatics-4-0/
END:VEVENT
BEGIN:VEVENT
DTSTART;TZID=UTC:20240210T080000
DTEND;TZID=UTC:20240323T170000
DTSTAMP:20260420T031234
CREATED:20240107T220912Z
LAST-MODIFIED:20240107T220912Z
UID:14213-1707552000-1711213200@alum.up.edu.ph
SUMMARY:TEACHING NURSING INFORMATICS BATCH 4
DESCRIPTION:Inviting BS Nursing faculty and interested nurses to join the Designing Flexible Learning in Nursing Program’s Teaching Nursing Informatics 4.0. This 8-week\, module-based\, online course aims to equip current and potential nursing faculty on updated content and pedagogy to confidently teach Nursing Informatics in the undergraduate programs.\n\nSaturday Mornings\, February 10 – March 23\, 2023\nFee: Php 5\,000.00\n\nRegistration details on the poster or use this link: https://forms.gle/qqasrkvwtYotiU7x7\n\nSource: UP College of Nursing Facebook
URL:https://alum.up.edu.ph/event/teaching-nursing-informatics-batch-4/
END:VEVENT
BEGIN:VEVENT
DTSTART;VALUE=DATE:20240212
DTEND;VALUE=DATE:20240223
DTSTAMP:20260420T031234
CREATED:20240212T164221Z
LAST-MODIFIED:20240212T164221Z
UID:14909-1707696000-1708646399@alum.up.edu.ph
SUMMARY:UP Mindanao 29th Anniversary
DESCRIPTION:LOOK | UP Mindanao 29th Anniversary\n\nSchedule of Events\n\nJoin us in celebrating the 29 years of honor\, excellence\, and service to the nation with the following events.\n\nStay updated for more details!\n\n🎨: Noel Larios Jr. & Joshua Meralles | SA PRO\n\nSource: University of the Philippines Mindanao Facebook
URL:https://alum.up.edu.ph/event/up-mindanao-29th-anniversary/
END:VEVENT
BEGIN:VEVENT
DTSTART;TZID=UTC:20240216T080000
DTEND;TZID=UTC:20240228T170000
DTSTAMP:20260420T031234
CREATED:20240218T175746Z
LAST-MODIFIED:20240218T175809Z
UID:15025-1708070400-1709139600@alum.up.edu.ph
SUMMARY:UP Baguio National Arts Month Events
DESCRIPTION:Look: UP Baguio events for this Arts Month\n\nFeb 16 (Fri) 1:00pm-3:00pm @ Teatro Amianan\nT’boli Music and Oral Tradition with Manlilikha ng Bayan Rosie Sula\n\nFeb 16 (Fri) 3:00-4:30pm @ UPB Library\nBook Launch of Christine Bellen-Ang’s Ang Mahiwagang Bantay ng Bundok Arayat + Lektyur tungkol sa mga bundok sa panitikang pambata\n\nFeb 17 (Sat) 8:30am-3:00pm @ CSS AVR\nConversations on T’boli Intangible Cultural Heritage and Tourism\n\nFeb 23 (Fri) 1:30-3:30pm @ Teatro Amianan\nFilm Screening and talkback with the filmmakers of Memory Project: Fragments (AsiaVisions 1991) from the Concerned Artists of the Philippines\, Filikino\, and PUP Center for Heritage Studies\n\nFeb 26 (Mon) 10:00am-12:00nn @ Teatro Amianan\nTalks and open forum on “Art and A.I.” featuring artist Christina Lopez and novelist Joel Donato Ching Jacob\n\nFeb 28 (Wed) 4:00-8:00pm @ CAC Dap-ay\nDemja\, a bonfire evening featuring live performances from Tinig Amianan\, Literati\, and Set-up\n\nSource: University of the Philippines Baguio Facebook
URL:https://alum.up.edu.ph/event/up-baguio-national-arts-month-events/
END:VEVENT
BEGIN:VEVENT
DTSTART;TZID=UTC:20240219T080000
DTEND;TZID=UTC:20240223T170000
DTSTAMP:20260420T031234
CREATED:20240215T214605Z
LAST-MODIFIED:20240215T214605Z
UID:15011-1708329600-1708707600@alum.up.edu.ph
SUMMARY:UPLB Fringe
DESCRIPTION:In celebration of the National Arts Month and as part of the launching of the AGORA 5th Area\, OICA is holding the UPLB Fringe this February 19-23.\n\nSource: UPLB Office for Initiatives in Culture and the Arts Facebook
URL:https://alum.up.edu.ph/event/uplb-fringe/
END:VEVENT
BEGIN:VEVENT
DTSTART;TZID=UTC:20240219T080000
DTEND;TZID=UTC:20240301T170000
DTSTAMP:20260420T031234
CREATED:20240107T221425Z
LAST-MODIFIED:20240107T221425Z
UID:14220-1708329600-1709312400@alum.up.edu.ph
SUMMARY:90th Postgraduate Course in Occupational Health and Safety
DESCRIPTION:Interested in practicing Occupational Health and Safety (OHS)?\n\nJoin the 90th Postgraduate Course in Occupational Health and Safety on 19 to 23\, 26 to 29\, and 01 March 2024\, to be offered online via Zoom and Google Classroom.\n\nThis is open to physicians\, nurses\, dentists\, physical therapists\, sanitary engineers\, and other professionals interested in OHS. This course offering aims to contribute to the achievement of #SDG3 #SDG8.\n\nTo register\, kindly email us at upm.cph.deoh@up.edu.ph or visit our website for more information https://sites.google.com/up.edu.ph/deoh-pgcohs/home\n\nSee you there!\n\nSource: University of the Philippines Manila Facebook
URL:https://alum.up.edu.ph/event/90th-postgraduate-course-in-occupational-health-and-safety/
END:VEVENT
BEGIN:VEVENT
DTSTART;TZID=UTC:20240221T080000
DTEND;TZID=UTC:20240223T170000
DTSTAMP:20260420T031234
CREATED:20240219T214652Z
LAST-MODIFIED:20240219T214652Z
UID:15036-1708502400-1708707600@alum.up.edu.ph
SUMMARY:2023 (9th) Philippine Korean Studies Symposium
DESCRIPTION:As a leading Korean Studies research institution\, UP KRC is organizing the 9th Philippine Korean Studies Symposium “A DECADE OF KOREAN STUDIES IN THE PHILIPPINES: A GLANCE AT THE PAST\, A GAZE AT THE PRESENT\, A GLIMPSE OF THE FUTURE\,” on 21-22 March 2024. The event is to disseminate the latest academic outcomes of renowned scholars and also to mobilize Koreanists in the Philippines to extend their knowledge of relevant issues in various fields. 🇵🇭🇰🇷\n\n📍The event is on site and free. Only limited slots are available and registration will be confirmed via email. Register here or via QR code (poster):\nhttps://bit.ly/9pkss\n\n🌐 See the Day 1 & 2 program:\nhttps://docs.google.com/…/1Iroi1FRxq…/edit…\n\nSource: UP Korea Research Center Facebook
URL:https://alum.up.edu.ph/event/2023-9th-philippine-korean-studies-symposium/
END:VEVENT
BEGIN:VEVENT
DTSTART;TZID=UTC:20240222T090000
DTEND;TZID=UTC:20240222T110000
DTSTAMP:20260420T031234
CREATED:20240215T214321Z
LAST-MODIFIED:20240215T214321Z
UID:15008-1708592400-1708599600@alum.up.edu.ph
SUMMARY:CAS Invited Talk Series: “Frailty and our Elderly”
DESCRIPTION:“Frailty and our Elderly” with Dr. Mary Ann Ladia\n\nThe Office of the Associate Dean for Research and Public Service of the College of Arts and Sciences invites everyone to the latest installment of the CAS Invited Talk Series on February 22\, 2024\, Thursday\, 9 to 11 AM at RH 303\, Rizal Hall.\n\nThe talk is relevant to UP Manila faculty\, staff\, and students whose area of study is geared towards medical anthropology\, public health\, social sciences\, and behavioral sciences as it will revolve on the FITforFRAIL Study of the National Institute of Health.\n\nInterested participants may register now through this link: https://bit.ly/CASInvTalkwithDrLadia\n\nSource: UPM CAS Office of the Associate Dean for Research and Public Service\n\nSource: University of the Philippines Manila Facebook
URL:https://alum.up.edu.ph/event/cas-invited-talk-series-frailty-and-our-elderly/
END:VEVENT
BEGIN:VEVENT
DTSTART;TZID=UTC:20240222T100000
DTEND;TZID=UTC:20240222T110000
DTSTAMP:20260420T031234
CREATED:20240222T154603Z
LAST-MODIFIED:20240222T154603Z
UID:15069-1708596000-1708599600@alum.up.edu.ph
SUMMARY:Reading the Boxer Codex Against the Grain
DESCRIPTION:Inaanyahan po ang lahat na dumalo sa lektura ni Dr. Luis Castellvi Laukamp ng University of Manchester na may pamagat na “Reading the Boxer Codex Against the Grain”. Ito ay gaganapin sa ika-23 ng Pebrero\, 2024 mula 10:00 hanggang 11:00 n.u. sa Silid Balatik\, Pavilion 2\, Palma Hall.\n\nAbstract:\n“After the composition of the Boxer Codex\, as the sixteenth century ended\, there would be no more major conquests for the Spanish empire. From this perspective\, the chronicle reads like a swan song of a metropolis afraid to lose its overseas territories in the Pacific. While representing the Visayans as an object of imperial desire\, the Boxer Codex attests to the vitality of a native Philippine society that would not easily submit to conquest. Underneath the imperial jargon lies a description of a Visayan society that\, while certainly not openly anti-imperial\, is vital\, vibrant\, and rich enough to encourage all sorts of alternative readings. Indeed\, the pressures exerted by Visayan resistance on Spanish elite discourse compel it to label natives as barbarians and characterize their attempts to maintain their way of life as inspired by the devil. However\, one can interpret official history as indicative of the contradictions that reflect the consciousness of the subaltern. Given the lack of alternative sources\, we are forced to resort to the Spanish accounts\, but that does not mean accepting them literally. Following the example of Guha\, one of the pioneers of Subaltern Studies\, this paper will read the Boxer Codex against the grain.”\n\nSource: UP Departamento ng Kasaysayan Facebook
URL:https://alum.up.edu.ph/event/reading-the-boxer-codex-against-the-grain/
END:VEVENT
BEGIN:VEVENT
DTSTART;TZID=UTC:20240222T130000
DTEND;TZID=UTC:20240222T150000
DTSTAMP:20260420T031234
CREATED:20240220T164357Z
LAST-MODIFIED:20240220T164357Z
UID:15039-1708606800-1708614000@alum.up.edu.ph
SUMMARY:Maximizing Benefits from Investments in Science\, Technology & Innovation for Development
DESCRIPTION:The Political Economy Program\, UP Center for Integrative and Development Studies\, is organizing a two-part roundtable discussion (RTD) series\, “Moving Filipinnovation Forward\,” led by former Department of Science and Technology (DOST) Secretary Fortunato de la Peña on 22 February 2024 and 27 February 2024.\n\nEach RTD will be held from 1 pm to 3 pm at the Audio-Visual Room\, Juinio Hall\, National Engineering Center\, UP Diliman\, Quezon City. The RTDs are free and open to the public\, but seating is on a first-come\, first-served basis. Pre-registration is encouraged.\n\nSIGN UP: YES\, I WILL ATTEND\n\nMaximizing Benefits from Investments in Science\, Technology & Innovation for Development\n\nDate and Time: 22 February 2024\, 1 pm to 3 pm (PH Time))\nVenue: Audio-Visual Room\, Juinio Hall\, National Engineering Center\, UP Diliman\, Quezon City (View Vicinity Map)\n\nPRESENTATION\n\nFortunato de la Peña\nFormer Secretary\, Department of Science and Technology\n\nDISCUSSANTS\n\nDr. Emil Q. Javier (National Scientist)\n\nRowena Cristina L. Guevarra (Undersecretary\, Department of Energy)\n\nDr. William G. Padolina (Academician\, National Academy of Science and Technology)\n\nREACTORS\n\nEngr. Alfonso A. Aliga\, Jr. (UP Engineering Research & Development Foundation\, Inc)\n\nEngr. Roberto Batungbacal (President\, Samahan sa Pilipinas ng Industriyang Kemikal)\n\nDir. Gen. Rowel S. Barba (Intellectual Property Office of the Philippines)\n\nOPENING REMARKS\n\nAtty. Angelo A. Jimenez (President\, University of the Philippines)
URL:https://alum.up.edu.ph/event/maximizing-benefits-from-investments-in-science-technology-innovation-for-development/
END:VEVENT
BEGIN:VEVENT
DTSTART;TZID=UTC:20240222T160000
DTEND;TZID=UTC:20240222T180000
DTSTAMP:20260420T031234
CREATED:20240222T154357Z
LAST-MODIFIED:20240222T154357Z
UID:15065-1708617600-1708624800@alum.up.edu.ph
SUMMARY:The US Empire: Beginning of the End? Implications for the Philippines and Asia
DESCRIPTION:Is a global war inevitable as some analysts predict? Will current global and internal political\, economic\, and environmental crises facing the United States mean the beginning of the end of its hegemony?\n\nView details\, sign up: https://bit.ly/endofempire223\n\nSource: UP Center for Integrative and Development Studies Facebook
URL:https://alum.up.edu.ph/event/the-us-empire-beginning-of-the-end-implications-for-the-philippines-and-asia/
END:VEVENT
END:VCALENDAR