BEGIN:VCALENDAR
VERSION:2.0
PRODID:-//UP Alumni Website - ECPv6.15.16//NONSGML v1.0//EN
CALSCALE:GREGORIAN
METHOD:PUBLISH
X-WR-CALNAME:UP Alumni Website
X-ORIGINAL-URL:https://alum.up.edu.ph
X-WR-CALDESC:Events for UP Alumni Website
REFRESH-INTERVAL;VALUE=DURATION:PT1H
X-Robots-Tag:noindex
X-PUBLISHED-TTL:PT1H
BEGIN:VTIMEZONE
TZID:UTC
BEGIN:STANDARD
TZOFFSETFROM:+0000
TZOFFSETTO:+0000
TZNAME:UTC
DTSTART:20230101T000000
END:STANDARD
END:VTIMEZONE
BEGIN:VEVENT
DTSTART;TZID=UTC:20240203T090000
DTEND;TZID=UTC:20240309T160000
DTSTAMP:20260424T141833
CREATED:20240118T154726Z
LAST-MODIFIED:20240118T154726Z
UID:14476-1706950800-1710000000@alum.up.edu.ph
SUMMARY:1st Food Safety for Business Competitiveness and Profitability Course
DESCRIPTION:We have less than one month left before the start of the Food Safety for Business Profitability Course.\n\nLet us help you in making and serving safe food to your customers. The course is open to all food manufacturers\, processors\, and restaurant owners!\n\nDuration: February 3 to March 9\, 2024 (6 Saturdays)\n\nParticipation fee: PhP 15\,000.00\n\nMode of Conduct: Face to Face\n\nRegistration is now open: bit.ly/UPISSI_TrainingRegistration2024\n\nSource: UP Institute for Small-Scale Industries Facebook
URL:https://alum.up.edu.ph/event/1st-food-safety-for-business-competitiveness-and-profitability-course/
END:VEVENT
BEGIN:VEVENT
DTSTART;TZID=UTC:20240210T080000
DTEND;TZID=UTC:20240323T120000
DTSTAMP:20260424T141833
CREATED:20240116T163359Z
LAST-MODIFIED:20240116T163519Z
UID:14404-1707552000-1711195200@alum.up.edu.ph
SUMMARY:UP College of Nursing "Teaching Nursing Informatics 4.0 "
DESCRIPTION:The UP College of Nursing is inviting BS Nursing faculty and nurses to join its Designing Flexible Learning in Nursing Program’s Teaching Nursing Informatics 4.0 online course. The course will be held on Saturday mornings from February 10-March 23.\n\nRegister here: https://forms.gle/qqasrkvwtYotiU7x7\n\nPadayon!\n\nFor inquiries\, email upcn-cecesp.upm@up.edu.ph\nSource: UP Padayon Public Service Office Facebook
URL:https://alum.up.edu.ph/event/up-college-of-nursing-teaching-nursing-informatics-4-0/
END:VEVENT
BEGIN:VEVENT
DTSTART;TZID=UTC:20240210T080000
DTEND;TZID=UTC:20240323T170000
DTSTAMP:20260424T141833
CREATED:20240107T220912Z
LAST-MODIFIED:20240107T220912Z
UID:14213-1707552000-1711213200@alum.up.edu.ph
SUMMARY:TEACHING NURSING INFORMATICS BATCH 4
DESCRIPTION:Inviting BS Nursing faculty and interested nurses to join the Designing Flexible Learning in Nursing Program’s Teaching Nursing Informatics 4.0. This 8-week\, module-based\, online course aims to equip current and potential nursing faculty on updated content and pedagogy to confidently teach Nursing Informatics in the undergraduate programs.\n\nSaturday Mornings\, February 10 – March 23\, 2023\nFee: Php 5\,000.00\n\nRegistration details on the poster or use this link: https://forms.gle/qqasrkvwtYotiU7x7\n\nSource: UP College of Nursing Facebook
URL:https://alum.up.edu.ph/event/teaching-nursing-informatics-batch-4/
END:VEVENT
BEGIN:VEVENT
DTSTART;TZID=UTC:20240216T080000
DTEND;TZID=UTC:20240228T170000
DTSTAMP:20260424T141833
CREATED:20240218T175746Z
LAST-MODIFIED:20240218T175809Z
UID:15025-1708070400-1709139600@alum.up.edu.ph
SUMMARY:UP Baguio National Arts Month Events
DESCRIPTION:Look: UP Baguio events for this Arts Month\n\nFeb 16 (Fri) 1:00pm-3:00pm @ Teatro Amianan\nT’boli Music and Oral Tradition with Manlilikha ng Bayan Rosie Sula\n\nFeb 16 (Fri) 3:00-4:30pm @ UPB Library\nBook Launch of Christine Bellen-Ang’s Ang Mahiwagang Bantay ng Bundok Arayat + Lektyur tungkol sa mga bundok sa panitikang pambata\n\nFeb 17 (Sat) 8:30am-3:00pm @ CSS AVR\nConversations on T’boli Intangible Cultural Heritage and Tourism\n\nFeb 23 (Fri) 1:30-3:30pm @ Teatro Amianan\nFilm Screening and talkback with the filmmakers of Memory Project: Fragments (AsiaVisions 1991) from the Concerned Artists of the Philippines\, Filikino\, and PUP Center for Heritage Studies\n\nFeb 26 (Mon) 10:00am-12:00nn @ Teatro Amianan\nTalks and open forum on “Art and A.I.” featuring artist Christina Lopez and novelist Joel Donato Ching Jacob\n\nFeb 28 (Wed) 4:00-8:00pm @ CAC Dap-ay\nDemja\, a bonfire evening featuring live performances from Tinig Amianan\, Literati\, and Set-up\n\nSource: University of the Philippines Baguio Facebook
URL:https://alum.up.edu.ph/event/up-baguio-national-arts-month-events/
END:VEVENT
BEGIN:VEVENT
DTSTART;TZID=UTC:20240219T080000
DTEND;TZID=UTC:20240301T170000
DTSTAMP:20260424T141833
CREATED:20240107T221425Z
LAST-MODIFIED:20240107T221425Z
UID:14220-1708329600-1709312400@alum.up.edu.ph
SUMMARY:90th Postgraduate Course in Occupational Health and Safety
DESCRIPTION:Interested in practicing Occupational Health and Safety (OHS)?\n\nJoin the 90th Postgraduate Course in Occupational Health and Safety on 19 to 23\, 26 to 29\, and 01 March 2024\, to be offered online via Zoom and Google Classroom.\n\nThis is open to physicians\, nurses\, dentists\, physical therapists\, sanitary engineers\, and other professionals interested in OHS. This course offering aims to contribute to the achievement of #SDG3 #SDG8.\n\nTo register\, kindly email us at upm.cph.deoh@up.edu.ph or visit our website for more information https://sites.google.com/up.edu.ph/deoh-pgcohs/home\n\nSee you there!\n\nSource: University of the Philippines Manila Facebook
URL:https://alum.up.edu.ph/event/90th-postgraduate-course-in-occupational-health-and-safety/
END:VEVENT
BEGIN:VEVENT
DTSTART;TZID=UTC:20240226T080000
DTEND;TZID=UTC:20240301T170000
DTSTAMP:20260424T141833
CREATED:20240222T161914Z
LAST-MODIFIED:20240222T161914Z
UID:15085-1708934400-1709312400@alum.up.edu.ph
SUMMARY:UP Manila National Arts Month Celebration
DESCRIPTION:In celebration of National Arts Month\, the Department of Arts and Communication\, in partnership with CCP Lakbay Sine\, UP Manila Salinlahi\, and Organizational Communication Society UP Manila\, presents Sine x Sining: DAC Culture Week 2024.\n\nCome and celebrate Philippine cinema with us through a series of lectures\, workshops\, film screenings\, and talkback sessions from February 26 to March 1 at the UPM Theater!\n\nSource: UP Manila – Department of Arts and Communication Facebook
URL:https://alum.up.edu.ph/event/up-manila-national-arts-month-celebration/
END:VEVENT
BEGIN:VEVENT
DTSTART;TZID=UTC:20240227T080000
DTEND;TZID=UTC:20240301T170000
DTSTAMP:20260424T141833
CREATED:20240222T160549Z
LAST-MODIFIED:20240222T160549Z
UID:15081-1709020800-1709312400@alum.up.edu.ph
SUMMARY:2024 UPD Study Abroad Fair
DESCRIPTION:Memorandum No. OILD-CPA-24-14\n\n2024 UPD Study Abroad Fair – LAYAG: Humayo at Matuto sa Ibang Ibayo is now officially released!\n\nWe encourage all academic units and administrative offices to disseminate this information to anyone who is interested. All constituents outside UP Diliman are also welcome to join!\n\nYou may find the list of participating exhibitors and institutions in the 2024 UP Diliman Study Abroad Fair.\n\nRegister by scanning the QR code or through this link: https://bit.ly/OILDLAYAG2024\n\nHalina’t humayo at matuto sa ibang ibayo!\n\nRead more about the event on the UP Diliman OIL Facebook page
URL:https://alum.up.edu.ph/event/2024-upd-study-abroad-fair/
END:VEVENT
BEGIN:VEVENT
DTSTART;TZID=UTC:20240227T090000
DTEND;TZID=UTC:20240227T110000
DTSTAMP:20260424T141833
CREATED:20240226T165417Z
LAST-MODIFIED:20240226T165417Z
UID:15117-1709024400-1709031600@alum.up.edu.ph
SUMMARY:Workshop/lecture on Documentary filmmaking
DESCRIPTION:Get to meet She Andes and Jason Tan Liwad in their discussion on documentary filmmaking and film criticism at the Sine x Sining: DAC Culture Week 2024 this February 27\, 2024 at the UPM Theater.\n\nRegister here:\n\nDocumentary filmmaking – https://bit.ly/3SJrme8\nFilm criticism – https://bit.ly/48lvXJq\n\nSource: University of the Philippines Manila Facebook
URL:https://alum.up.edu.ph/event/workshop-lecture-on-documentary-filmmaking/
END:VEVENT
BEGIN:VEVENT
DTSTART;TZID=UTC:20240227T130000
DTEND;TZID=UTC:20240227T150000
DTSTAMP:20260424T141833
CREATED:20240220T164541Z
LAST-MODIFIED:20240220T164541Z
UID:15042-1709038800-1709046000@alum.up.edu.ph
SUMMARY:Building and Gaining National Capability in Science\, Technology & Innovation
DESCRIPTION:The Political Economy Program\, UP Center for Integrative and Development Studies\, is organizing a two-part roundtable discussion (RTD) series\, “Moving Filipinnovation Forward\,” led by former Department of Science and Technology (DOST) Secretary Fortunato de la Peña on 22 February 2024 and 27 February 2024.\n\nEach RTD will be held from 1 pm to 3 pm at the Audio-Visual Room\, Juinio Hall\, National Engineering Center\, UP Diliman\, Quezon City. The RTDs are free and open to the public\, but seating is on a first-come\, first-served basis. Pre-registration is encouraged.\n\nSIGN UP: YES\, I WILL ATTEND\n\nBuilding and Gaining National Capability in Science\, Technology & Innovation\nDate and Time: 27 February 2024\, 1 pm to 3 pm (PH Time)\nVenue: Audio-Visual Room\, Juinio Hall\, National Engineering Center\, UP Diliman\, Quezon City (View Vicinity Map)\n\nAbout the RTDs\n\nThe RTDs will focus on how the country can improve the benefits to cost of investments in science\, technology\, and innovation (STI) for Filipinos and how we can further raise STI national capability in order to improve the country’s global standing. Besides former Secretary de la Peña\, the other distinguished speakers are among those leading the charge on innovation-led development.\n\nThe Organizers\n\nThe Political Economy Program (PEP) of UP CIDS seeks to contribute to building the momentum for development policies and programs that promote domestic production\, higher productivity\, and the just distribution of development resources. It however also recognizes that such initiatives often fall by the wayside due to factors such as lack of resources and public awareness\, policy gaps\, vested interests\, partisan politics\, and the dominance of the free market orthodoxy in policy circles.\n\nUP CIDS is the policy research unit of the University of the Philippines. It currently houses 16 Research Programs on various topics and policy areas\, from education to development. View database and download 900+ policy papers for free.
URL:https://alum.up.edu.ph/event/building-and-gaining-national-capability-in-science-technology-innovation/
END:VEVENT
BEGIN:VEVENT
DTSTART;TZID=UTC:20240227T140000
DTEND;TZID=UTC:20240227T153000
DTSTAMP:20260424T141833
CREATED:20240226T165509Z
LAST-MODIFIED:20240226T165509Z
UID:15120-1709042400-1709047800@alum.up.edu.ph
SUMMARY:Film Criticism Lecture
DESCRIPTION:Get to meet She Andes and Jason Tan Liwad in their discussion on documentary filmmaking and film criticism at the Sine x Sining: DAC Culture Week 2024 this February 27\, 2024 at the UPM Theater.\n\nRegister here:\n\nDocumentary filmmaking – https://bit.ly/3SJrme8\nFilm criticism – https://bit.ly/48lvXJq\n\nSource: University of the Philippines Manila Facebook
URL:https://alum.up.edu.ph/event/film-criticism-lecture/
END:VEVENT
BEGIN:VEVENT
DTSTART;TZID=UTC:20240227T140000
DTEND;TZID=UTC:20240227T160000
DTSTAMP:20260424T141833
CREATED:20240222T161645Z
LAST-MODIFIED:20240222T161645Z
UID:15084-1709042400-1709049600@alum.up.edu.ph
SUMMARY:"Catalysts of Compassion: Elevating Nursing Leadership in Interprofessional Care"
DESCRIPTION:Join us on February 27\, 2024\, from 2:00 pm to 4:00 pm at the UPCN Auditorium for a stimulating and inspiring lecture on “Catalysts of Compassion: Elevating Nursing Leadership in Interprofessional Care”. This lecture is open to the UP Manila Community.\n\nLearn from our distinguished speakers how compassion is essential for effective healthcare leadership\, how to communicate and collaborate with other healthcare professionals\, and how to apply leadership principles in addressing interprofessional challenges. Register now and be part of this transformative learning experience. You may register onsite or through this link https://forms.gle/x9wgsZT7hKf2Wn6z8\n\nDon’t miss this opportunity to enrich your knowledge and skills in this vital area of nursing practice.\n\nSource: UP College of Nursing Facebook
URL:https://alum.up.edu.ph/event/catalysts-of-compassion-elevating-nursing-leadership-in-interprofessional-care/
END:VEVENT
BEGIN:VEVENT
DTSTART;TZID=UTC:20240227T153000
DTEND;TZID=UTC:20240227T173000
DTSTAMP:20260424T141833
CREATED:20240214T165002Z
LAST-MODIFIED:20240214T165019Z
UID:14976-1709047800-1709055000@alum.up.edu.ph
SUMMARY:Conversation with Prof. Jean-Marc Thouvenin on the Practice of International Law
DESCRIPTION:The Institute of International Legal Studies\, together with the Philippine Judicial Academy\, the Department of Foreign Affairs\, and the Philippine Society of International Law\, invites you to a Conversation with Prof. Jean-Marc Thouvenin\, Secretary General of The Hague Academy of International Law on 27 February 2024 (Tuesday) at 3:30 PM at the Malcolm Theater\, University of the Philippines-College of Law.\n\nProf. Jean-Marc Thouvenin will share his insights on the Practice of International Law followed by a reaction by Judge Raul C. Pangalangan (ret.)\, judge of the International Criminal Court. The event will be moderated by Prof. Rommel J. Casis.\n\nDean Darlene Marie Berberabe and Philippine Ambassador to the Netherlands J. Eduardo Malaya will deliver introductory remarks.\n\nThis will be an onsite event and registration will start at 3:00 PM. Interested international law practitioners\, members of the academe\, and students my sign up via: https://bit.ly/ConversationwithProfThouvenin\n\nWe hope to see you there!\n\nSource: Institute of International Legal Studies Facebook
URL:https://alum.up.edu.ph/event/conversation-with-prof-jean-marc-thouvenin-on-the-practice-of-international-law/
END:VEVENT
END:VCALENDAR