BEGIN:VCALENDAR
VERSION:2.0
PRODID:-//UP Alumni Website - ECPv6.15.16//NONSGML v1.0//EN
CALSCALE:GREGORIAN
METHOD:PUBLISH
X-WR-CALNAME:UP Alumni Website
X-ORIGINAL-URL:https://alum.up.edu.ph
X-WR-CALDESC:Events for UP Alumni Website
REFRESH-INTERVAL;VALUE=DURATION:PT1H
X-Robots-Tag:noindex
X-PUBLISHED-TTL:PT1H
BEGIN:VTIMEZONE
TZID:UTC
BEGIN:STANDARD
TZOFFSETFROM:+0000
TZOFFSETTO:+0000
TZNAME:UTC
DTSTART:20230101T000000
END:STANDARD
END:VTIMEZONE
BEGIN:VEVENT
DTSTART;TZID=UTC:20240203T090000
DTEND;TZID=UTC:20240309T160000
DTSTAMP:20260423T002604
CREATED:20240118T154726Z
LAST-MODIFIED:20240118T154726Z
UID:14476-1706950800-1710000000@alum.up.edu.ph
SUMMARY:1st Food Safety for Business Competitiveness and Profitability Course
DESCRIPTION:We have less than one month left before the start of the Food Safety for Business Profitability Course.\n\nLet us help you in making and serving safe food to your customers. The course is open to all food manufacturers\, processors\, and restaurant owners!\n\nDuration: February 3 to March 9\, 2024 (6 Saturdays)\n\nParticipation fee: PhP 15\,000.00\n\nMode of Conduct: Face to Face\n\nRegistration is now open: bit.ly/UPISSI_TrainingRegistration2024\n\nSource: UP Institute for Small-Scale Industries Facebook
URL:https://alum.up.edu.ph/event/1st-food-safety-for-business-competitiveness-and-profitability-course/
END:VEVENT
BEGIN:VEVENT
DTSTART;TZID=UTC:20240210T080000
DTEND;TZID=UTC:20240323T120000
DTSTAMP:20260423T002604
CREATED:20240116T163359Z
LAST-MODIFIED:20240116T163519Z
UID:14404-1707552000-1711195200@alum.up.edu.ph
SUMMARY:UP College of Nursing "Teaching Nursing Informatics 4.0 "
DESCRIPTION:The UP College of Nursing is inviting BS Nursing faculty and nurses to join its Designing Flexible Learning in Nursing Program’s Teaching Nursing Informatics 4.0 online course. The course will be held on Saturday mornings from February 10-March 23.\n\nRegister here: https://forms.gle/qqasrkvwtYotiU7x7\n\nPadayon!\n\nFor inquiries\, email upcn-cecesp.upm@up.edu.ph\nSource: UP Padayon Public Service Office Facebook
URL:https://alum.up.edu.ph/event/up-college-of-nursing-teaching-nursing-informatics-4-0/
END:VEVENT
BEGIN:VEVENT
DTSTART;TZID=UTC:20240210T080000
DTEND;TZID=UTC:20240323T170000
DTSTAMP:20260423T002604
CREATED:20240107T220912Z
LAST-MODIFIED:20240107T220912Z
UID:14213-1707552000-1711213200@alum.up.edu.ph
SUMMARY:TEACHING NURSING INFORMATICS BATCH 4
DESCRIPTION:Inviting BS Nursing faculty and interested nurses to join the Designing Flexible Learning in Nursing Program’s Teaching Nursing Informatics 4.0. This 8-week\, module-based\, online course aims to equip current and potential nursing faculty on updated content and pedagogy to confidently teach Nursing Informatics in the undergraduate programs.\n\nSaturday Mornings\, February 10 – March 23\, 2023\nFee: Php 5\,000.00\n\nRegistration details on the poster or use this link: https://forms.gle/qqasrkvwtYotiU7x7\n\nSource: UP College of Nursing Facebook
URL:https://alum.up.edu.ph/event/teaching-nursing-informatics-batch-4/
END:VEVENT
BEGIN:VEVENT
DTSTART;VALUE=DATE:20240301
DTEND;VALUE=DATE:20240330
DTSTAMP:20260423T002604
CREATED:20240304T153217Z
LAST-MODIFIED:20240304T153217Z
UID:15324-1709251200-1711756799@alum.up.edu.ph
SUMMARY:UP CAMP Physical Therapy Refresher Course
DESCRIPTION:The enrollment period for the UP CAMP Physical Therapy Refresher Course is now open!\n\nScan the QR code for more information.\n\nFor any inquiries\, please send an email to upmcamprefreshercourse@gmail.com.\n\nSource: UP College of Allied Medical Professions Facebook
URL:https://alum.up.edu.ph/event/up-camp-physical-therapy-refresher-course/
END:VEVENT
BEGIN:VEVENT
DTSTART;TZID=UTC:20240301T080000
DTEND;TZID=UTC:20240308T170000
DTSTAMP:20260423T002604
CREATED:20240304T162612Z
LAST-MODIFIED:20240304T162612Z
UID:15344-1709280000-1709917200@alum.up.edu.ph
SUMMARY:UPLB's 115th Foundation Day
DESCRIPTION:
URL:https://alum.up.edu.ph/event/uplbs-115th-foundation-day/
END:VEVENT
BEGIN:VEVENT
DTSTART;TZID=UTC:20240301T080000
DTEND;TZID=UTC:20240329T170000
DTSTAMP:20260423T002604
CREATED:20240311T163040Z
LAST-MODIFIED:20240313T212636Z
UID:15497-1709280000-1711731600@alum.up.edu.ph
SUMMARY:UPCWGS Women's Month Celebration
DESCRIPTION:Join us in celebrating Women’s Month with the UP Center for Women’s and Gender Studies’ exciting lineup of activities! On March 8th\, we kick off with “Inay Ko Po!”\, an event exclusively for KDCC Morning Students at Kalinga Day Care Center. Throughout the month\, we offer various events including orientations on gender-based violence\, an art therapy sessions for Senior Citizen community leaders\, a basketball clinic facilitated by the UP Women’s Basketball Team\, and events such as “Bunsen Burner: Empowering Kisay Women in STEM” and “Basic Pottery” by Odang Putik.\n\nDon’t miss out on film screenings\, lectures\, and our Women’s Bazaar. All events will be at the UPCWGS Conference Room except Inay Ko Po will be at the Kalinga Day Care Center\, the basketball clinic will be at the UP Community Court at the University Hotel\, Bunsen Burner will be at the Quezon City Science High School Gymnasium\, Women’s Bazaar will be at the UPCWGS Front Yard. See you there!\n\nRegistration link for Lecture on Women Visual Artists in the 19th Century Philippines\nhttps://tinyurl.com/LectureWomenArts\n\nRegistration link for Kapihan ng mga Peminista: Film Viewing of “Bagahe”\nhttps://tinyurl.com/KapihanPeminista2024\n\nFor more information\, contact our training department via email training.upcwgs@up.edu.ph\n\nSource: UP Center for Women’s and Gender Studies Facebook
URL:https://alum.up.edu.ph/event/upcwgs-womens-month-celebration/
END:VEVENT
BEGIN:VEVENT
DTSTART;TZID=UTC:20240301T080000
DTEND;TZID=UTC:20240331T170000
DTSTAMP:20260423T002604
CREATED:20240229T162934Z
LAST-MODIFIED:20240229T163028Z
UID:15220-1709280000-1711904400@alum.up.edu.ph
SUMMARY:UP Manila National Women's Month 2024
DESCRIPTION:As we officially welcome the 2024 NATIONAL WOMEN’S MONTH\, we would like to inform everyone of the CALENDAR OF ACTIVITIES prepared by the various units and colleges.\n\nThe 2024 National Women’s Month Celebration aims to capitalize on the recurring theme “WE for gender equality and inclusive society\,” introduced in 2023.\n\nWE represents Women and Everyone\, highlighting the collective responsibility for gender equality\, not solely resting on women but involving everyone.\n\nWE also symbolizes Women’s Empowerment\, a goal achievable when various entities\, ranging from agencies and institutions to private partners and duty-bearers at national and local levels\, ensure women equal rights and opportunities.\n\nThrough the collaborative efforts of women and everyone\, achieving gender equality becomes a tangible possibility.\nMake your support visible!\n\nWear ANYTHING PURPLE on all the FRIDAYS (March 1\, 8\, 15\, & 22) of March to signify support for women’s empowerment and gender equality. Participants can also light up or decorate offices or landmarks in purple to spark interest and discourse on the celebration and what it stands for.\n\nWe begin this new era of the National Women’s Month Celebration with the hope and ambition that WE are all for Gender Equality\, WE are all for an inclusive society.\n\nSource: University of the Philippines Manila Facebook
URL:https://alum.up.edu.ph/event/up-manila-national-womens-month-2024/
END:VEVENT
BEGIN:VEVENT
DTSTART;TZID=UTC:20240301T080000
DTEND;TZID=UTC:20240331T170000
DTSTAMP:20260423T002604
CREATED:20240304T155807Z
LAST-MODIFIED:20240304T155807Z
UID:15337-1709280000-1711904400@alum.up.edu.ph
SUMMARY:UPOU Women's Month Activities
DESCRIPTION:The Office of Gender Concerns (OGC) would like to extend a warm greeting to everyone as we celebrate Women’s Month! 💜\nIn line with this\, UP Open University (UPOU) will conduct several public service\, advocacy\, and research activities coordinated by OGC and in collaboration with the Faculty of Studies and other units in the university. The following are the tentative activities slated for this celebration.\n\nTune in for more announcements and additional activities for Women’s Month 2024 to be posted here in our Official Facebook Page.\nAs we celebrate Women’s Month\, let us not only celebrate the achievements of women but also commit ourselves to creating a more inclusive and equitable society for all genders.\n\nHappy Women’s Month! 💐\n\nSource: UPOU Office of Gender Concerns Facebook
URL:https://alum.up.edu.ph/event/upou-womens-month-activities/
END:VEVENT
BEGIN:VEVENT
DTSTART;TZID=UTC:20240304T170000
DTEND;TZID=UTC:20240306T190000
DTSTAMP:20260423T002604
CREATED:20240303T173109Z
LAST-MODIFIED:20240303T173109Z
UID:15281-1709571600-1709751600@alum.up.edu.ph
SUMMARY:Ang Duyan ng Magiting
DESCRIPTION:Catch the award-winning Cinemalaya 2023 film “Ang Duyan ng Magiting” directed by Dustin Celestino as it returns to UPFI Film Center this March!\nUPFI Film Center\nMarch 2024\nAng Duyan ng Magiting\nMar 4 Mon 5 p.m.\nMar 5 Tue 5 p.m.\nMar 6 Wed 5 p.m.\n\n~~~\nGeneral admission: PhP 150\n🎬 Tickets are available at the cinema entrance 1 hour before screen time.\n🎬 Eating and drinking are not allowed.\n~~~\n\nAng Duyan ng Magiting\nDirected by: Dustin Celestino\nStarring: Miggy Jimenez\, Dolly De Leon\, Agot Isidro\, Bituin Escalante\, Frances Ignacio\, Jojit Lorenzo\, Dylan Ray Talon\, Joel Saracho and Paolo O’ Hara\nSynopsis: Jose\, a student\, leaves his mother a letter to inform her that he’s leaving home to learn why people decide to join the underground movement. His decision reaches Michael\, the chancellor of the university where he studies. Michael invites Jose’s professor\, Victor\, to his home to ask him if he had anything to do with Jose’s decision. They get into a heated argument and Victor’s principles and courage are put in question. After a few days\, news reaches Victor that Jose is missing; rumored to have been executed by the renegade Police Chief\, Gabriel Ventura. Victor sees this as an opportunity for him to prove his principles about nationalism and patriotism. He plots to murder Gabriel as a means to provide justice for Jose.\n\nSource: UPFI Film Center Facebook
URL:https://alum.up.edu.ph/event/ang-duyan-ng-magiting/
END:VEVENT
BEGIN:VEVENT
DTSTART;TZID=UTC:20240306T080000
DTEND;TZID=UTC:20240317T190000
DTSTAMP:20260423T002604
CREATED:20240131T171908Z
LAST-MODIFIED:20240131T171931Z
UID:14761-1709712000-1710702000@alum.up.edu.ph
SUMMARY:51st Los Banos Flower and Garden Show!
DESCRIPTION:It’s getting a little cold here in Los Baños\, but don’t fret\, and mark your calendars as the Los Baños Horticulture Society\, Inc. (LBHSI)\, in collaboration with UP Open University (UPOU)\, brings the heat with the upcoming 51st Los Banos Flower and Garden Show!\n\nWith the theme Summer Festivals\, the much-anticipated biannual show is scheduled from 6 to 17 March 2024 at the Centennial Plaza\, UPOU Headquarters\, Los Baños\, Laguna.\n\nThe event is open to the public\, especially for plant lovers and landscape experts. More updates will also be posted about events and competitions scheduled during the show.\n\nSave the date!\n\nSource: UP Open University (UPOU) Facebook
URL:https://alum.up.edu.ph/event/51st-los-banos-flower-and-garden-show/
END:VEVENT
BEGIN:VEVENT
DTSTART;TZID=UTC:20240306T080000
DTEND;TZID=UTC:20240320T170000
DTSTAMP:20260423T002604
CREATED:20240304T172458Z
LAST-MODIFIED:20240304T172458Z
UID:15375-1709712000-1710954000@alum.up.edu.ph
SUMMARY:UP Tacloban National Women’s Month Celebration
DESCRIPTION:UP Tacloban College joins the 2024 National Women’s Month Celebration with its Women Wednesdays+ program with the theme “Patas nga Katilingban ha Bag-o nga Pilipinas: Kapas han Kababayin-an\, Pamamatud-an!” (the Waray translation of the theme of the national celebration “Lipunang Patas sa Bagong Pilipinas: Kakayanan ng Kababaihan\, Patutunayan!”).\n\nOn 6-7 March 2024\, a training-workshop for UP Tacloban male faculty\, REPS\, and staff will be held for the certification of the Men Opposed to VAW Everywhere (MOVE) UP Tacloban Chapter.\n\nOn 8 March\, International Women’s Day\, the Division of Humanities will host “Pasalingaday 2: Women in Documentary.” The term ‘pasalingaday’ is derived from ‘pasalida’ (meaning film or show) and ‘hingaday’ (meaning talk).\n\nOn 13 March\, out-of-school girls from selected barangays around Tacloban City will be trained in arnis and taekwondo in “PAK! Pukrat\, Ato\, Kabataan 2! A Gender Sensitivity and Self-Defense Training for Out-of-School Youth.”\n\nOn 20 March\, “Katungod han Kababayin-an: A Forum on Women’s Use of Maiden Name and Updates on the Amendment to Omnibus Rules on Leave” will be held for female faculty\, REPS\, and staff.\n\nNational Women’s Month is an annual celebration to honor women’s contributions to society and address ongoing and emerging issues related to women’s struggles for their rights and gender equality. The nationwide celebration is spearheaded by the Philippine Commission on Women under the banner “WE (Women’s Empowerment) for Gender Equality and an Inclusive Society.”\n\nSource: University of the Philippines Tacloban Facebook
URL:https://alum.up.edu.ph/event/up-tacloban-national-womens-month-celebration/
END:VEVENT
BEGIN:VEVENT
DTSTART;TZID=UTC:20240306T120000
DTEND;TZID=UTC:20240306T170000
DTSTAMP:20260423T002604
CREATED:20240228T224935Z
LAST-MODIFIED:20240228T224935Z
UID:15178-1709726400-1709744400@alum.up.edu.ph
SUMMARY:On Healthy Aging\, Pandemics\, and Environmental Health
DESCRIPTION:📢 Join us for an enlightening academic colloquium!\n\n🔍 EXPLORING UPDATES & POTENTIAL RESEARCH COLLABORATIONS 🔬\n\n🎓 Hosted by the University of the Philippines Manila College of Medicine and Duke Kunshan University 🌏\n\n🗓️ Date: March 6\, 2024\n🕛 Time: 12:00 NN to 5:00 PM\n📍 Venue: UNILAB Multipurpose Hall\, 6th Floor Henry Sy Sr Building\n\n🌐 Don’t miss the opportunity to delve into discussions on Healthy Aging\, Pandemics\, and Environmental Health. This international colloquium is open to faculty\, fellows\, residents\, students\, and researchers!\n\n📌 Scan the QR code or click the link to register:\nhttps://docs.google.com/…/153klQxuUrxTHSvQr…/viewform…\n\nLet’s come together for knowledge sharing and potential collaborations!\n\nSource: University of the Philippines Manila Facebook
URL:https://alum.up.edu.ph/event/on-healthy-aging-pandemics-and-environmental-health/
END:VEVENT
BEGIN:VEVENT
DTSTART;TZID=UTC:20240306T150000
DTEND;TZID=UTC:20240306T170000
DTSTAMP:20260423T002604
CREATED:20240303T173335Z
LAST-MODIFIED:20240303T173335Z
UID:15284-1709737200-1709744400@alum.up.edu.ph
SUMMARY:IB Seminar: Domestication and the Evolution of Crop Species
DESCRIPTION:The Institute of Biology invites you to attend the seminar of Dr. Michael D. Purugganan on March 6 at 3 PM in Room 117. If you are unable to attend in person\, we encourage you to register in advance using the link below to join the event remotely.\n\nhttps://up-edu.zoom.us/…/tJUtcOuvpjMjHNDuiDzXdLpbFNDlbv…\nSource: UP Institute of Biology Facebook
URL:https://alum.up.edu.ph/event/ib-seminar-domestication-and-the-evolution-of-crop-species/
END:VEVENT
BEGIN:VEVENT
DTSTART;TZID=UTC:20240306T150000
DTEND;TZID=UTC:20240306T170000
DTSTAMP:20260423T002604
CREATED:20240305T152937Z
LAST-MODIFIED:20240305T152937Z
UID:15397-1709737200-1709744400@alum.up.edu.ph
SUMMARY:"Aero-Street Dance\,"
DESCRIPTION:Step into the rhythm of possibility. Sway\, twirl\, and create memories together on the dance floor!\n\nYou are invited to “Aero-Street Dance\,” this month’s Wellness Wednesdays event organized by the UP Manila College of Arts and Sciences\, Philippine General Hospital\, UP Manila Healthy University Office\, and Center for Gender and Women Studies.\n\nCome and groove with us on 06 March 2024\, 3:00-5:00PM\, at the Multi Sports Court\, SSWC Building.\n\nOpen to all UP Manila students\, faculty\, alumni\, staff\, and members of the UP-PGH community.\n\nPre-register using this link: http://bit.ly/aero-streetdance or scan the QR code in the poster.\n\nSee you then!\n\nSource: UP Manila Healthy University Office Facebook
URL:https://alum.up.edu.ph/event/aero-street-dance/
END:VEVENT
BEGIN:VEVENT
DTSTART;TZID=UTC:20240306T155500
DTEND;TZID=UTC:20240306T170000
DTSTAMP:20260423T002604
CREATED:20240304T155533Z
LAST-MODIFIED:20240304T155533Z
UID:15334-1709740500-1709744400@alum.up.edu.ph
SUMMARY:UPOU Women's Month Opening Program
DESCRIPTION:The University of the Philippines Open University (UPOU) continuously highlights the celebration of both National Women’s Month and International Women’s Day this March 2024.\n\nThis year’s theme\, UPOU Working for Progress\, Equality\, and Inclusivity through Enhanced Community Engagement within Open and Distance e-learning\, highlights the importance of investing in women’s empowerment\, gender equality\, and inclusivity. It also hopes to expedite and sustain progress in different aspects of society. This theme also underscores UPOU’s commitment to empowering women through education and technology.\n\nJoin us as we kick off the Women’s Month Celebration on March 6\, 2024! An opening program will be held at the UPOU CCDL Auditorium (4:00 TO 5:30 PM) with Dr. Joane V. Serrano\, Dean of the Faculty of Management and Development Studies\, as resource speaker.\n\nVisit the Facebook Event page for more info.
URL:https://alum.up.edu.ph/event/upou-womens-month-opening-program/
END:VEVENT
BEGIN:VEVENT
DTSTART;TZID=UTC:20240306T160000
DTEND;TZID=UTC:20240306T173000
DTSTAMP:20260423T002604
CREATED:20240229T170852Z
LAST-MODIFIED:20240229T170852Z
UID:15256-1709740800-1709746200@alum.up.edu.ph
SUMMARY:UPOU National Women’s Month and International Women’s Day Celebration
DESCRIPTION:The University of the Philippines-Open University continuously celebrates both National Women’s Month and International Women’s Day. The country proclaimed the whole month of March as the National Women’s Month (Proclamation No. 224 s. 1988) while March 8 has been proclaimed as the National Women’s Day (Proclamation No. 224 s. 1988)\, both through former President Corazon Aquino in March 1988.\n\nUPOU through its Gender Focal Point System (GFPS) and the Office of Gender Concerns (OGC) has always been at the forefront of not only gender mainstreaming but also of innovative solutions to achieve progress\, equality\, and inclusivity within and outside of the university.\n\nThis year’s theme: UPOU working for Progress\, Equality\, and Inclusivity through Enhanced Community Engagement within Open and Distance e-learning; highlights the importance of investing in women’s empowerment\, gender equality\, and inclusivity that will hope to expedite and sustain progress in different aspects of society.\n\nIn line with this\, an opening program will be conducted to kick off this year’s Women’s Month 2024 on March 6\, 2024\, from 4:00 to 5:30 pm at CCDL and via Zoom\, YouTube\, Facebook\, and UPOU networks. Our resource speaker is Dr. Joane V. Serrano\, the Dean of the Faculty of Management and Development Studies (FMDS). Everyone is welcome to attend this program. There’s a lot to look out for–forum\, launching of activities\, souvenirs\, and free food!\n\nFor those non-UPOU employees who want to join via zoom\, please scan the qr code on the image below or please click this link to register: https://forms.gle/3YEhibX7FW7rkbMy9\n\nAs the women’s month approaches\, let us take this opportunity to inspire change\, promote inclusivity\, and empower all individuals to strive for a more just and equitable society. 💜\n\nOther activities will be posted here on our official Facebook page and website.\n\nSource: UPOU Office of Gender Concerns
URL:https://alum.up.edu.ph/event/upou-national-womens-month-and-international-womens-day-celebration/
END:VEVENT
END:VCALENDAR