BEGIN:VCALENDAR
VERSION:2.0
PRODID:-//UP Alumni Website - ECPv6.15.16//NONSGML v1.0//EN
CALSCALE:GREGORIAN
METHOD:PUBLISH
X-WR-CALNAME:UP Alumni Website
X-ORIGINAL-URL:https://alum.up.edu.ph
X-WR-CALDESC:Events for UP Alumni Website
REFRESH-INTERVAL;VALUE=DURATION:PT1H
X-Robots-Tag:noindex
X-PUBLISHED-TTL:PT1H
BEGIN:VTIMEZONE
TZID:UTC
BEGIN:STANDARD
TZOFFSETFROM:+0000
TZOFFSETTO:+0000
TZNAME:UTC
DTSTART:20230101T000000
END:STANDARD
END:VTIMEZONE
BEGIN:VEVENT
DTSTART;TZID=UTC:20240316T080000
DTEND;TZID=UTC:20240608T170000
DTSTAMP:20260423T195206
CREATED:20240229T160636Z
LAST-MODIFIED:20240229T160636Z
UID:15205-1710576000-1717866000@alum.up.edu.ph
SUMMARY:20th Certificate Course in Industrial Relations and Human Resource Management
DESCRIPTION:Click this link to pre-register: https://bit.ly/regIRHR20\nUnlock Your Potential in Industrial Relations and HR Management!\n\nEmbark on a transformative journey with the 20th Certificate Course in Industrial Relations (IR) and Human Resource Management (HR)\, presented by the UP Diliman School of Labor and Industrial Relations (SOLAIR) in collaboration with the Center for Industry Productivity and Competitiveness (CIPC). 🚀\n\n📅 Course Duration: March 16 – June 08\, 2024\n⏰ Schedule: 12 Saturdays\, 9:00 am – 4:00 pm\n📍 Venue: Onsite sessions at UP SOLAIR\, UP Diliman\n\nWhy Enroll in This Course?\n🎯 Tailored for Professionals: Specifically designed for IR practitioners\, HR officers/executives\, and academicians eager to enhance their skills in the dynamic realm of Industrial Relations and Human Resource Management (IRHR).\n📚 Cutting-Edge Curriculum: Delve into core competencies and emerging topics shaped by the fourth industrial revolution\, ensuring you stay ahead in this ever-evolving field.\n💼 Expert-Led Sessions: Learn from distinguished lecturers and professors from UP SOLAIR\, as well as industry experts in labor and industrial relations\, guaranteeing a rich and diverse learning experience.\n🏆 Interactive Learning: Engage in face-to-face stimulating discussions\, practical case studies\, and collaborative activities to deepen your understanding of IRHR practices\, culminating in a capstone project.\n\nInvestment Fee: P36\,000 per participant (limited slots available)\nInclusions: Meals (Lunch\, AM and PM snacks)\, comprehensive lecture handouts\, and a prestigious Certificate of Completion.\n\nFor inquiries\, contact: cipc.upd@up.edu.ph or visit https://solair.upd.edu.ph/\nDon’t miss this opportunity to invest in your professional growth. Join us at the forefront of IR and HR practices\, and let’s shape the future together!\nSource: UP School of Labor and Industrial Relations Facebook
URL:https://alum.up.edu.ph/event/20th-certificate-course-in-industrial-relations-and-human-resource-management/
END:VEVENT
BEGIN:VEVENT
DTSTART;TZID=UTC:20240408T090000
DTEND;TZID=UTC:20240408T120000
DTSTAMP:20260423T195206
CREATED:20240404T234209Z
LAST-MODIFIED:20240404T234209Z
UID:15957-1712566800-1712577600@alum.up.edu.ph
SUMMARY:“The Future of a Filipino Icon\, the Jeepney\, and the Role of Manufacturing”
DESCRIPTION:The Political Economy Program (PEP)\, UP Center for Integrative and Development Studies\, is organizing a roundtable discussion (RTD)\, “The Future of a Filipino Icon\, the Jeepney\, and the Role of Manufacturing” on 8 April 2024\, 9:00 am – 12 noon via Zoom. Slots are available on a first-come\, first-served basis\, but participants are encouraged to register.\n\nSIGN UP: YES\, I WILL ATTEND!\n\nThe Roundtable\n\nHeadlining the RTD are Francisco Motors and Sarao Motors\, Inc.\, who will present their proposals for jeepney modernization.\n\nSeeking to promote an inclusive and Filipino innovation-driven Public Utility Vehicle Modernization Program (PUVMP)\, the roundtable aims to:\n\nShine a light on the jeepney manufacturers’ proposals and plans in response to the PUV Modernization Program\n\nExplore the possibility of tapping more affordable clean and green technologies for the jeepney in the transition to a low or zero carbon emission future;\n\nPromote collaboration among manufacturers\, government\, university research and development community\, jeepney drivers and other stakeholders on the issue of jeepney modernization; and\n\nDevelop a set of recommendations for government agencies and financial institutions.\n\nPresenters\n\nMr. Teodoro C. Mendoza\nScience Director\, Community Legal Help and Policy Center\n\nMr. Elmer Francisco\nOwner and CEO\, Francisco Motors\n\nAr. Leonard John Sarao\nOperations Supervisor\, Sarao Motors\, Inc.\n\nOther experts from the UP Diliman research and development community have been invited as speakers/reactors.\n\nBackground\n\nA legacy of the post-war era\, the first jeepneys were made by reconfiguring military vehicles left behind by the departing American troops into open-aired public utility vehicles. Leading this effort of providing an affordable and accessible mode of transportation for working-class commuters were domestic manufacturers\, notably\, Francisco Motors and Sarao Motors. Since then small makers have joined the industry\, making the jeepney a ubiquitous presence in the country’s not only in the urban landscape\, but also in the rural areas where public transportation is scarce.\n\nToday\, this heritage vehicle that has become a Filipino icon may soon be a thing of the past. The Philippine government’s Public Utility Vehicle Modernization Program (PUVMP)\, launched in 2017 aimed at making public transport system “safer and more efficient\, convenient\, and reliable”\, has sought to phase out the traditional jeepneys\, replacing them with imported bigger\, airconditioned electric vehicles – each estimated to cost between P1.3 million to P3 million. Noteworthy\, while the PUVMP’s aims are laudable\, it is short on options that would allow Filipino manufacturers to modernize the jeepneys partly by tapping homegrown innovations and thus provide a path for jeepney drivers to own their own vehicles\, without losing their autonomy.\n\nOrganizer\n\nThe PEP was established in 2019 to undertake problem-solving\, evidence-based research aimed at promoting sustainable\, equitable\, and innovation-driven development policies\, programs\, and practices. It adopts an interdisciplinary approach that combines policy and technology innovation as well as multi-stakeholders’ participation and collaboration. Learn more about PEP and download their publications for free.
URL:https://alum.up.edu.ph/event/the-future-of-a-filipino-icon-the-jeepney-and-the-role-of-manufacturing/
END:VEVENT
BEGIN:VEVENT
DTSTART;TZID=UTC:20240408T133000
DTEND;TZID=UTC:20240408T153000
DTSTAMP:20260423T195206
CREATED:20240403T174945Z
LAST-MODIFIED:20240403T175033Z
UID:15900-1712583000-1712590200@alum.up.edu.ph
SUMMARY:"Transforming Poor Economies: Effective Development Strategies for Agriculture and Industry"
DESCRIPTION:The UPLB Department of Economics\, College of Economics and Management\, University of the Philippines Los Baños proudly presents “Transforming Poor Economies: Effective Development Strategies for Agriculture and Industry\,”a face-to-face seminar featuring our distinguished speaker\, Professor Keijiro Otsuka from Kobe Universityand a Visiting Professor at the UPLB Department of Economics.\n\nThe event will take place on April 8\, 2024 (Monday)\, at 1:30 PM\, REDREC Auditorium\, CEM\, University of the Philippines Los Baños.\n\nThis seminar is free and open to the public. To register\, please fill out the form via this link: http://bit.ly/TransformingPoorEconomies2024.\n\nJoin us for an informative and engaging afternoon of discussion! Sign up now!\n\nSource: UPLB Department of Economics Facebook
URL:https://alum.up.edu.ph/event/transforming-poor-economies-effective-development-strategies-for-agriculture-and-industry/
END:VEVENT
END:VCALENDAR