BEGIN:VCALENDAR
VERSION:2.0
PRODID:-//UP Alumni Website - ECPv6.15.16//NONSGML v1.0//EN
CALSCALE:GREGORIAN
METHOD:PUBLISH
X-WR-CALNAME:UP Alumni Website
X-ORIGINAL-URL:https://alum.up.edu.ph
X-WR-CALDESC:Events for UP Alumni Website
REFRESH-INTERVAL;VALUE=DURATION:PT1H
X-Robots-Tag:noindex
X-PUBLISHED-TTL:PT1H
BEGIN:VTIMEZONE
TZID:UTC
BEGIN:STANDARD
TZOFFSETFROM:+0000
TZOFFSETTO:+0000
TZNAME:UTC
DTSTART:20230101T000000
END:STANDARD
END:VTIMEZONE
BEGIN:VEVENT
DTSTART;TZID=UTC:20240316T080000
DTEND;TZID=UTC:20240608T170000
DTSTAMP:20260424T044353
CREATED:20240229T160636Z
LAST-MODIFIED:20240229T160636Z
UID:15205-1710576000-1717866000@alum.up.edu.ph
SUMMARY:20th Certificate Course in Industrial Relations and Human Resource Management
DESCRIPTION:Click this link to pre-register: https://bit.ly/regIRHR20\nUnlock Your Potential in Industrial Relations and HR Management!\n\nEmbark on a transformative journey with the 20th Certificate Course in Industrial Relations (IR) and Human Resource Management (HR)\, presented by the UP Diliman School of Labor and Industrial Relations (SOLAIR) in collaboration with the Center for Industry Productivity and Competitiveness (CIPC). 🚀\n\n📅 Course Duration: March 16 – June 08\, 2024\n⏰ Schedule: 12 Saturdays\, 9:00 am – 4:00 pm\n📍 Venue: Onsite sessions at UP SOLAIR\, UP Diliman\n\nWhy Enroll in This Course?\n🎯 Tailored for Professionals: Specifically designed for IR practitioners\, HR officers/executives\, and academicians eager to enhance their skills in the dynamic realm of Industrial Relations and Human Resource Management (IRHR).\n📚 Cutting-Edge Curriculum: Delve into core competencies and emerging topics shaped by the fourth industrial revolution\, ensuring you stay ahead in this ever-evolving field.\n💼 Expert-Led Sessions: Learn from distinguished lecturers and professors from UP SOLAIR\, as well as industry experts in labor and industrial relations\, guaranteeing a rich and diverse learning experience.\n🏆 Interactive Learning: Engage in face-to-face stimulating discussions\, practical case studies\, and collaborative activities to deepen your understanding of IRHR practices\, culminating in a capstone project.\n\nInvestment Fee: P36\,000 per participant (limited slots available)\nInclusions: Meals (Lunch\, AM and PM snacks)\, comprehensive lecture handouts\, and a prestigious Certificate of Completion.\n\nFor inquiries\, contact: cipc.upd@up.edu.ph or visit https://solair.upd.edu.ph/\nDon’t miss this opportunity to invest in your professional growth. Join us at the forefront of IR and HR practices\, and let’s shape the future together!\nSource: UP School of Labor and Industrial Relations Facebook
URL:https://alum.up.edu.ph/event/20th-certificate-course-in-industrial-relations-and-human-resource-management/
END:VEVENT
BEGIN:VEVENT
DTSTART;TZID=UTC:20240411T080000
DTEND;TZID=UTC:20240411T120000
DTSTAMP:20260424T044353
CREATED:20240404T165622Z
LAST-MODIFIED:20240404T165622Z
UID:15916-1712822400-1712836800@alum.up.edu.ph
SUMMARY:Nursing Research Forum 2024
DESCRIPTION:Nursing Research Forum 2024\n\nThe University of the Philippines College of Nursing (UPCN) and the Philippine General Hospital Nursing Services cordially invite you to the Nursing Research Forum\, an event dedicated to advancing healthcare through innovation.\n\n📅 Date: April 11\, 2024\n⏰ Time: 8:00 AM\n📍 Venue: UPCN Auditorium\n\nTheme: “Innovations in Practice and Policy Towards Better Health Outcomes”\n\nRegistration is free and is limited to 150 participants. You may register at https://bit.ly/UPCN_RF24\n\nFor inquiries\, email us at upm-cn-research-list@up.edu.ph or reach us by phone at 8532 1494.\n\nThank you and see you at the forum. 🌿👩‍⚕️👨‍⚕️\n\nSource: UP College of Nursing Facebook
URL:https://alum.up.edu.ph/event/nursing-research-forum-2024/
END:VEVENT
BEGIN:VEVENT
DTSTART;TZID=UTC:20240411T093000
DTEND;TZID=UTC:20240411T120000
DTSTAMP:20260424T044353
CREATED:20240404T182417Z
LAST-MODIFIED:20240404T182417Z
UID:15947-1712827800-1712836800@alum.up.edu.ph
SUMMARY:Patricia Evangelista’s Book Talk for Some People Need Killing: A Memoir of Murder in My Country
DESCRIPTION:Catch Patricia Evangelista’s book talk featuring her recently published book “Some People Need Killing: A Memoir of Murder in My Country” (Random House\, 2023) on April 11\, Thursday\, 9:30 a.m.–12:00 p.m.\, at the Aldaba Recital Hall\, UP Diliman (UPD).\n\nEvangelista\, an alumna of the UPD Department of Speech Communication and Theatre Arts\, a prizewinning author\, and journalist\, will talk about her process of writing and publishing the book. She will be in conversation with fellow journalist Atom Araullo.\n\nRegister at https://form.jotform.com/240853789249472.\n\nSource: UP Department of Speech Communication and Theatre Arts Facebook
URL:https://alum.up.edu.ph/event/patricia-evangelistas-book-talk-for-some-people-need-killing-a-memoir-of-murder-in-my-country/
END:VEVENT
BEGIN:VEVENT
DTSTART;TZID=UTC:20240411T100000
DTEND;TZID=UTC:20240411T153000
DTSTAMP:20260424T044353
CREATED:20240404T182707Z
LAST-MODIFIED:20240404T182707Z
UID:15950-1712829600-1712849400@alum.up.edu.ph
SUMMARY:"Weave Your Way" workshop
DESCRIPTION:Calling all UP Cebu Students and Crafting Enthusiasts! 🌈 Join us for a special “Weave Your Way” workshop at Fablab UP Cebu!\n\n🗓️ Thursday\, April 11\nDive into the vibrant world of traditional Filipino weaving. Whether you’re a seasoned weaver or a curious newbie\, this workshop is perfect for everyone!\n\n💡 Workshop Details:\n\nTime: 10:00 AM – 12:00 NN | 1:30 PM – 3:30 PM\nFees: UP Students – PHP 699 | Non-UP Students – PHP 999\nInclusions: Inclusions: Use of loom + yarns\nHow to register: https://forms.gle/jCCGSUKbwM2K6ybW6 (LINK IN BIO)\n\nUnlock your creative potential and take home more than just a woven piece – take home a piece of culture! 💖\n\nLimited slots are available so weave fast and reserve your loom now! 🌟\n\nSource: Hibla PH Facebook
URL:https://alum.up.edu.ph/event/weave-your-way-workshop/
END:VEVENT
BEGIN:VEVENT
DTSTART;TZID=UTC:20240411T114500
DTEND;TZID=UTC:20240411T130000
DTSTAMP:20260424T044353
CREATED:20240401T155654Z
LAST-MODIFIED:20240401T155654Z
UID:15832-1712835900-1712840400@alum.up.edu.ph
SUMMARY:Operationalization of the College of Home Economics Research Ethics Committee
DESCRIPTION:We are honored to present to you our resource person for this April Ethics Seminar\, Professor Emeritus Maria Patricia Verzo Azanza\, PhD of the UP Diliman College of Home Economics. 🏡\n\nAs the current Chair of the College of Home Economics Research Ethics Committee (CHE REC)\, she will share her knowledge and experiences on the “Operationalization of the College of Home Economics Research Ethics Committee”\n\nCome join us this 11 April 2024\, from 11:45 AM to 1:00 PM\, at the NSRI Conference Room\, or stream via Zoom or Facebook Live.\n\nRegister now and let us know your inquiries in advance via 👇🏻\nhttps://forms.gle/yFvevjuNU4f48jhw8\n\nSee you there!\n\nSource: UP Diliman Research Ethics Board Facebook
URL:https://alum.up.edu.ph/event/operationalization-of-the-college-of-home-economics-research-ethics-committee/
END:VEVENT
BEGIN:VEVENT
DTSTART;TZID=UTC:20240411T130000
DTEND;TZID=UTC:20240412T173000
DTSTAMP:20260424T044353
CREATED:20240410T173949Z
LAST-MODIFIED:20240410T173949Z
UID:15981-1712840400-1712943000@alum.up.edu.ph
SUMMARY:Inclusive EDukSine: Indie Films with Filipino Sign Language
DESCRIPTION:𝗜𝗻𝗰𝗹𝘂𝘀𝗶𝘃𝗲 𝗘𝗱𝘂𝗸𝗦𝗶𝗻𝗲: 𝗜𝗻𝗱𝗶𝗲 𝗙𝗶𝗹𝗺𝘀 𝘄𝗶𝘁𝗵 𝗙𝗶𝗹𝗶𝗽𝗶𝗻𝗼 𝗦𝗶𝗴𝗻 𝗟𝗮𝗻𝗴𝘂𝗮𝗴𝗲 at UPFI Film Center 🎥✨\n\nExperience the magic of cinema like never before with 𝗙𝗶𝗹𝗶𝗽𝗶𝗻𝗼 𝗦𝗶𝗴𝗻 𝗟𝗮𝗻𝗴𝘂𝗮𝗴𝗲 (FSL) interpreters\, making these indie films accessible to all\, especially the deaf community. 🤟🌟\n\nUPFI Film Center\nApril 2024\nInclusive EdukSine: Indie Films with Filipino Sign Language\n\n𝗔𝗽𝗿𝗶𝗹 𝟭𝟮 𝗙𝗿𝗶\n1 pm Ang Guro Kong Di Marunong Magbasa\n3 pm Tanabata’s Wife\n5:30 pm The Adventures of Kween Jhonabelle\n\n𝗔𝗽𝗿𝗶𝗹 𝟭𝟯 𝗦𝗮𝘁\n1 pm Tanabata’s Wife\n3 pm Ang Guro Kong Di Marunong Magbasa\n5:30 pm The Adventures of Kween Jhonabelle\n\n𝗔𝗽𝗿𝗶𝗹 𝟭𝟵 𝗙𝗿𝗶\n1 pm Tanabata’s Wife\n3 pm The Adventures of Kween Jhonabelle\n5:30 pm Ang Guro Kong Di Marunong Magbasa\n\n𝗔𝗽𝗿𝗶𝗹 𝟮𝟬 𝗦𝗮𝘁\n1 pm Ang Guro Kong Di Marunong Magbasa\n3 pm The Adventures of Kween Jhonabelle\n5:30 pm Tanabata’s Wife\n~~~~\n\nGeneral admission: PhP 150\n🎬 Tickets are available at the cinema entrance 1 hour before screen time on a first-come-first-served basis.\n🎬 Eating and drinking are not allowed.\n\nSource: UPFI Film Center Facebook
URL:https://alum.up.edu.ph/event/inclusive-eduksine-indie-films-with-filipino-sign-language/
END:VEVENT
BEGIN:VEVENT
DTSTART;TZID=UTC:20240411T160000
DTEND;TZID=UTC:20240411T180000
DTSTAMP:20260424T044353
CREATED:20240410T164535Z
LAST-MODIFIED:20240410T164535Z
UID:15978-1712851200-1712858400@alum.up.edu.ph
SUMMARY:Off Frame AKA Revolution Until Victory
DESCRIPTION:Encore for Off Frame this April at UPFI Film Center\n\nWith no end in sight to the raging war between Israel and Hamas-led Palestinian militants\, UP Film Institute brings back the documentary feature by Mohanad Yaqubi for another exhibition following its previous showcase last October when the armed conflict started.\n\nOff Frame aka Revolution until Victory screens anew for premier state university audiences on April 11\, Thursday\, at 4 p.m.\n\nStraight from the archives of Paris\, Rome\, London\, Amman and Beirut\, films from the great period of Palestinian revolution were interspersed to assemble another visual narrative with a panoramic\, perceptive and instructive view of the modern history of the subjugated nation.\n\n~~~~\nUPFI Film Center\nApril 2024\nOff Frame (AKA Revolution Until Victory)\nProgrammed by Patrick F. Campos\n\nApr 11 Thurs 4 p.m.\n\n🎬 The screening is open to the public for free on a first-come\, first-served basis.\n🎬 Registration starts 1 hour before screen time at the cinema entrance.\n🎬 Eating and drinking are not allowed\n\nSource: UPFI Film Center Facebook
URL:https://alum.up.edu.ph/event/off-frame-aka-revolution-until-victory/
END:VEVENT
BEGIN:VEVENT
DTSTART;TZID=UTC:20240411T173000
DTEND;TZID=UTC:20240411T183000
DTSTAMP:20260424T044353
CREATED:20240407T155445Z
LAST-MODIFIED:20240407T155445Z
UID:15960-1712856600-1712860200@alum.up.edu.ph
SUMMARY:Be a Gurong Pahinungód Program
DESCRIPTION:MAGTURO. MAGLINGKOD. MAGING GURONG PAHINUNGÓD!\n\nOpen to UP alumni and graduating students (this second semester) of any course from any UP constituent unit!\n\nTeaching experience is NOT required — as long as you have the heart for service\, you can be a Gurong Pahinungód (GP)!\n\nThe GP program is a program of the UP Ugnayan ng Pahinungód\, the volunteer service arm of the University of the Philippines. We deploy UP graduates to underserved and marginalized communities as volunteer teachers. Learn more about the program at bit.ly/aboutgurongpahinungod\n\nRegister at bit.ly/becomeaUPGP to receive the Zoom link for the orientation. Check the photo for the orientation schedule\n\nSource: UP System Ugnayan ng Pahinungód Facebook
URL:https://alum.up.edu.ph/event/be-a-gurong-pahinungod-program/
END:VEVENT
END:VCALENDAR