BEGIN:VCALENDAR
VERSION:2.0
PRODID:-//UP Alumni Website - ECPv6.15.16//NONSGML v1.0//EN
CALSCALE:GREGORIAN
METHOD:PUBLISH
X-WR-CALNAME:UP Alumni Website
X-ORIGINAL-URL:https://alum.up.edu.ph
X-WR-CALDESC:Events for UP Alumni Website
REFRESH-INTERVAL;VALUE=DURATION:PT1H
X-Robots-Tag:noindex
X-PUBLISHED-TTL:PT1H
BEGIN:VTIMEZONE
TZID:UTC
BEGIN:STANDARD
TZOFFSETFROM:+0000
TZOFFSETTO:+0000
TZNAME:UTC
DTSTART:20230101T000000
END:STANDARD
END:VTIMEZONE
BEGIN:VEVENT
DTSTART;TZID=UTC:20240316T080000
DTEND;TZID=UTC:20240608T170000
DTSTAMP:20260423T183958
CREATED:20240229T160636Z
LAST-MODIFIED:20240229T160636Z
UID:15205-1710576000-1717866000@alum.up.edu.ph
SUMMARY:20th Certificate Course in Industrial Relations and Human Resource Management
DESCRIPTION:Click this link to pre-register: https://bit.ly/regIRHR20\nUnlock Your Potential in Industrial Relations and HR Management!\n\nEmbark on a transformative journey with the 20th Certificate Course in Industrial Relations (IR) and Human Resource Management (HR)\, presented by the UP Diliman School of Labor and Industrial Relations (SOLAIR) in collaboration with the Center for Industry Productivity and Competitiveness (CIPC). 🚀\n\n📅 Course Duration: March 16 – June 08\, 2024\n⏰ Schedule: 12 Saturdays\, 9:00 am – 4:00 pm\n📍 Venue: Onsite sessions at UP SOLAIR\, UP Diliman\n\nWhy Enroll in This Course?\n🎯 Tailored for Professionals: Specifically designed for IR practitioners\, HR officers/executives\, and academicians eager to enhance their skills in the dynamic realm of Industrial Relations and Human Resource Management (IRHR).\n📚 Cutting-Edge Curriculum: Delve into core competencies and emerging topics shaped by the fourth industrial revolution\, ensuring you stay ahead in this ever-evolving field.\n💼 Expert-Led Sessions: Learn from distinguished lecturers and professors from UP SOLAIR\, as well as industry experts in labor and industrial relations\, guaranteeing a rich and diverse learning experience.\n🏆 Interactive Learning: Engage in face-to-face stimulating discussions\, practical case studies\, and collaborative activities to deepen your understanding of IRHR practices\, culminating in a capstone project.\n\nInvestment Fee: P36\,000 per participant (limited slots available)\nInclusions: Meals (Lunch\, AM and PM snacks)\, comprehensive lecture handouts\, and a prestigious Certificate of Completion.\n\nFor inquiries\, contact: cipc.upd@up.edu.ph or visit https://solair.upd.edu.ph/\nDon’t miss this opportunity to invest in your professional growth. Join us at the forefront of IR and HR practices\, and let’s shape the future together!\nSource: UP School of Labor and Industrial Relations Facebook
URL:https://alum.up.edu.ph/event/20th-certificate-course-in-industrial-relations-and-human-resource-management/
END:VEVENT
BEGIN:VEVENT
DTSTART;TZID=UTC:20240417T080000
DTEND;TZID=UTC:20240605T170000
DTSTAMP:20260423T183958
CREATED:20240319T155815Z
LAST-MODIFIED:20240319T155907Z
UID:15683-1713340800-1717606800@alum.up.edu.ph
SUMMARY:"Vision and Occupation: Tools and Techniques for Visual Rehabilitation" Occupational Therapy Training Course
DESCRIPTION:Calling all VisMin OTs!\n\nUP Occupational Therapy\, in partnership with @Eye Can Occupational Therapy\, presents “Vision and Occupation: Tools and Techniques for Visual Rehabilitation” exclusively for you!\n\nExplore evaluation and treatment methods for visual impairments\, with hands-on patient interactions.\n\nEarn CPD units with PRC accreditation. Stay tuned on UP Occupational Therapy Facebook Page for updates. See you there!\n\nREGISTER NOW: https://bit.ly/VisualRehab2024\n\nSource: University of the Philippines Manila Facebook
URL:https://alum.up.edu.ph/event/vision-and-occupation-tools-and-techniques-for-visual-rehabilitation-2/
END:VEVENT
BEGIN:VEVENT
DTSTART;TZID=UTC:20240419T130000
DTEND;TZID=UTC:20240420T173000
DTSTAMP:20260423T183958
CREATED:20240410T174015Z
LAST-MODIFIED:20240410T174015Z
UID:15984-1713531600-1713634200@alum.up.edu.ph
SUMMARY:Inclusive EDukSine: Indie Films with Filipino Sign Language
DESCRIPTION:𝗜𝗻𝗰𝗹𝘂𝘀𝗶𝘃𝗲 𝗘𝗱𝘂𝗸𝗦𝗶𝗻𝗲: 𝗜𝗻𝗱𝗶𝗲 𝗙𝗶𝗹𝗺𝘀 𝘄𝗶𝘁𝗵 𝗙𝗶𝗹𝗶𝗽𝗶𝗻𝗼 𝗦𝗶𝗴𝗻 𝗟𝗮𝗻𝗴𝘂𝗮𝗴𝗲 at UPFI Film Center 🎥✨\n\nExperience the magic of cinema like never before with 𝗙𝗶𝗹𝗶𝗽𝗶𝗻𝗼 𝗦𝗶𝗴𝗻 𝗟𝗮𝗻𝗴𝘂𝗮𝗴𝗲 (FSL) interpreters\, making these indie films accessible to all\, especially the deaf community. 🤟🌟\n\nUPFI Film Center\nApril 2024\nInclusive EdukSine: Indie Films with Filipino Sign Language\n\n𝗔𝗽𝗿𝗶𝗹 𝟭𝟮 𝗙𝗿𝗶\n1 pm Ang Guro Kong Di Marunong Magbasa\n3 pm Tanabata’s Wife\n5:30 pm The Adventures of Kween Jhonabelle\n\n𝗔𝗽𝗿𝗶𝗹 𝟭𝟯 𝗦𝗮𝘁\n1 pm Tanabata’s Wife\n3 pm Ang Guro Kong Di Marunong Magbasa\n5:30 pm The Adventures of Kween Jhonabelle\n\n𝗔𝗽𝗿𝗶𝗹 𝟭𝟵 𝗙𝗿𝗶\n1 pm Tanabata’s Wife\n3 pm The Adventures of Kween Jhonabelle\n5:30 pm Ang Guro Kong Di Marunong Magbasa\n\n𝗔𝗽𝗿𝗶𝗹 𝟮𝟬 𝗦𝗮𝘁\n1 pm Ang Guro Kong Di Marunong Magbasa\n3 pm The Adventures of Kween Jhonabelle\n5:30 pm Tanabata’s Wife\n~~~~\n\nGeneral admission: PhP 150\n🎬 Tickets are available at the cinema entrance 1 hour before screen time on a first-come-first-served basis.\n🎬 Eating and drinking are not allowed.\n\nSource: UPFI Film Center Facebook
URL:https://alum.up.edu.ph/event/inclusive-eduksine-indie-films-with-filipino-sign-language-2/
END:VEVENT
BEGIN:VEVENT
DTSTART;TZID=UTC:20240420T080000
DTEND;TZID=UTC:20240420T170000
DTSTAMP:20260423T183958
CREATED:20240401T165255Z
LAST-MODIFIED:20240401T165427Z
UID:15852-1713600000-1713632400@alum.up.edu.ph
SUMMARY:UP NEC Engineering Management Course
DESCRIPTION:Level up your Engineering Career with UP NEC Engineering Management Course! \n\nTraining Dates: April 20 – May 4\, 2024 (3 Saturdays)\, 8:00AM-5:00PM\n\nTarget Participants: Junior-middle level engineers and managers\, technical professionals\, project managers\, team leaders\, and supervisors.\n\nCourse Description: Our comprehensive course equips aspiring and current engineering leaders with the fundamental knowledge and skills needed to excel in managing engineering projects and organizations. From strategic planning to ethical decision-making\, we cover essential areas to ensure your success in the dynamic field of engineering management.\n\nWhat you’ll gain:\n• Develop effective leadership skills for leading and motivating engineering teams.\n• Understand the role of strategic planning in driving organizational success.\n• Gain essential financial management skills for making sound financial decisions.\n• Apply marketing principles to promote and commercialize engineering products and services.\n• And much more!\n\nCourse Investment: Php 15\,000.00 per participant\n\nPre-register Now: https://bit.ly/EngMgt2024\nLearn More: https://bit.ly/UPNEC2024\nContact Us: (02) 8981.85.00 local 3004 | 0966.219.64.58 (Globe)\n\nSource: UP NEC Training Facebook
URL:https://alum.up.edu.ph/event/up-nec-engineering-management-course/
END:VEVENT
BEGIN:VEVENT
DTSTART;TZID=UTC:20240420T080000
DTEND;TZID=UTC:20240420T183000
DTSTAMP:20260423T183958
CREATED:20240401T154224Z
LAST-MODIFIED:20240401T154224Z
UID:15815-1713600000-1713637800@alum.up.edu.ph
SUMMARY:Artificial Intelligence and the Law
DESCRIPTION:The University of the Philippines Law Center\, through the Institute for the Administration of Justice\, is pleased to announce that they will be conducting a Face to Face MCLE Seminar April Program\, for the period of 6\, 13\, 20 April and 4 May 2024.\n\nInterested participants may register thru uplaw.ph/aiandthelaw.\n\nRegistration is until 3 April 2024 on a First Come First Serve basis.\n\nClick this link for more details https://law.upd.edu.ph/mcle/.\n\nSource: University of the Philippines College of Law Facebook
URL:https://alum.up.edu.ph/event/artificial-intelligence-and-the-law-3/
END:VEVENT
BEGIN:VEVENT
DTSTART;TZID=UTC:20240420T100000
DTEND;TZID=UTC:20240420T150000
DTSTAMP:20260423T183958
CREATED:20240401T154921Z
LAST-MODIFIED:20240401T154921Z
UID:15824-1713607200-1713625200@alum.up.edu.ph
SUMMARY:R for Beginners
DESCRIPTION:• Introduction to R and RStudio • Data Types and Objects • Descriptive Statistics with R • Basic Statistical Tests with R • Data Management with R (tidyverse) • Data Visualization with R (ggplot2) • Regression Analysis with R.\n\nApril 13\, 20\, 27 and May 4\, & 11\, 2024 (face-to-face) | Saturdays (10am – 3pm) | Elizabeth Yu Gokongwei Lecture Room\, UPSE Encarnacion Hall.\n\nTrainer: Prof. Adrian Matthew Glova\n\nAssistant Professor\, University of the Philippines School of Statistics\n\nThis is an onsite training; Participants are expected to attend all sessions. Priority will be given to new econometrics students (e.g.\, Econ 131 & Econ 132) and new graduate students. Limited slots only. Other students and non-UPSE students may be accommodated depending on the available slots.\n\nRegister here: bit.ly/rforbeginners2024\nR for Beginners-2024 Registration\n\n** Closing date for R Training registration is on April 8\, 2024. **\n\nFor more information\, please email: upsetraining.upd@up.edu.ph\n\nSource: UP School of Economics Facebook
URL:https://alum.up.edu.ph/event/r-for-beginners-2/
END:VEVENT
BEGIN:VEVENT
DTSTART;TZID=UTC:20240420T190000
DTEND;TZID=UTC:20240420T213000
DTSTAMP:20260423T183958
CREATED:20240319T210307Z
LAST-MODIFIED:20240319T210307Z
UID:15697-1713639600-1713648600@alum.up.edu.ph
SUMMARY:The Philippine Madrigal Singers in Edmonton 2024
DESCRIPTION:TICKETS ARE NOW AVAILABLE!\n\nExperience the harmonies of the Philippine Madrigal Singers as they grace Edmonton with their unparalleled artistry on April 20\, 2024 Saturday at the West Meadows Baptist Church.\n\nJoin us for an evening of spellbinding performances from a choir whose legacy spans over fifty years\, captivating hearts worldwide and championing the transformative power of choral music.\n\nVisit https://www.showpass.com/madzinyeg2024/ to buy tickets\n\nFor more information or for sponsorship opportunities\, send us a message or email upaa.edmonton@gmail.com.\n\nSEATING WILL BE BY SECTION\n\nStudent discounts are available – please email madzinYEG2024@gmail.com to verify / request a code (1 ticket per transaction). We will respond to your request within 24 hours.\n\nShare far and wide to your family\, friends\, and loved ones!
URL:https://alum.up.edu.ph/event/the-philippine-madrigal-singers-in-edmonton-2024/
END:VEVENT
END:VCALENDAR