BEGIN:VCALENDAR
VERSION:2.0
PRODID:-//UP Alumni Website - ECPv6.15.16//NONSGML v1.0//EN
CALSCALE:GREGORIAN
METHOD:PUBLISH
X-WR-CALNAME:UP Alumni Website
X-ORIGINAL-URL:https://alum.up.edu.ph
X-WR-CALDESC:Events for UP Alumni Website
REFRESH-INTERVAL;VALUE=DURATION:PT1H
X-Robots-Tag:noindex
X-PUBLISHED-TTL:PT1H
BEGIN:VTIMEZONE
TZID:UTC
BEGIN:STANDARD
TZOFFSETFROM:+0000
TZOFFSETTO:+0000
TZNAME:UTC
DTSTART:20230101T000000
END:STANDARD
END:VTIMEZONE
BEGIN:VEVENT
DTSTART;TZID=UTC:20240316T080000
DTEND;TZID=UTC:20240608T170000
DTSTAMP:20260421T032213
CREATED:20240229T160636Z
LAST-MODIFIED:20240229T160636Z
UID:15205-1710576000-1717866000@alum.up.edu.ph
SUMMARY:20th Certificate Course in Industrial Relations and Human Resource Management
DESCRIPTION:Click this link to pre-register: https://bit.ly/regIRHR20\nUnlock Your Potential in Industrial Relations and HR Management!\n\nEmbark on a transformative journey with the 20th Certificate Course in Industrial Relations (IR) and Human Resource Management (HR)\, presented by the UP Diliman School of Labor and Industrial Relations (SOLAIR) in collaboration with the Center for Industry Productivity and Competitiveness (CIPC). 🚀\n\n📅 Course Duration: March 16 – June 08\, 2024\n⏰ Schedule: 12 Saturdays\, 9:00 am – 4:00 pm\n📍 Venue: Onsite sessions at UP SOLAIR\, UP Diliman\n\nWhy Enroll in This Course?\n🎯 Tailored for Professionals: Specifically designed for IR practitioners\, HR officers/executives\, and academicians eager to enhance their skills in the dynamic realm of Industrial Relations and Human Resource Management (IRHR).\n📚 Cutting-Edge Curriculum: Delve into core competencies and emerging topics shaped by the fourth industrial revolution\, ensuring you stay ahead in this ever-evolving field.\n💼 Expert-Led Sessions: Learn from distinguished lecturers and professors from UP SOLAIR\, as well as industry experts in labor and industrial relations\, guaranteeing a rich and diverse learning experience.\n🏆 Interactive Learning: Engage in face-to-face stimulating discussions\, practical case studies\, and collaborative activities to deepen your understanding of IRHR practices\, culminating in a capstone project.\n\nInvestment Fee: P36\,000 per participant (limited slots available)\nInclusions: Meals (Lunch\, AM and PM snacks)\, comprehensive lecture handouts\, and a prestigious Certificate of Completion.\n\nFor inquiries\, contact: cipc.upd@up.edu.ph or visit https://solair.upd.edu.ph/\nDon’t miss this opportunity to invest in your professional growth. Join us at the forefront of IR and HR practices\, and let’s shape the future together!\nSource: UP School of Labor and Industrial Relations Facebook
URL:https://alum.up.edu.ph/event/20th-certificate-course-in-industrial-relations-and-human-resource-management/
END:VEVENT
BEGIN:VEVENT
DTSTART;TZID=UTC:20240417T080000
DTEND;TZID=UTC:20240605T170000
DTSTAMP:20260421T032213
CREATED:20240319T155815Z
LAST-MODIFIED:20240319T155907Z
UID:15683-1713340800-1717606800@alum.up.edu.ph
SUMMARY:"Vision and Occupation: Tools and Techniques for Visual Rehabilitation" Occupational Therapy Training Course
DESCRIPTION:Calling all VisMin OTs!\n\nUP Occupational Therapy\, in partnership with @Eye Can Occupational Therapy\, presents “Vision and Occupation: Tools and Techniques for Visual Rehabilitation” exclusively for you!\n\nExplore evaluation and treatment methods for visual impairments\, with hands-on patient interactions.\n\nEarn CPD units with PRC accreditation. Stay tuned on UP Occupational Therapy Facebook Page for updates. See you there!\n\nREGISTER NOW: https://bit.ly/VisualRehab2024\n\nSource: University of the Philippines Manila Facebook
URL:https://alum.up.edu.ph/event/vision-and-occupation-tools-and-techniques-for-visual-rehabilitation-2/
END:VEVENT
BEGIN:VEVENT
DTSTART;TZID=UTC:20240422T080000
DTEND;TZID=UTC:20240506T170000
DTSTAMP:20260421T032213
CREATED:20240416T172033Z
LAST-MODIFIED:20240416T172033Z
UID:16052-1713772800-1715014800@alum.up.edu.ph
SUMMARY:Free Basic IACUC Online Training
DESCRIPTION:Free Basic IACUC Online Training (April 22 to May 6\, 2024)\n\nThe UP Manila’s Institutional Animal Care and Use Committee has organized a Free Basic IACUC Training. This is an asynchronous and self-paced online course that will be open from April 22 to May 6\, 2024. This is available for the UP Community only. The UP Manila faculty\, students\, and staff who plan or are practicing biomedical research are encouraged to join. This is required for all personnel on an IACUC protocol.\n\nThis basic online course covers topics on animal welfare\, legal bases\, the institutional animal care and use committee\, and the fundamentals of animal use in research. A certificate of completion will be awarded to the participants who complete the online module and pass 70% of the assessment within the given timeframe.\n\nRegister through bit.ly/freeacut24 or scan the QR code found in the poster. Registration will close on April 22\, 2024.\n\nFor more information and other concerns\, kindly contact the IACUC Secretariat at iacuc.upmanila@up.edu.ph. The office hours are Monday to Friday\, from 8:00 a.m. to 5:00 p.m.\, or you can visit and follow their Facebook page at https://www.facebook.com/iacucupmnl for future activities and services.\n\nSource: University of the Philippines Manila Facebook
URL:https://alum.up.edu.ph/event/free-basic-iacuc-online-training/
END:VEVENT
BEGIN:VEVENT
DTSTART;TZID=UTC:20240426T090000
DTEND;TZID=UTC:20240520T160000
DTSTAMP:20260421T032213
CREATED:20240501T213745Z
LAST-MODIFIED:20240501T213745Z
UID:16198-1714122000-1716220800@alum.up.edu.ph
SUMMARY:Abante Babae: An Art Exhibit
DESCRIPTION:Women’s month may have long ended\, but who said celebrating women can be confined to just one month?\n\nUP Baguio Program for Indigenous Cultures in partnership with the College of Arts and Communications launched the Abante Babae art exhibit at the Darnay Demetillo Art Space on April 26\, 2024. This exhibit is open to the public until May 20\, 2024.\n\nAbante Babae features UP Baguio Fine Arts students’ works. PIC also included an introductory poem by Luchie Maranan to encompass the exhibit’s message and purpose.\n\nParticipating Artists:\nStephen Lucero\nJulina Santos\nMin Jin Lee\nMarco Simon Patiño\nLouissa Gamuac\nLiam Danganan\nMargie Rose Sagadraca\nNikole Lakyanga\nYna Marlyn Bulda\nAngela Jolene Bautista\nChristine Castro\nJulian Gabriel Trinidad\nDaryll Malto\nJem Delos Reyes\nZinia Nataño\nDenise Julliana Tumang\nAngela Jolene Bautista\n\nSource: University of the Philippines Baguio Facebook
URL:https://alum.up.edu.ph/event/abante-babae-an-art-exhibit/
END:VEVENT
BEGIN:VEVENT
DTSTART;TZID=UTC:20240429T090000
DTEND;TZID=UTC:20240518T160000
DTSTAMP:20260421T032213
CREATED:20240513T161713Z
LAST-MODIFIED:20240513T161713Z
UID:16328-1714381200-1716048000@alum.up.edu.ph
SUMMARY:Poiesis: Music\, Type in Motion\, Art\, and Poetry
DESCRIPTION:The gallery is open from Tuesdays to Saturdays\, 9 a.m.–4 p.m. Walk-in guests are welcome.\n\nFor inquiries\, email cfagallery.upd@up.edu.ph.
URL:https://alum.up.edu.ph/event/poiesis-music-type-in-motion-art-and-poetry/
END:VEVENT
BEGIN:VEVENT
DTSTART;TZID=UTC:20240502T090000
DTEND;TZID=UTC:20240523T160000
DTSTAMP:20260421T032213
CREATED:20240501T161300Z
LAST-MODIFIED:20240501T161300Z
UID:16136-1714640400-1716480000@alum.up.edu.ph
SUMMARY:April Exhibitions at Parola: UP Fine Arts Gallery
DESCRIPTION:APRIL EXHIBITIONS AT PAROLA ✴️\n​\nIndio-Genius! Tatlong Alamat ng Tagumpay\nKidlat Tahimik\nAtrium\nApril 23 – May 23\n​\nIf/Then: Art\, Logic\, and Electronics\nGallery Two\nApril 12 – May 8\n​\nPagpapatuloy: Alay kay Bai Bibyaon\nTribute to Bai Bibyaon Ligkayan Bigkay\nMultipurpose Hall\nApril 25 – 27\n​\nSee it in Black-and-White\nBiboy Royong\nAtrium Lobby\nIn Commemoration of Earth Day 2024\n​\nBisita Planeta𝑩𝒊𝒔𝒊𝒕𝒂 𝑷𝒍𝒂𝒏𝒆𝒕𝒂\nTad Ermitano\nAtrium Lobby\nOn view until September 21\, 2024\n​\nStay tuned for more updates!\n​\n🗓️ Walk-in visitors are welcome from Tuesdays to Saturdays\, 9 AM – 4 PM.\n✉️ For group/class visits and inquiries\, email us at cfagallery.upd@up.edu.ph.\n​\nSee you!\n\nSosurce: UP Fine Arts Gallery Facebook
URL:https://alum.up.edu.ph/event/april-exhibitions-at-parola-up-fine-arts-gallery/
END:VEVENT
BEGIN:VEVENT
DTSTART;TZID=UTC:20240504T050000
DTEND;TZID=UTC:20240504T100000
DTSTAMP:20260421T032213
CREATED:20240502T183953Z
LAST-MODIFIED:20240502T183953Z
UID:16226-1714798800-1714816800@alum.up.edu.ph
SUMMARY:UPLB SATURDAY BAZAAR 2024 Batch 4
DESCRIPTION:UPLB SATURDAY BAZAAR 2024 Batch 4\nMay 4\, 11\, 18 and 25\nUPLB Freedom Park\, along Mariano M. Mondoñedo Ave.\n\nSource: UPLB Business Affairs Office Facebook
URL:https://alum.up.edu.ph/event/uplb-saturday-bazaar-2024-batch-4/
END:VEVENT
BEGIN:VEVENT
DTSTART;TZID=UTC:20240504T080000
DTEND;TZID=UTC:20240504T170000
DTSTAMP:20260421T032213
CREATED:20240401T165532Z
LAST-MODIFIED:20240401T165532Z
UID:15858-1714809600-1714842000@alum.up.edu.ph
SUMMARY:UP NEC Engineering Management Course
DESCRIPTION:Level up your Engineering Career with UP NEC Engineering Management Course! \n\nTraining Dates: April 20 – May 4\, 2024 (3 Saturdays)\, 8:00AM-5:00PM\n\nTarget Participants: Junior-middle level engineers and managers\, technical professionals\, project managers\, team leaders\, and supervisors.\n\nCourse Description: Our comprehensive course equips aspiring and current engineering leaders with the fundamental knowledge and skills needed to excel in managing engineering projects and organizations. From strategic planning to ethical decision-making\, we cover essential areas to ensure your success in the dynamic field of engineering management.\n\nWhat you’ll gain:\n• Develop effective leadership skills for leading and motivating engineering teams.\n• Understand the role of strategic planning in driving organizational success.\n• Gain essential financial management skills for making sound financial decisions.\n• Apply marketing principles to promote and commercialize engineering products and services.\n• And much more!\n\nCourse Investment: Php 15\,000.00 per participant\n\nPre-register Now: https://bit.ly/EngMgt2024\nLearn More: https://bit.ly/UPNEC2024\nContact Us: (02) 8981.85.00 local 3004 | 0966.219.64.58 (Globe)\n\nSource: UP NEC Training Facebook
URL:https://alum.up.edu.ph/event/up-nec-engineering-management-course-3/
END:VEVENT
BEGIN:VEVENT
DTSTART;TZID=UTC:20240504T080000
DTEND;TZID=UTC:20240504T183000
DTSTAMP:20260421T032213
CREATED:20240401T154247Z
LAST-MODIFIED:20240401T154247Z
UID:15817-1714809600-1714847400@alum.up.edu.ph
SUMMARY:Artificial Intelligence and the Law
DESCRIPTION:The University of the Philippines Law Center\, through the Institute for the Administration of Justice\, is pleased to announce that they will be conducting a Face to Face MCLE Seminar April Program\, for the period of 6\, 13\, 20 April and 4 May 2024.\n\nInterested participants may register thru uplaw.ph/aiandthelaw.\n\nRegistration is until 3 April 2024 on a First Come First Serve basis.\n\nClick this link for more details https://law.upd.edu.ph/mcle/.\n\nSource: University of the Philippines College of Law Facebook
URL:https://alum.up.edu.ph/event/artificial-intelligence-and-the-law-4/
END:VEVENT
BEGIN:VEVENT
DTSTART;TZID=UTC:20240504T083000
DTEND;TZID=UTC:20240504T100000
DTSTAMP:20260421T032213
CREATED:20240421T183437Z
LAST-MODIFIED:20240421T183613Z
UID:16100-1714811400-1714816800@alum.up.edu.ph
SUMMARY:"Untangle your Emotions for a Better Mental Health"
DESCRIPTION:The UP College of Education Alumni Association (UPCEAA) and UP College of Education invite you to the following hybrid seminars on May 4\, 2024 (Saturday):\n– “Untangle your Dysregulated Emotions for a Better Mental Health” (8:30 – 10:00 AM); and\n– “Work-Life Balance and Mental Health” (2:30 PM – 4:00 PM).\n\nYou may register through this link: https://forms.gle/dYegCesVdcQVXBfw5 \n\nSee posters below for more details. See you there!\n\nSource: UP College of Education Facebook
URL:https://alum.up.edu.ph/event/untangle-your-emotions-for-a-better-mental-health/
END:VEVENT
BEGIN:VEVENT
DTSTART;TZID=UTC:20240504T090000
DTEND;TZID=UTC:20240504T150000
DTSTAMP:20260421T032213
CREATED:20240501T175427Z
LAST-MODIFIED:20240501T175427Z
UID:16185-1714813200-1714834800@alum.up.edu.ph
SUMMARY:Synapse II: Frontiers in Single-Cell Genomics
DESCRIPTION:Calling all medical\, graduate and undergraduate students\, physicians\, scientists\, and anyone interested in the future of genomics! 🌱\n\nAs we continue celebrating our 11th founding anniversary this week\, UP PSA cordially invites you to “Synapse II: Frontiers in Single-Cell Genomics\,” a free symposium.\n\n🗓️ Date: May 4\, 2024\n🕓 Time: 9AM-3PM\n📍 Location: UPCM Calderon Hall Class 63 Lecture Room\n\n🎟️ Registration is now OPEN!\nhttps://bit.ly/SynapseII\n\nSource: University of the Philippines Manila Facebook
URL:https://alum.up.edu.ph/event/synapse-ii-frontiers-in-single-cell-genomics/
END:VEVENT
BEGIN:VEVENT
DTSTART;TZID=UTC:20240504T100000
DTEND;TZID=UTC:20240504T150000
DTSTAMP:20260421T032213
CREATED:20240401T155018Z
LAST-MODIFIED:20240401T155018Z
UID:15828-1714816800-1714834800@alum.up.edu.ph
SUMMARY:R for Beginners
DESCRIPTION:• Introduction to R and RStudio • Data Types and Objects • Descriptive Statistics with R • Basic Statistical Tests with R • Data Management with R (tidyverse) • Data Visualization with R (ggplot2) • Regression Analysis with R.\n\nApril 13\, 20\, 27 and May 4\, & 11\, 2024 (face-to-face) | Saturdays (10am – 3pm) | Elizabeth Yu Gokongwei Lecture Room\, UPSE Encarnacion Hall.\n\nTrainer: Prof. Adrian Matthew Glova\n\nAssistant Professor\, University of the Philippines School of Statistics\n\nThis is an onsite training; Participants are expected to attend all sessions. Priority will be given to new econometrics students (e.g.\, Econ 131 & Econ 132) and new graduate students. Limited slots only. Other students and non-UPSE students may be accommodated depending on the available slots.\n\nRegister here: bit.ly/rforbeginners2024\nR for Beginners-2024 Registration\n\n** Closing date for R Training registration is on April 8\, 2024. **\n\nFor more information\, please email: upsetraining.upd@up.edu.ph\n\nSource: UP School of Economics Facebook
URL:https://alum.up.edu.ph/event/r-for-beginners-4/
END:VEVENT
BEGIN:VEVENT
DTSTART;TZID=UTC:20240504T143000
DTEND;TZID=UTC:20240504T160000
DTSTAMP:20260421T032213
CREATED:20240421T183533Z
LAST-MODIFIED:20240421T183533Z
UID:16105-1714833000-1714838400@alum.up.edu.ph
SUMMARY:"Work-Life Balance and Mental Health"
DESCRIPTION:The UP College of Education Alumni Association (UPCEAA) and UP College of Education invite you to the following hybrid seminars on May 4\, 2024 (Saturday):\n– “Untangle your Dysregulated Emotions for a Better Mental Health” (8:30 – 10:00 AM); and\n– “Work-Life Balance and Mental Health” (2:30 PM – 4:00 PM).\n\nYou may register through this link: https://forms.gle/dYegCesVdcQVXBfw5 \n\nSee posters below for more details. See you there!\n\nSource: UP College of Education Facebook
URL:https://alum.up.edu.ph/event/work-life-balance-and-mental-health/
END:VEVENT
BEGIN:VEVENT
DTSTART;TZID=UTC:20240504T160000
DTEND;TZID=UTC:20240504T180000
DTSTAMP:20260421T032213
CREATED:20240416T160622Z
LAST-MODIFIED:20240416T160622Z
UID:16040-1714838400-1714845600@alum.up.edu.ph
SUMMARY:UP Alumni Association Edmonton AGM\, Elections\, and Madz Celebration
DESCRIPTION:
URL:https://alum.up.edu.ph/event/up-alumni-association-edmonton-agm-elections-and-madz-celebration/
END:VEVENT
END:VCALENDAR