BEGIN:VCALENDAR
VERSION:2.0
PRODID:-//UP Alumni Website - ECPv6.15.16//NONSGML v1.0//EN
CALSCALE:GREGORIAN
METHOD:PUBLISH
X-WR-CALNAME:UP Alumni Website
X-ORIGINAL-URL:https://alum.up.edu.ph
X-WR-CALDESC:Events for UP Alumni Website
REFRESH-INTERVAL;VALUE=DURATION:PT1H
X-Robots-Tag:noindex
X-PUBLISHED-TTL:PT1H
BEGIN:VTIMEZONE
TZID:UTC
BEGIN:STANDARD
TZOFFSETFROM:+0000
TZOFFSETTO:+0000
TZNAME:UTC
DTSTART:20230101T000000
END:STANDARD
END:VTIMEZONE
BEGIN:VEVENT
DTSTART;TZID=UTC:20240316T080000
DTEND;TZID=UTC:20240608T170000
DTSTAMP:20260422T150011
CREATED:20240229T160636Z
LAST-MODIFIED:20240229T160636Z
UID:15205-1710576000-1717866000@alum.up.edu.ph
SUMMARY:20th Certificate Course in Industrial Relations and Human Resource Management
DESCRIPTION:Click this link to pre-register: https://bit.ly/regIRHR20\nUnlock Your Potential in Industrial Relations and HR Management!\n\nEmbark on a transformative journey with the 20th Certificate Course in Industrial Relations (IR) and Human Resource Management (HR)\, presented by the UP Diliman School of Labor and Industrial Relations (SOLAIR) in collaboration with the Center for Industry Productivity and Competitiveness (CIPC). 🚀\n\n📅 Course Duration: March 16 – June 08\, 2024\n⏰ Schedule: 12 Saturdays\, 9:00 am – 4:00 pm\n📍 Venue: Onsite sessions at UP SOLAIR\, UP Diliman\n\nWhy Enroll in This Course?\n🎯 Tailored for Professionals: Specifically designed for IR practitioners\, HR officers/executives\, and academicians eager to enhance their skills in the dynamic realm of Industrial Relations and Human Resource Management (IRHR).\n📚 Cutting-Edge Curriculum: Delve into core competencies and emerging topics shaped by the fourth industrial revolution\, ensuring you stay ahead in this ever-evolving field.\n💼 Expert-Led Sessions: Learn from distinguished lecturers and professors from UP SOLAIR\, as well as industry experts in labor and industrial relations\, guaranteeing a rich and diverse learning experience.\n🏆 Interactive Learning: Engage in face-to-face stimulating discussions\, practical case studies\, and collaborative activities to deepen your understanding of IRHR practices\, culminating in a capstone project.\n\nInvestment Fee: P36\,000 per participant (limited slots available)\nInclusions: Meals (Lunch\, AM and PM snacks)\, comprehensive lecture handouts\, and a prestigious Certificate of Completion.\n\nFor inquiries\, contact: cipc.upd@up.edu.ph or visit https://solair.upd.edu.ph/\nDon’t miss this opportunity to invest in your professional growth. Join us at the forefront of IR and HR practices\, and let’s shape the future together!\nSource: UP School of Labor and Industrial Relations Facebook
URL:https://alum.up.edu.ph/event/20th-certificate-course-in-industrial-relations-and-human-resource-management/
END:VEVENT
BEGIN:VEVENT
DTSTART;TZID=UTC:20240417T080000
DTEND;TZID=UTC:20240605T170000
DTSTAMP:20260422T150011
CREATED:20240319T155815Z
LAST-MODIFIED:20240319T155907Z
UID:15683-1713340800-1717606800@alum.up.edu.ph
SUMMARY:"Vision and Occupation: Tools and Techniques for Visual Rehabilitation" Occupational Therapy Training Course
DESCRIPTION:Calling all VisMin OTs!\n\nUP Occupational Therapy\, in partnership with @Eye Can Occupational Therapy\, presents “Vision and Occupation: Tools and Techniques for Visual Rehabilitation” exclusively for you!\n\nExplore evaluation and treatment methods for visual impairments\, with hands-on patient interactions.\n\nEarn CPD units with PRC accreditation. Stay tuned on UP Occupational Therapy Facebook Page for updates. See you there!\n\nREGISTER NOW: https://bit.ly/VisualRehab2024\n\nSource: University of the Philippines Manila Facebook
URL:https://alum.up.edu.ph/event/vision-and-occupation-tools-and-techniques-for-visual-rehabilitation-2/
END:VEVENT
BEGIN:VEVENT
DTSTART;TZID=UTC:20240426T090000
DTEND;TZID=UTC:20240520T160000
DTSTAMP:20260422T150011
CREATED:20240501T213745Z
LAST-MODIFIED:20240501T213745Z
UID:16198-1714122000-1716220800@alum.up.edu.ph
SUMMARY:Abante Babae: An Art Exhibit
DESCRIPTION:Women’s month may have long ended\, but who said celebrating women can be confined to just one month?\n\nUP Baguio Program for Indigenous Cultures in partnership with the College of Arts and Communications launched the Abante Babae art exhibit at the Darnay Demetillo Art Space on April 26\, 2024. This exhibit is open to the public until May 20\, 2024.\n\nAbante Babae features UP Baguio Fine Arts students’ works. PIC also included an introductory poem by Luchie Maranan to encompass the exhibit’s message and purpose.\n\nParticipating Artists:\nStephen Lucero\nJulina Santos\nMin Jin Lee\nMarco Simon Patiño\nLouissa Gamuac\nLiam Danganan\nMargie Rose Sagadraca\nNikole Lakyanga\nYna Marlyn Bulda\nAngela Jolene Bautista\nChristine Castro\nJulian Gabriel Trinidad\nDaryll Malto\nJem Delos Reyes\nZinia Nataño\nDenise Julliana Tumang\nAngela Jolene Bautista\n\nSource: University of the Philippines Baguio Facebook
URL:https://alum.up.edu.ph/event/abante-babae-an-art-exhibit/
END:VEVENT
BEGIN:VEVENT
DTSTART;TZID=UTC:20240429T090000
DTEND;TZID=UTC:20240518T160000
DTSTAMP:20260422T150011
CREATED:20240513T161713Z
LAST-MODIFIED:20240513T161713Z
UID:16328-1714381200-1716048000@alum.up.edu.ph
SUMMARY:Poiesis: Music\, Type in Motion\, Art\, and Poetry
DESCRIPTION:The gallery is open from Tuesdays to Saturdays\, 9 a.m.–4 p.m. Walk-in guests are welcome.\n\nFor inquiries\, email cfagallery.upd@up.edu.ph.
URL:https://alum.up.edu.ph/event/poiesis-music-type-in-motion-art-and-poetry/
END:VEVENT
BEGIN:VEVENT
DTSTART;TZID=UTC:20240502T090000
DTEND;TZID=UTC:20240523T160000
DTSTAMP:20260422T150011
CREATED:20240501T161300Z
LAST-MODIFIED:20240501T161300Z
UID:16136-1714640400-1716480000@alum.up.edu.ph
SUMMARY:April Exhibitions at Parola: UP Fine Arts Gallery
DESCRIPTION:APRIL EXHIBITIONS AT PAROLA ✴️\n​\nIndio-Genius! Tatlong Alamat ng Tagumpay\nKidlat Tahimik\nAtrium\nApril 23 – May 23\n​\nIf/Then: Art\, Logic\, and Electronics\nGallery Two\nApril 12 – May 8\n​\nPagpapatuloy: Alay kay Bai Bibyaon\nTribute to Bai Bibyaon Ligkayan Bigkay\nMultipurpose Hall\nApril 25 – 27\n​\nSee it in Black-and-White\nBiboy Royong\nAtrium Lobby\nIn Commemoration of Earth Day 2024\n​\nBisita Planeta𝑩𝒊𝒔𝒊𝒕𝒂 𝑷𝒍𝒂𝒏𝒆𝒕𝒂\nTad Ermitano\nAtrium Lobby\nOn view until September 21\, 2024\n​\nStay tuned for more updates!\n​\n🗓️ Walk-in visitors are welcome from Tuesdays to Saturdays\, 9 AM – 4 PM.\n✉️ For group/class visits and inquiries\, email us at cfagallery.upd@up.edu.ph.\n​\nSee you!\n\nSosurce: UP Fine Arts Gallery Facebook
URL:https://alum.up.edu.ph/event/april-exhibitions-at-parola-up-fine-arts-gallery/
END:VEVENT
BEGIN:VEVENT
DTSTART;TZID=UTC:20240506T080000
DTEND;TZID=UTC:20240517T170000
DTSTAMP:20260422T150011
CREATED:20240404T161838Z
LAST-MODIFIED:20240404T161838Z
UID:15910-1714982400-1715965200@alum.up.edu.ph
SUMMARY:91st Postgraduate Course in Occupational Health and Safety
DESCRIPTION:Interested in practicing Occupational Health and Safety (OHS)?\n\nJoin the 91st Postgraduate Course in Occupational Health and Safety on 06 to 10\, 13 to 17 May 2024\, to be offered online via Zoom and Google Classroom.\n\nThis is open to physicians\, nurses\, dentists\, physical therapists\, sanitary engineers\, and other professionals interested in OHS. This course offering aims to contribute to the achievement of SDG3 and SDG8.\n\nTo register\, kindly email us at upm.cph.deoh@up.edu.ph or visit our website for more information https://sites.google.com/up.edu.ph/deoh-pgcohs/home\n\nSee you there!\n\nSource: University of the Philippines Manila Facebook
URL:https://alum.up.edu.ph/event/91st-postgraduate-course-in-occupational-health-and-safety/
END:VEVENT
BEGIN:VEVENT
DTSTART;VALUE=DATE:20240510
DTEND;VALUE=DATE:20240511
DTSTAMP:20260422T150011
CREATED:20240506T185510Z
LAST-MODIFIED:20240506T185510Z
UID:16267-1715299200-1715385599@alum.up.edu.ph
SUMMARY:"Dëmalës Mëganad: Slap and Study in Manila"
DESCRIPTION:Presented by UP Manila College of Arts and Sciences (CAS)\, Center for Gender and Women Studies (CGWS)\, and Manila Studies Program (MSP).\nin cooperation with Area Studies Program (ASP)-Department of Social Sciences (DSS)\, CAS Office of the Gender Program (OGP)\, and Organization of Area Studies Majors (OrgASM).\n\nthe “Dëmalës Mëganad: Slap and Study in Manila”\n\n10 May 2024\nas part of “Suwala Sëkëlungon: Sound and Language of the Tëduray and Symbolangian Worlds”\n\nin support of the UP Diliman College of Arts and Literature (KAL) under the UP Diliman Indigenous World Heritage Program from the Office of the Chancellor’s Knowledge Guardians through the Office of the Vice Chancellor for Academic Affairs\n\nSource: BA Social Sciences – Area Studies Program\, UP Manila Facebook
URL:https://alum.up.edu.ph/event/demales-meganad-slap-and-study-in-manila/
END:VEVENT
BEGIN:VEVENT
DTSTART;TZID=UTC:20240510T090000
DTEND;TZID=UTC:20240510T170000
DTSTAMP:20260422T150011
CREATED:20240501T174331Z
LAST-MODIFIED:20240501T174331Z
UID:16179-1715331600-1715360400@alum.up.edu.ph
SUMMARY:UP SOLAIR Job Fair
DESCRIPTION:Get ready to soar with us! 🚀 We’re giving you direct access to top hiring companies and valuable insights on how to shine in the digital workplace. Let’s gear up for the job-hunting journey together!\n\n📅 Event: Soar Up at SOLAIR Job Fair\n🗓️ Date: May 10\, 2024\n🕘 Time: 9:00 AM – 4:00 PM\n🏛️ Venue: Isabelo delos Reyes Auditorium\, Bonifacio Hall\, UP SOLAIR\n🎟️ Admission is FREE for students and jobseekers! 🎓🎉 Limited seats available\, so secure your spot now! Click here to register: https://forms.gle/6biUrGhbupoLRFaj9\n\nThis event is organized by IR 202 Organization and Work under Dr. Virgel C. Binghay and the Center for Industry Productivity and Competitiveness (CIPC).\n\nCan’t wait to see you there!\n\nBig shoutout to InteLogix Philippines for being one of our early bird partners. And hey\, we’re also teaming up with PESO Quezon City for this event!\n\nWant to join the fun as a company sponsor? Enjoy perks and privileges by signing up here: https://forms.gle/cca32yqCMyUC1KDR9\n\nSource: UP School of Labor and Industrial Relations Facebook
URL:https://alum.up.edu.ph/event/up-solair-job-fair/
END:VEVENT
BEGIN:VEVENT
DTSTART;TZID=UTC:20240510T120000
DTEND;TZID=UTC:20240510T130000
DTSTAMP:20260422T150011
CREATED:20240507T160837Z
LAST-MODIFIED:20240507T160837Z
UID:16287-1715342400-1715346000@alum.up.edu.ph
SUMMARY:“2023 ESH Guidelines on Hypertension & Implications to Clinical Practice”
DESCRIPTION:Inviting everyone to watch the UP MED WEBINAR “2023 ESH Guidelines on Hypertension & Implications to Clinical Practice” scheduled on Friday\, May 10\, 2024 at 12:00 -1:00 p.m. Our speaker is Dr. Deborah Ignacia David-Ona\, the Immediate Past President of the Philippine Society of Hypertension and current President of the Philippine Lipid and Atherosclerosis Society.\n\nThis activity is brought to you by the UP College of Medicine Class of 1999.\n\nPlease register and join us for this event.\n\nThank you!\n\nViewing platforms:\nvia ZOOM:\n[advance registration recommended]\nhttps://up-edu.zoom.us/…/WN_ZO0aflNARzGcDMmiWm5haA…\n\nvia UPM LIVESTREAM:\nhttps://livestream.upm.edu.ph\n\nVIA UP MED WEBINARS 2024 FACEBOOK: [membership required]\nhttps://www.facebook.com/groups/282159307396442\n\nSource: UP Med Webinars Facebook
URL:https://alum.up.edu.ph/event/2023-esh-guidelines-on-hypertension-implications-to-clinical-practice/
END:VEVENT
BEGIN:VEVENT
DTSTART;TZID=UTC:20240510T120000
DTEND;TZID=UTC:20240510T140000
DTSTAMP:20260422T150011
CREATED:20240501T163201Z
LAST-MODIFIED:20240509T151036Z
UID:16148-1715342400-1715349600@alum.up.edu.ph
SUMMARY:Health Updates Webinar #191 Behind the Limelight…“Backstage Pains!”: Performing Artists’ Wellness in the Philippines
DESCRIPTION:The University of the Philippines\,\nin partnership with the UP Manila – National Institutes of Health\,\nand in cooperation with UP Philippine General Hospital and UP College of Medicine\,\nwould like to invite you to attend this webinar! \n  \nRegistration slots are limited to this HEALTH UPDATES webinar\nSo sign up NOW:\nbit.ly/HealthUpdatesWebinar191 \n  \nWebinar #191\nMay 10\, 2024 (Friday) 12nn\nBehind the Limelight… “Backstage Pains!” :\nPerforming Artists’ Wellness in the Philippines\n\nPresenter:\nDR. JENNIFER MARIE J. YANG\nAttending Physician\, Department of Rehabilitation Medicine\nUP – Philippine General Hospital\nBalik Scientist Program Awardee 2023\n\nReactor:\nDR. FILOMAR CORTEZANO TARIAO\nSenior Lecturer\, Nanyang Academy of Fine Arts\nSingapore\, Singapore\n\n———————————————————–\n\nWebinar #191\nMay 10\, 2024 (Friday) 12nn\nBehind the Limelight… “Backstage Pains!” :\nPerforming Artists’ Wellness in the Philippines\n\nDo you ever wonder about the specialized needs of our nation’s talented performing artists? Dancers\, musicians\, singers\, and actors push their bodies and voices to the limit\, and with that dedication comes a unique set of medical concerns.\n\nIn this week’s episode\, we will explore the burgeoning field of Performing Arts Medicine (PAM) in the Philippines. We will discuss the musculoskeletal\, neurological\, vocal\, and psychological demands placed on performers\, and how these demands can translate into injuries\, overuse syndromes\, and performance anxiety.\n\nOur main presenter is Dr. Jennifer Marie J. Yang\, who has studied the unique intersection of culture\, health\, and medicine and which she has been applying in her work as attending physician at the UP-PGH Department of Rehabilitation Medicine. Our reactor is Dr. Filomar Cortezano Tariao\, who serves as Senior Lecturer at the Nanyang Academy of Fine Arts in Singapore.\n\nBy the end of the webinar\, the audience should have gained valuable insights into the prevalence of musculoskeletal disorders in dancers\, singers\, and instrumentalists; vocal health maintenance and common pathologies affecting singers; and the multidisciplinary approach to injury prevention\, treatment\, and rehabilitation in PAM. Join us to discover how healthcare workers can be instrumental in optimizing the health and performance of our nation’s artistic talents.
URL:https://alum.up.edu.ph/event/health-updates-webinar-191/
END:VEVENT
BEGIN:VEVENT
DTSTART;TZID=UTC:20240510T130000
DTEND;TZID=UTC:20240510T163000
DTSTAMP:20260422T150011
CREATED:20240508T175118Z
LAST-MODIFIED:20240508T175118Z
UID:16297-1715346000-1715358600@alum.up.edu.ph
SUMMARY:An Industry Approach to Risk Analysis for R&D Projects
DESCRIPTION:Ready to have an introduction to the fundamentals of risk analysis applied to R&D projects\, in response to the increasing volatility\, uncertainty\, complexity\, and ambiguity of today’s fast-paced technology disruptions for innovation generation?\n\nJoin us this Friday\, 10 May 2024\, for the Let’s Talk It Over on An Industry Approach to Risk Analysis for R&D Projects organized by the Research and Development Management Program of FMDS\, UPOU and the Philippine Association of Research Managers\, Inc.\n\nInterested participants may register via https://url.upou.edu.ph/LTIO-Reg10May24\n\nHere’s the roster of speakers we have this coming Friday\n🗣️ Dr. Rogelio Cuyno (Senior Adviser and Founder\, PHILARM) – Potential Problem Analysis\n🗣️ Mr. Jerome Castro (R&D Director\, EDL Group of Companies) – Concepts of De-Risking Projects\n🗣️ Ms. Cherry Ann Parungao (Project Manager for Technology\, FIS Global Solutions) – Implementing Risk Response\, Tools\, and Techniques\n🗣️ Engr. Mike Clester Perez (Governor\, IECEP Europe Chapter) – Overview of Failure Mode and Effects Analysis\n🗣️ Ms. Lei Lanna M. Dancel (Laboratory Manager\, RITM) – Laboratory Biorisk Assessment: Applications in Infectious Disease Research\n\nThis event is free and open to the public.\n\nSource: UPOU Faculty of Management & Development Studies Facebook
URL:https://alum.up.edu.ph/event/an-industry-approach-to-risk-analysis-for-rd-projects/
END:VEVENT
BEGIN:VEVENT
DTSTART;TZID=UTC:20240510T130000
DTEND;TZID=UTC:20240510T180000
DTSTAMP:20260422T150011
CREATED:20240506T185107Z
LAST-MODIFIED:20240506T185107Z
UID:16263-1715346000-1715364000@alum.up.edu.ph
SUMMARY:UP Institute of Civil Engineering 4th Graduate Research Colloquium
DESCRIPTION:[UP ICE GRC4]\nThe UP Institute of Civil Engineering (UP ICE) will hold its 4th Graduate Research Colloquium on May 10\, 2024 (Fri) with the following sessions:\nPoster session – 1:00-4:00PM | UP ICE lobby\nOnline presentations – 4:00-6:00PM via Zoom\n\nThe colloquium will feature the completed theses of MSCE and PhDCE students/graduates of UP ICE.\n\nThe colloquium is free and open to all interested. Target participants: undergraduate and graduate students\, scholars\, faculty members\, researchers and professionals.\n\nKindly pre-register through https://tinyurl.com/upicegrc2024 to receive the Zoom meeting and Youtube live-streaming links.\n\nFor more info\, email us at ice.upd@up.edu.ph.\n\nSource: UP Institute of Civil Engineering Facebook
URL:https://alum.up.edu.ph/event/up-institute-of-civil-engineering-4th-graduate-research-colloquium/
END:VEVENT
BEGIN:VEVENT
DTSTART;TZID=UTC:20240510T133000
DTEND;TZID=UTC:20240510T150000
DTSTAMP:20260422T150011
CREATED:20240508T173826Z
LAST-MODIFIED:20240508T173826Z
UID:16293-1715347800-1715353200@alum.up.edu.ph
SUMMARY:Exploring Creativity: The Power and Potential of Creative Industries
DESCRIPTION:Prepare to dive into the intersection of creativity and economics as we launch DOST-UPB SILBI TBI’s EconoMAY series of Pan-adivay.\n\nJoin us for an enlightening session titled\, Exploring Creativity: The Power and Potential of Creative Industries in the\nPhilippines\, with our distinguished speaker\, Dr. Corazon L. Abansi\, Professor of Economics at UP Baguio’s Institute of Management.\nMark your calendars for May 10\, 2024\, from 1:00 PM – 5:00 PM\, at the University of the Philippines Baguio Teatro Amianan.\n\nThis invaluable learning opportunity is completely FREE! Reserve your seat by pre-registering at https://forms.gle/MjtCmNb4G1roj9Pg7.\n\nCan’t make it in person? Catch the livestream on UPB SILBI’s Facebook Page.\n\nSource: UPB SILBI Facebook
URL:https://alum.up.edu.ph/event/exploring-creativity-the-power-and-potential-of-creative-industries/
END:VEVENT
END:VCALENDAR