BEGIN:VCALENDAR
VERSION:2.0
PRODID:-//UP Alumni Website - ECPv6.15.16//NONSGML v1.0//EN
CALSCALE:GREGORIAN
METHOD:PUBLISH
X-WR-CALNAME:UP Alumni Website
X-ORIGINAL-URL:https://alum.up.edu.ph
X-WR-CALDESC:Events for UP Alumni Website
REFRESH-INTERVAL;VALUE=DURATION:PT1H
X-Robots-Tag:noindex
X-PUBLISHED-TTL:PT1H
BEGIN:VTIMEZONE
TZID:UTC
BEGIN:STANDARD
TZOFFSETFROM:+0000
TZOFFSETTO:+0000
TZNAME:UTC
DTSTART:20230101T000000
END:STANDARD
END:VTIMEZONE
BEGIN:VEVENT
DTSTART;TZID=UTC:20240316T080000
DTEND;TZID=UTC:20240608T170000
DTSTAMP:20260422T232650
CREATED:20240229T160636Z
LAST-MODIFIED:20240229T160636Z
UID:15205-1710576000-1717866000@alum.up.edu.ph
SUMMARY:20th Certificate Course in Industrial Relations and Human Resource Management
DESCRIPTION:Click this link to pre-register: https://bit.ly/regIRHR20\nUnlock Your Potential in Industrial Relations and HR Management!\n\nEmbark on a transformative journey with the 20th Certificate Course in Industrial Relations (IR) and Human Resource Management (HR)\, presented by the UP Diliman School of Labor and Industrial Relations (SOLAIR) in collaboration with the Center for Industry Productivity and Competitiveness (CIPC). 🚀\n\n📅 Course Duration: March 16 – June 08\, 2024\n⏰ Schedule: 12 Saturdays\, 9:00 am – 4:00 pm\n📍 Venue: Onsite sessions at UP SOLAIR\, UP Diliman\n\nWhy Enroll in This Course?\n🎯 Tailored for Professionals: Specifically designed for IR practitioners\, HR officers/executives\, and academicians eager to enhance their skills in the dynamic realm of Industrial Relations and Human Resource Management (IRHR).\n📚 Cutting-Edge Curriculum: Delve into core competencies and emerging topics shaped by the fourth industrial revolution\, ensuring you stay ahead in this ever-evolving field.\n💼 Expert-Led Sessions: Learn from distinguished lecturers and professors from UP SOLAIR\, as well as industry experts in labor and industrial relations\, guaranteeing a rich and diverse learning experience.\n🏆 Interactive Learning: Engage in face-to-face stimulating discussions\, practical case studies\, and collaborative activities to deepen your understanding of IRHR practices\, culminating in a capstone project.\n\nInvestment Fee: P36\,000 per participant (limited slots available)\nInclusions: Meals (Lunch\, AM and PM snacks)\, comprehensive lecture handouts\, and a prestigious Certificate of Completion.\n\nFor inquiries\, contact: cipc.upd@up.edu.ph or visit https://solair.upd.edu.ph/\nDon’t miss this opportunity to invest in your professional growth. Join us at the forefront of IR and HR practices\, and let’s shape the future together!\nSource: UP School of Labor and Industrial Relations Facebook
URL:https://alum.up.edu.ph/event/20th-certificate-course-in-industrial-relations-and-human-resource-management/
END:VEVENT
BEGIN:VEVENT
DTSTART;TZID=UTC:20240417T080000
DTEND;TZID=UTC:20240605T170000
DTSTAMP:20260422T232650
CREATED:20240319T155815Z
LAST-MODIFIED:20240319T155907Z
UID:15683-1713340800-1717606800@alum.up.edu.ph
SUMMARY:"Vision and Occupation: Tools and Techniques for Visual Rehabilitation" Occupational Therapy Training Course
DESCRIPTION:Calling all VisMin OTs!\n\nUP Occupational Therapy\, in partnership with @Eye Can Occupational Therapy\, presents “Vision and Occupation: Tools and Techniques for Visual Rehabilitation” exclusively for you!\n\nExplore evaluation and treatment methods for visual impairments\, with hands-on patient interactions.\n\nEarn CPD units with PRC accreditation. Stay tuned on UP Occupational Therapy Facebook Page for updates. See you there!\n\nREGISTER NOW: https://bit.ly/VisualRehab2024\n\nSource: University of the Philippines Manila Facebook
URL:https://alum.up.edu.ph/event/vision-and-occupation-tools-and-techniques-for-visual-rehabilitation-2/
END:VEVENT
BEGIN:VEVENT
DTSTART;TZID=UTC:20240426T090000
DTEND;TZID=UTC:20240520T160000
DTSTAMP:20260422T232650
CREATED:20240501T213745Z
LAST-MODIFIED:20240501T213745Z
UID:16198-1714122000-1716220800@alum.up.edu.ph
SUMMARY:Abante Babae: An Art Exhibit
DESCRIPTION:Women’s month may have long ended\, but who said celebrating women can be confined to just one month?\n\nUP Baguio Program for Indigenous Cultures in partnership with the College of Arts and Communications launched the Abante Babae art exhibit at the Darnay Demetillo Art Space on April 26\, 2024. This exhibit is open to the public until May 20\, 2024.\n\nAbante Babae features UP Baguio Fine Arts students’ works. PIC also included an introductory poem by Luchie Maranan to encompass the exhibit’s message and purpose.\n\nParticipating Artists:\nStephen Lucero\nJulina Santos\nMin Jin Lee\nMarco Simon Patiño\nLouissa Gamuac\nLiam Danganan\nMargie Rose Sagadraca\nNikole Lakyanga\nYna Marlyn Bulda\nAngela Jolene Bautista\nChristine Castro\nJulian Gabriel Trinidad\nDaryll Malto\nJem Delos Reyes\nZinia Nataño\nDenise Julliana Tumang\nAngela Jolene Bautista\n\nSource: University of the Philippines Baguio Facebook
URL:https://alum.up.edu.ph/event/abante-babae-an-art-exhibit/
END:VEVENT
BEGIN:VEVENT
DTSTART;TZID=UTC:20240429T090000
DTEND;TZID=UTC:20240518T160000
DTSTAMP:20260422T232650
CREATED:20240513T161713Z
LAST-MODIFIED:20240513T161713Z
UID:16328-1714381200-1716048000@alum.up.edu.ph
SUMMARY:Poiesis: Music\, Type in Motion\, Art\, and Poetry
DESCRIPTION:The gallery is open from Tuesdays to Saturdays\, 9 a.m.–4 p.m. Walk-in guests are welcome.\n\nFor inquiries\, email cfagallery.upd@up.edu.ph.
URL:https://alum.up.edu.ph/event/poiesis-music-type-in-motion-art-and-poetry/
END:VEVENT
BEGIN:VEVENT
DTSTART;TZID=UTC:20240502T090000
DTEND;TZID=UTC:20240523T160000
DTSTAMP:20260422T232650
CREATED:20240501T161300Z
LAST-MODIFIED:20240501T161300Z
UID:16136-1714640400-1716480000@alum.up.edu.ph
SUMMARY:April Exhibitions at Parola: UP Fine Arts Gallery
DESCRIPTION:APRIL EXHIBITIONS AT PAROLA ✴️\n​\nIndio-Genius! Tatlong Alamat ng Tagumpay\nKidlat Tahimik\nAtrium\nApril 23 – May 23\n​\nIf/Then: Art\, Logic\, and Electronics\nGallery Two\nApril 12 – May 8\n​\nPagpapatuloy: Alay kay Bai Bibyaon\nTribute to Bai Bibyaon Ligkayan Bigkay\nMultipurpose Hall\nApril 25 – 27\n​\nSee it in Black-and-White\nBiboy Royong\nAtrium Lobby\nIn Commemoration of Earth Day 2024\n​\nBisita Planeta𝑩𝒊𝒔𝒊𝒕𝒂 𝑷𝒍𝒂𝒏𝒆𝒕𝒂\nTad Ermitano\nAtrium Lobby\nOn view until September 21\, 2024\n​\nStay tuned for more updates!\n​\n🗓️ Walk-in visitors are welcome from Tuesdays to Saturdays\, 9 AM – 4 PM.\n✉️ For group/class visits and inquiries\, email us at cfagallery.upd@up.edu.ph.\n​\nSee you!\n\nSosurce: UP Fine Arts Gallery Facebook
URL:https://alum.up.edu.ph/event/april-exhibitions-at-parola-up-fine-arts-gallery/
END:VEVENT
BEGIN:VEVENT
DTSTART;TZID=UTC:20240506T080000
DTEND;TZID=UTC:20240517T170000
DTSTAMP:20260422T232650
CREATED:20240404T161838Z
LAST-MODIFIED:20240404T161838Z
UID:15910-1714982400-1715965200@alum.up.edu.ph
SUMMARY:91st Postgraduate Course in Occupational Health and Safety
DESCRIPTION:Interested in practicing Occupational Health and Safety (OHS)?\n\nJoin the 91st Postgraduate Course in Occupational Health and Safety on 06 to 10\, 13 to 17 May 2024\, to be offered online via Zoom and Google Classroom.\n\nThis is open to physicians\, nurses\, dentists\, physical therapists\, sanitary engineers\, and other professionals interested in OHS. This course offering aims to contribute to the achievement of SDG3 and SDG8.\n\nTo register\, kindly email us at upm.cph.deoh@up.edu.ph or visit our website for more information https://sites.google.com/up.edu.ph/deoh-pgcohs/home\n\nSee you there!\n\nSource: University of the Philippines Manila Facebook
URL:https://alum.up.edu.ph/event/91st-postgraduate-course-in-occupational-health-and-safety/
END:VEVENT
BEGIN:VEVENT
DTSTART;TZID=UTC:20240515T080000
DTEND;TZID=UTC:20240517T170000
DTSTAMP:20260422T232650
CREATED:20240514T153206Z
LAST-MODIFIED:20240514T153206Z
UID:16368-1715760000-1715965200@alum.up.edu.ph
SUMMARY:UP Manila Museum of a History of Ideas "Flores de Mayo Community Fair!"
DESCRIPTION:The UP Manila Museum of a History of Ideas invites everyone to our Flores de Mayo Community Fair!\n\nThe fair will be on 15 to 17 May 2024 at the UPM-MHI Parking Lot from 8:00 AM to 5:00 PM. Whether you’re looking for food to eat or artwork to take home\, the 3-day fair and bazaar has something for everyone. It will also feature BA Philippine Arts students’ cosplay show and community mural exhibition.\n\nInvite your friends and loved ones and celebrate Flores de Mayo with us! See you there!\n\nFor more information and to register for our activities\, kindly visit tinyurl.com/FloresDeMayo2024 or forms.gle/SFBDn2CC5HCc2vLTA.\n\nPartner exhibitors:\nThe Taft Gift Shop\nSining ni Dimasilaw\n_cupndlz\nCourageous Studios\nEscolare at Ztalk and Learn\nThe Faura Project\nindiopalette\nBeanscent\nNaPro.PH\nHan Koan\ndanijji\nTita Ivy’s\nMyell Handcrafts\nThe Creative Frija\nHandcraftedbyshe\nEMZ FOOD HOUSE\nJewel Qualimart\nD’Anacitos\nOhmyunnie\nThe Kofi Stop\n\nPresented by:\nUP Manila Museum of a History of Ideas\nThe Faura Project\, Inc.\nUP Manila College of Arts and Sciences\n\nIn partnership with:\nNational Commission for Culture and the Arts\nPhilippine Botanical Art Society\nUP Manila Department of Arts and Communication\nUP Manila Department of Biology\nUP Manila Salinlahi\nUP Manila College of Arts and Sciences Student Council\n\nSource: UP Manila – Museum Of A History Of Ideas Facebook
URL:https://alum.up.edu.ph/event/up-manila-museum-of-a-history-of-ideas-flores-de-mayo-community-fair/
END:VEVENT
BEGIN:VEVENT
DTSTART;TZID=UTC:20240517T083000
DTEND;TZID=UTC:20240517T100000
DTSTAMP:20260422T232650
CREATED:20240502T185604Z
LAST-MODIFIED:20240502T185623Z
UID:16237-1715934600-1715940000@alum.up.edu.ph
SUMMARY:SukatWika: An Analysis Software for the Linguistic Properties of Texts | A Webinar
DESCRIPTION:Everyone is invited to a public webinar\, “SukatWika: An Analysis Software for the Linguistic Properties of Texts\,” on 17 May 2024\, Friday\, 8:30 a.m. to 10:00 a.m. (PH Standard Time) via Zoom. The event is free and open to the public\, but slots are available on a first-come\, first-served basis.\n\nSign Up here to attend\n\nAbstract\n\nThere is a lack of understanding on the characteristics of texts that children read\, especially in Philippine languages. Text quality should be informed by an analysis of text difficulty\, which can be evaluated by assessing linguistic properties\, such as word density\, concept load\, and phonological weight. Thus\, the SukatWika analysis tool has been developed to automate the extraction of this information for texts written in four Philippine languages: Filipino\, English\, Sinugbuanong Binisaya\, and Ilokano.\n\nSukatWika currently has the following functionalities: sentence length counter\, phoneme counter\, word frequency counter\, word length counter\, and word searcher. The results obtained from this software can be used as an aid in the creation of instructional materials which will support reading development among learners.\n\nPresenters\n\nKathrina Lorraine Lucasan\nSenior Research Associate\nEducation Research Program\, UP Center for Integrative and Development Studies\n\nFrancis Paolo Santelices\nDigital Signal Processing Laboratory\nInstitute of Electrical and Electronics Engineering\, UP Diliman\n\nAbout SukatWika\n\nSukatWika was developed by the University of the Philippines’ Center for Integrative and Development Studies (UP CIDS) Education Reform Program (ERP). The SukatWika team includes Dina Joana Ocampo\, PhD (Convenor of ERP\, and Professor at the UP College Education); Angelina Aquino\, and the two presenters (see above).\n\nAdditionally\, SukatWika has been used to refine word lists in four studies: The Development of Filipino and English Multi-literacy Assessments for Kindergarten to Grade 3 Learners; An Age of Acquisition Study in Filipino; The Development of Assessment in Sinugbuanong Binisaya for Grade 3; and finally\, a study aimed at describing Filipino words encountered by children in story books and picture books.\n\nOrganizers\n\nFor queries\, please email UP CIDS: events.cids@up.edu.ph\n\nThe event is organized by the Philippine-American Academy of Science and Engineering (PAASE) Research Cluster 13 and the University of the Philippines Center for Integrative and Development Studies (UP CIDS) Education Research Program (ERP). The ERP is one of the Research Programs of the Center for Integrative and Development Studies (CIDS)\, the policy research unit of the University of the Philippines (UP).\n\nERP conducts policy studies under three categories: Curriculum and Assessment; Instruction and Teacher Development and Governance; and Finance and School Improvement. PAASE is a non-profit organization\, composed of scientists and engineers of Philippine descent who have distinguished themselves in scholarly and research-related activities.
URL:https://alum.up.edu.ph/event/sukatwika-an-analysis-software-for-the-linguistic-properties-of-texts-a-webinar/
END:VEVENT
BEGIN:VEVENT
DTSTART;TZID=UTC:20240517T090000
DTEND;TZID=UTC:20240517T160000
DTSTAMP:20260422T232650
CREATED:20240513T171415Z
LAST-MODIFIED:20240513T171415Z
UID:16352-1715936400-1715961600@alum.up.edu.ph
SUMMARY:Likas at Lakas: Sustainability\, HR\, and You
DESCRIPTION:Join us for a transformative learning experience at the UP Diliman School of Labor and Industrial Relations (UP SOLAIR)!\n\n📅 Event: “Likas at Lakas: Sustainability\, HR\, and You”\n🗓️ Date: May 17\, 2024\n🕘 Time: 9:00 AM – 4:00 PM\n🏛️ Venue: Isabelo delos Reyes Auditorium\, Bonifacio Hall\, UP SOLAIR\n\n🎟️ Admission is FREE but seats are limited! Secure your spot now! Click the link to register: https://bit.ly/3vr70yU\n\n👥 Organized by IR 225 Design and Administration of Training Programs under Dr. Virgel C. Binghay and the Center for Industry Productivity and Competitiveness (CIPC).\n\nDon’t miss out on this invaluable opportunity to expand your knowledge and make an impact! See you there!\n\nSource: UP School of Labor and Industrial Relations Facebook
URL:https://alum.up.edu.ph/event/likas-at-lakas-sustainability-hr-and-you/
END:VEVENT
BEGIN:VEVENT
DTSTART;TZID=UTC:20240517T120000
DTEND;TZID=UTC:20240517T140000
DTSTAMP:20260422T232650
CREATED:20240501T163311Z
LAST-MODIFIED:20240515T153816Z
UID:16151-1715947200-1715954400@alum.up.edu.ph
SUMMARY:Health Updates Webinar #192 Newborn Screening Program Updates: Saving Babies During Disasters and Pandemics
DESCRIPTION:The University of the Philippines\,\nin partnership with the UP Manila – National Institutes of Health\,\nand in cooperation with UP Philippine General Hospital and UP College of Medicine\,\nwould like to invite you to attend this webinar! \n  \nRegistration slots are limited to this HEALTH UPDATES webinar\nSo sign up NOW:\nbit.ly/HealthUpdatesWebinar192 \n \nWebinar #192\nMay 17\, 2024 (Friday) 12nn\nNewborn Screening Program Updates:\nSaving Babies During Disasters and Pandemics\n\nPresenter:\nNATIONAL SCIENTIST CARMENCITA D. PADILLA\nNational Academy of Science and Technology\, Philippines\nEmeritus Professor\nCollege of Medicine\, University of the Philippines Manila\n\nReactor:\nDIVINA BARRAMEDA\nMother of a Saved Baby\n\n———————————————————–\n\nWebinar #192\nMay 17\, 2024 (Friday) 12nn\nNewborn Screening Program Updates:\nSaving Babies During Disasters and Pandemics\n\nThe Newborn Screening Program (NBS) of the Philippines is a vital public health initiative\, but disasters and pandemics can disrupt this critical service. In our webinar for this week\, we will discuss strategies to maintain continuity of care\, ensuring timely diagnosis and intervention for newborns with congenital disorders even in challenging circumstances such as public health emergencies. We will also take a peek into technological advancements that improve efficiency and accessibility of the NBS.\n\nOur main presenter is National Scientist and Emeritus Professor Carmencita D. Padilla of the National Academy of Science and Technology and the UP Manila College of Medicine\, respectively. Our reactor is Ms. Divina Barrameda\, who is the mother of a baby saved from the early devastating effects of a metabolic disorder.\n\nBy the end of this webinar\, you will be better positioned to identify and manage potential challenges in newborn screening\, and also help contribute to improved clinical outcomes for newborns with congenital metabolic disorders.\n\nTogether\, we can save babies and stop preventable deaths!
URL:https://alum.up.edu.ph/event/health-updates-webinar-192/
END:VEVENT
BEGIN:VEVENT
DTSTART;TZID=UTC:20240517T130000
DTEND;TZID=UTC:20240517T160000
DTSTAMP:20260422T232650
CREATED:20240513T172048Z
LAST-MODIFIED:20240513T172048Z
UID:16355-1715950800-1715961600@alum.up.edu.ph
SUMMARY:IDAHOBIT: Forum on Gender-Affirming Hormone Therapy and the UP Diliman Transgender and Gender Non-Conforming Guidelines
DESCRIPTION:🌈✨Claim your space\, and make spaces safe for all! 💪💖\n\nOn the International Day Against Homophobia\, Biphobia and Transphobia (IDAHOBIT)\, join us on May 17th\, 1-4 PM at UPDGO Conference Room\, Benton Hall for insights into Gender-Affirming Hormone Therapy and Guidelines on Affirming Transgender and Gender Non-Conforming (TGNC) Students’ Names\, Pronouns\, and Titles.\n\nLet’s listen to stories from the trans community\, and learn about GAHT from specialists. UPDGO invites everyone to celebrate diversity\, knowledge\, and unity through this forum! Secure your spot by pre-registering here: https://forms.gle/FCszoPg1fE3HtqXK6\n\nSee you there! 🎉\n\nSource: UP Diliman Gender Office Facebook
URL:https://alum.up.edu.ph/event/idahobit-forum-on-gender-affirming-hormone-therapy-and-the-up-diliman-transgender-and-gender-non-conforming-guidelines/
END:VEVENT
BEGIN:VEVENT
DTSTART;TZID=UTC:20240517T130000
DTEND;TZID=UTC:20240517T170000
DTSTAMP:20260422T232650
CREATED:20240516T160222Z
LAST-MODIFIED:20240516T160222Z
UID:16381-1715950800-1715965200@alum.up.edu.ph
SUMMARY:Forging Intersectional Feminist Futures: Collective Care and the Guiding Principles of Intersectionality | A Forum
DESCRIPTION:Catch a load of presentations on gender\, feminism\, civil society\, and intersectionality in Southeast Asia. Join us for Friday’s forum. View details\, sign up: bit.ly/collectivecare517\n\nSource: UP Center for Integrative and Development Studies Facebook
URL:https://alum.up.edu.ph/event/forging-intersectional-feminist-futures-collective-care-and-the-guiding-principles-of-intersectionality-a-forum/
END:VEVENT
END:VCALENDAR