BEGIN:VCALENDAR
VERSION:2.0
PRODID:-//UP Alumni Website - ECPv6.15.16//NONSGML v1.0//EN
CALSCALE:GREGORIAN
METHOD:PUBLISH
X-WR-CALNAME:UP Alumni Website
X-ORIGINAL-URL:https://alum.up.edu.ph
X-WR-CALDESC:Events for UP Alumni Website
REFRESH-INTERVAL;VALUE=DURATION:PT1H
X-Robots-Tag:noindex
X-PUBLISHED-TTL:PT1H
BEGIN:VTIMEZONE
TZID:UTC
BEGIN:STANDARD
TZOFFSETFROM:+0000
TZOFFSETTO:+0000
TZNAME:UTC
DTSTART:20230101T000000
END:STANDARD
END:VTIMEZONE
BEGIN:VEVENT
DTSTART;TZID=UTC:20240316T080000
DTEND;TZID=UTC:20240608T170000
DTSTAMP:20260422T171251
CREATED:20240229T160636Z
LAST-MODIFIED:20240229T160636Z
UID:15205-1710576000-1717866000@alum.up.edu.ph
SUMMARY:20th Certificate Course in Industrial Relations and Human Resource Management
DESCRIPTION:Click this link to pre-register: https://bit.ly/regIRHR20\nUnlock Your Potential in Industrial Relations and HR Management!\n\nEmbark on a transformative journey with the 20th Certificate Course in Industrial Relations (IR) and Human Resource Management (HR)\, presented by the UP Diliman School of Labor and Industrial Relations (SOLAIR) in collaboration with the Center for Industry Productivity and Competitiveness (CIPC). 🚀\n\n📅 Course Duration: March 16 – June 08\, 2024\n⏰ Schedule: 12 Saturdays\, 9:00 am – 4:00 pm\n📍 Venue: Onsite sessions at UP SOLAIR\, UP Diliman\n\nWhy Enroll in This Course?\n🎯 Tailored for Professionals: Specifically designed for IR practitioners\, HR officers/executives\, and academicians eager to enhance their skills in the dynamic realm of Industrial Relations and Human Resource Management (IRHR).\n📚 Cutting-Edge Curriculum: Delve into core competencies and emerging topics shaped by the fourth industrial revolution\, ensuring you stay ahead in this ever-evolving field.\n💼 Expert-Led Sessions: Learn from distinguished lecturers and professors from UP SOLAIR\, as well as industry experts in labor and industrial relations\, guaranteeing a rich and diverse learning experience.\n🏆 Interactive Learning: Engage in face-to-face stimulating discussions\, practical case studies\, and collaborative activities to deepen your understanding of IRHR practices\, culminating in a capstone project.\n\nInvestment Fee: P36\,000 per participant (limited slots available)\nInclusions: Meals (Lunch\, AM and PM snacks)\, comprehensive lecture handouts\, and a prestigious Certificate of Completion.\n\nFor inquiries\, contact: cipc.upd@up.edu.ph or visit https://solair.upd.edu.ph/\nDon’t miss this opportunity to invest in your professional growth. Join us at the forefront of IR and HR practices\, and let’s shape the future together!\nSource: UP School of Labor and Industrial Relations Facebook
URL:https://alum.up.edu.ph/event/20th-certificate-course-in-industrial-relations-and-human-resource-management/
END:VEVENT
BEGIN:VEVENT
DTSTART;TZID=UTC:20240417T080000
DTEND;TZID=UTC:20240605T170000
DTSTAMP:20260422T171251
CREATED:20240319T155815Z
LAST-MODIFIED:20240319T155907Z
UID:15683-1713340800-1717606800@alum.up.edu.ph
SUMMARY:"Vision and Occupation: Tools and Techniques for Visual Rehabilitation" Occupational Therapy Training Course
DESCRIPTION:Calling all VisMin OTs!\n\nUP Occupational Therapy\, in partnership with @Eye Can Occupational Therapy\, presents “Vision and Occupation: Tools and Techniques for Visual Rehabilitation” exclusively for you!\n\nExplore evaluation and treatment methods for visual impairments\, with hands-on patient interactions.\n\nEarn CPD units with PRC accreditation. Stay tuned on UP Occupational Therapy Facebook Page for updates. See you there!\n\nREGISTER NOW: https://bit.ly/VisualRehab2024\n\nSource: University of the Philippines Manila Facebook
URL:https://alum.up.edu.ph/event/vision-and-occupation-tools-and-techniques-for-visual-rehabilitation-2/
END:VEVENT
BEGIN:VEVENT
DTSTART;TZID=UTC:20240524T083000
DTEND;TZID=UTC:20240524T120000
DTSTAMP:20260422T171251
CREATED:20240513T170239Z
LAST-MODIFIED:20240513T170239Z
UID:16346-1716539400-1716552000@alum.up.edu.ph
SUMMARY:“Political Dynasties: Biyaya o Parusa?”
DESCRIPTION:The University of the Philippines Law Center Institute of Government and Law Reform (IGLR) invites you to an academic symposium on the implications of political dynasties entitled\, “Political Dynasties: Biyaya o Parusa?” on May 24\, 2024 (Friday) from 8:30 AM – 12:00 NN at the Malcolm Theater\, UP College of Law\, Quezon City.\n\nThe symposium aims to hold an academic discussion on the 1987 Constitution’s anti-political dynasty provision\, a pending petition in the Supreme Court\, and the legal\, socioeconomic\, and governance implications of political dynasties in the Philippines.\n\nRegister now at: uplaw.ph/politicaldynasties\n\nSource: University of the Philippines College of Law Facebook
URL:https://alum.up.edu.ph/event/political-dynasties-biyaya-o-parusa/
END:VEVENT
BEGIN:VEVENT
DTSTART;TZID=UTC:20240524T120000
DTEND;TZID=UTC:20240524T130000
DTSTAMP:20260422T171251
CREATED:20240501T163353Z
LAST-MODIFIED:20240523T152332Z
UID:16153-1716552000-1716555600@alum.up.edu.ph
SUMMARY:Health Updates Webinar #193 “Ang Sakit ng Pasô Ko!” Burn Prevention Strategies
DESCRIPTION:The University of the Philippines\,\nin partnership with the UP Manila – National Institutes of Health\,\nand in cooperation with UP Philippine General Hospital and UP College of Medicine\,\nwould like to invite you to attend this webinar! \n  \nRegistration slots are limited to this HEALTH UPDATES webinar\nSo sign up NOW:\nbit.ly/HealthUpdatesWebinar193 \n  \nWebinar #193\nMay 24\, 2024 (Friday) 12nn\n“Ang Sakit ng Pasô Ko!”\nBurn Prevention Strategies\n\nPresenter:\nDR. JOSE JOVEN V. CRUZ\nProfessor\, Division of Burns and Division of Plastic Surgery\nUP College of Medicine and UP-PGH Department of Surgery\nRegent\, Philippine College of Surgeons\n\nReactor:\nDR. GENE GERALD SJ. TIONGCO\nClinical Associate Professor\, Division of Burns\nUP College of Medicine and UP-PGH Department of Surgery\nPresident\, Philippine Association of Plastic\, Reconstructive\, and Aesthetic Surgeons Inc.\n\n———————————————————–\n\nWebinar #193\nMay 24\, 2024 (Friday) 12nn\n“Ang Sakit ng Pasô Ko!”\nBurn Prevention Strategies\n\nBurns are a significant public health concern in the Philippines\, causing immense physical and psychological trauma. In our episode for this week\, we will discuss the pathophysiology of burns\, looking into the cellular and tissue damage caused by thermal\, chemical\, and electrical injuries. This knowledge will inform the audience’s initial assessment and guide treatment decisions. Mastering standardized classification systems for burn depth and severity is crucial. We will also explore practical techniques for accurate burn assessment\, which is a cornerstone of effective triage and treatment planning.\n\nWith prevention as the key approach\, we will explore evidence-based burn prevention strategies specifically applicable to the unique circumstances of the Filipino population. This includes addressing common household hazards\, electrical safety\, and proper use of traditional cooking methods. Additionally\, we will examine how the audience can contribute to community-based burn prevention programs in order to create safer environments.\n\nOur main presenter is Dr. Jose Joven V. Cruz\, Professor of both the Division of Burns and Division of Plastic Surgery at the UP College of Medicine and UP-PGH Department of Surgery. Our reactor is Dr. Gene Gerald SJ. Tiongco\, who serves as President of the Philippine Association of Plastic\, Reconstructive\, and Aesthetic Surgeons\, Inc. and is also Clinical Associate Professor of the Division of Burns at the UP College of Medicine and UP-PGH Department of Surgery.\n\nBy the end of this webinar\, you will have learned how to debunk widespread misconceptions surrounding burn treatment such as the use of butter\, toothpaste\, and soy sauce. You will also gain insights on fluid resuscitation\, wound management strategies\, and effective pain control protocols towards optimizing patient outcomes.\n\nTogether\, let us become champions for burn prevention and treatment. Together\, let us stop preventable deaths!
URL:https://alum.up.edu.ph/event/health-updates-webinar-193/
END:VEVENT
BEGIN:VEVENT
DTSTART;TZID=UTC:20240524T133000
DTEND;TZID=UTC:20240524T153000
DTSTAMP:20260422T171251
CREATED:20240516T172142Z
LAST-MODIFIED:20240516T172142Z
UID:16390-1716557400-1716564600@alum.up.edu.ph
SUMMARY:DOST-UPB SILBI TBI's Pan-adivay: EconoMAY Series  (2nd Series)
DESCRIPTION:Join us for the 2nd session of DOST-UPB SILBI TBI’s Pan-adivay: EconoMAY Series featuring Asst. Prof. Verna Liza Bautista from UP Baguio’s Department of Economics and Political Science. Let’s delve into her discussion on ‘The Creative City as a Development Project: Prospects for Social and Political Inclusion.’\n\nSee you on May 24\, 2024\, Friday\, 1:30 PM – 3:30 PM\, at the University of the Philippines Baguio CSS AVR. This invaluable opportunity is completely FREE! Reserve your spot by pre-registering at https://forms.gle/MjtCmNb4G1roj9Pg7.\n\nCan’t attend in person? Catch the livestream on UPB SILBI’s Facebook Page.\n\nSource: UPB SILBI Facebook
URL:https://alum.up.edu.ph/event/dost-upb-silbi-tbis-pan-adivay-economay-series-2nd-series/
END:VEVENT
BEGIN:VEVENT
DTSTART;TZID=UTC:20240524T180000
DTEND;TZID=UTC:20240524T190000
DTSTAMP:20260422T171251
CREATED:20240407T155704Z
LAST-MODIFIED:20240407T155704Z
UID:15971-1716573600-1716577200@alum.up.edu.ph
SUMMARY:Be a Gurong Pahinungód Program
DESCRIPTION:MAGTURO. MAGLINGKOD. MAGING GURONG PAHINUNGÓD!\n\nOpen to UP alumni and graduating students (this second semester) of any course from any UP constituent unit!\n\nTeaching experience is NOT required — as long as you have the heart for service\, you can be a Gurong Pahinungód (GP)!\n\nThe GP program is a program of the UP Ugnayan ng Pahinungód\, the volunteer service arm of the University of the Philippines. We deploy UP graduates to underserved and marginalized communities as volunteer teachers. Learn more about the program at bit.ly/aboutgurongpahinungod\n\nRegister at bit.ly/becomeaUPGP to receive the Zoom link for the orientation. Check the photo for the orientation schedule\n\nSource: UP System Ugnayan ng Pahinungód Facebook
URL:https://alum.up.edu.ph/event/be-a-gurong-pahinungod-program-6/
END:VEVENT
BEGIN:VEVENT
DTSTART;TZID=UTC:20240524T180000
DTEND;TZID=UTC:20240524T200000
DTSTAMP:20260422T171251
CREATED:20240523T165257Z
LAST-MODIFIED:20240523T165257Z
UID:16456-1716573600-1716580800@alum.up.edu.ph
SUMMARY:UP Baguio "PE Night for a Cause"
DESCRIPTION:We warmly invite everyone to join us for PE Night for a Cause on May 24\, 2024\, at Himnasyo Amianan\, starting at 6:00 PM. Tickets are priced at 100 PHP. The evening will feature an array of performances by PE2 students\, including folk dances\, line dances\, and dance sports. Additionally\, there will be exciting showcases of combative sports such as aerokick\, arnis\, and taekwondo. We hope to see you there!\n\nSource: University of the Philippines Baguio Facebook
URL:https://alum.up.edu.ph/event/up-baguio-pe-night-for-a-cause/
END:VEVENT
END:VCALENDAR