BEGIN:VCALENDAR
VERSION:2.0
PRODID:-//UP Alumni Website - ECPv6.15.16//NONSGML v1.0//EN
CALSCALE:GREGORIAN
METHOD:PUBLISH
X-WR-CALNAME:UP Alumni Website
X-ORIGINAL-URL:https://alum.up.edu.ph
X-WR-CALDESC:Events for UP Alumni Website
REFRESH-INTERVAL;VALUE=DURATION:PT1H
X-Robots-Tag:noindex
X-PUBLISHED-TTL:PT1H
BEGIN:VTIMEZONE
TZID:UTC
BEGIN:STANDARD
TZOFFSETFROM:+0000
TZOFFSETTO:+0000
TZNAME:UTC
DTSTART:20230101T000000
END:STANDARD
END:VTIMEZONE
BEGIN:VEVENT
DTSTART;TZID=UTC:20240316T080000
DTEND;TZID=UTC:20240608T170000
DTSTAMP:20260424T011344
CREATED:20240229T160636Z
LAST-MODIFIED:20240229T160636Z
UID:15205-1710576000-1717866000@alum.up.edu.ph
SUMMARY:20th Certificate Course in Industrial Relations and Human Resource Management
DESCRIPTION:Click this link to pre-register: https://bit.ly/regIRHR20\nUnlock Your Potential in Industrial Relations and HR Management!\n\nEmbark on a transformative journey with the 20th Certificate Course in Industrial Relations (IR) and Human Resource Management (HR)\, presented by the UP Diliman School of Labor and Industrial Relations (SOLAIR) in collaboration with the Center for Industry Productivity and Competitiveness (CIPC). 🚀\n\n📅 Course Duration: March 16 – June 08\, 2024\n⏰ Schedule: 12 Saturdays\, 9:00 am – 4:00 pm\n📍 Venue: Onsite sessions at UP SOLAIR\, UP Diliman\n\nWhy Enroll in This Course?\n🎯 Tailored for Professionals: Specifically designed for IR practitioners\, HR officers/executives\, and academicians eager to enhance their skills in the dynamic realm of Industrial Relations and Human Resource Management (IRHR).\n📚 Cutting-Edge Curriculum: Delve into core competencies and emerging topics shaped by the fourth industrial revolution\, ensuring you stay ahead in this ever-evolving field.\n💼 Expert-Led Sessions: Learn from distinguished lecturers and professors from UP SOLAIR\, as well as industry experts in labor and industrial relations\, guaranteeing a rich and diverse learning experience.\n🏆 Interactive Learning: Engage in face-to-face stimulating discussions\, practical case studies\, and collaborative activities to deepen your understanding of IRHR practices\, culminating in a capstone project.\n\nInvestment Fee: P36\,000 per participant (limited slots available)\nInclusions: Meals (Lunch\, AM and PM snacks)\, comprehensive lecture handouts\, and a prestigious Certificate of Completion.\n\nFor inquiries\, contact: cipc.upd@up.edu.ph or visit https://solair.upd.edu.ph/\nDon’t miss this opportunity to invest in your professional growth. Join us at the forefront of IR and HR practices\, and let’s shape the future together!\nSource: UP School of Labor and Industrial Relations Facebook
URL:https://alum.up.edu.ph/event/20th-certificate-course-in-industrial-relations-and-human-resource-management/
END:VEVENT
BEGIN:VEVENT
DTSTART;TZID=UTC:20240417T080000
DTEND;TZID=UTC:20240605T170000
DTSTAMP:20260424T011344
CREATED:20240319T155815Z
LAST-MODIFIED:20240319T155907Z
UID:15683-1713340800-1717606800@alum.up.edu.ph
SUMMARY:"Vision and Occupation: Tools and Techniques for Visual Rehabilitation" Occupational Therapy Training Course
DESCRIPTION:Calling all VisMin OTs!\n\nUP Occupational Therapy\, in partnership with @Eye Can Occupational Therapy\, presents “Vision and Occupation: Tools and Techniques for Visual Rehabilitation” exclusively for you!\n\nExplore evaluation and treatment methods for visual impairments\, with hands-on patient interactions.\n\nEarn CPD units with PRC accreditation. Stay tuned on UP Occupational Therapy Facebook Page for updates. See you there!\n\nREGISTER NOW: https://bit.ly/VisualRehab2024\n\nSource: University of the Philippines Manila Facebook
URL:https://alum.up.edu.ph/event/vision-and-occupation-tools-and-techniques-for-visual-rehabilitation-2/
END:VEVENT
BEGIN:VEVENT
DTSTART;TZID=UTC:20240525T050000
DTEND;TZID=UTC:20240525T100000
DTSTAMP:20260424T011344
CREATED:20240502T184123Z
LAST-MODIFIED:20240502T184123Z
UID:16235-1716613200-1716631200@alum.up.edu.ph
SUMMARY:UPLB SATURDAY BAZAAR 2024 Batch 4
DESCRIPTION:UPLB SATURDAY BAZAAR 2024 Batch 4\nMay 4\, 11\, 18 and 25\nUPLB Freedom Park\, along Mariano M. Mondoñedo Ave.\n\nSource: UPLB Business Affairs Office Facebook
URL:https://alum.up.edu.ph/event/uplb-saturday-bazaar-2024-batch-4-4/
END:VEVENT
BEGIN:VEVENT
DTSTART;TZID=UTC:20240525T090000
DTEND;TZID=UTC:20240525T120000
DTSTAMP:20260424T011344
CREATED:20240513T172802Z
LAST-MODIFIED:20240513T172802Z
UID:16362-1716627600-1716638400@alum.up.edu.ph
SUMMARY:Children’s Pulp Painting Paper Making Workshop
DESCRIPTION:The UP Vargas Museum launches its summer art workshops for children this 2024! The art workshops for children is a program of creative activities for young people interested in the arts. Join us for a Pulp Painting Paper making Workshop with Francine Lima on May 18\, 25\, and June 01 from 9:00 am to 12:00 noon (all Saturdays).\n\nThe three-day paper making workshop for children covers introduction to pulp painting through hands-on activities where children can learn traditional and modern paper making using natural materials. Register to participate\, bit.ly/UPVMPaperMaking2024.\n\nRegistration fee is worth 3\,500php which covers all three sessions.\n\nFor inquiries\, email us at vargasmuseum@up.edu.ph.\n\nAbout the facilitator:\nFrancine Lima is an artist and paper maker based in Metro Manila. She is a graduate of Studio Arts (Painting) at the University of the Philippines College of Fine Arts. She has facilitated various paper making workshops for different communities such as with 98B Collaboratory\, Common Room PH\, and at Filipinas Heritage Library.\n\nSource: UP Vargas Museum Facebook
URL:https://alum.up.edu.ph/event/childrens-pulp-painting-paper-making-workshop-2/
END:VEVENT
BEGIN:VEVENT
DTSTART;TZID=UTC:20240525T090000
DTEND;TZID=UTC:20240525T120000
DTSTAMP:20260424T011344
CREATED:20240513T172823Z
LAST-MODIFIED:20240513T172823Z
UID:16364-1716627600-1716638400@alum.up.edu.ph
SUMMARY:Children’s Pulp Painting Paper Making Workshop
DESCRIPTION:The UP Vargas Museum launches its summer art workshops for children this 2024! The art workshops for children is a program of creative activities for young people interested in the arts. Join us for a Pulp Painting Paper making Workshop with Francine Lima on May 18\, 25\, and June 01 from 9:00 am to 12:00 noon (all Saturdays).\n\nThe three-day paper making workshop for children covers introduction to pulp painting through hands-on activities where children can learn traditional and modern paper making using natural materials. Register to participate\, bit.ly/UPVMPaperMaking2024.\n\nRegistration fee is worth 3\,500php which covers all three sessions.\n\nFor inquiries\, email us at vargasmuseum@up.edu.ph.\n\nAbout the facilitator:\nFrancine Lima is an artist and paper maker based in Metro Manila. She is a graduate of Studio Arts (Painting) at the University of the Philippines College of Fine Arts. She has facilitated various paper making workshops for different communities such as with 98B Collaboratory\, Common Room PH\, and at Filipinas Heritage Library.\n\nSource: UP Vargas Museum Facebook
URL:https://alum.up.edu.ph/event/childrens-pulp-painting-paper-making-workshop-3/
END:VEVENT
BEGIN:VEVENT
DTSTART;TZID=UTC:20240525T090000
DTEND;TZID=UTC:20240525T170000
DTSTAMP:20260424T011344
CREATED:20240520T160454Z
LAST-MODIFIED:20240520T160454Z
UID:16413-1716627600-1716656400@alum.up.edu.ph
SUMMARY:The Architect’s Eye f1.0: Aesthetic Experience of Architectural Spaces Through Photography
DESCRIPTION:Discover where architecture and photography converge! Join us for ‘The Architect’s Eye f1.0’ lecture workshop as we delve into the aesthetic essence of architectural spaces through the lens of photography.\n\nFeaturing the brilliant insights of our distinguished guest speakers!\n\nLet’s ignite creativity and deepen appreciation for the beauty that surrounds us.\n\nRegister here: https://bit.ly/TheArkisEye\n\nThis is a CPD-accredited lecture workshop where 3.5 points will be given to attendees.\n\nSource: UP Diliman College of Architecture Facebook
URL:https://alum.up.edu.ph/event/the-architects-eye-f1-0-aesthetic-experience-of-architectural-spaces-through-photography/
END:VEVENT
BEGIN:VEVENT
DTSTART;TZID=UTC:20240525T150000
DTEND;TZID=UTC:20240525T170000
DTSTAMP:20260424T011344
CREATED:20240523T153257Z
LAST-MODIFIED:20240523T153257Z
UID:16449-1716649200-1716656400@alum.up.edu.ph
SUMMARY:InciSe: Cutting through the Surface of Global Surgery
DESCRIPTION:🌍✂️ Get ready to dive deep into the world of global surgery with InciSe: Cutting through the Surface of Global Surgery\, the inaugural online webinar series by InciSioN Philippines!\n\nLearn more and register at https://bit.ly/InciSeWebinar.\n\nCurious on what we do in InciSioN Philippines? Learn about us at https://bit.ly/InciSioNPHConceptNote\nBe a member today: https://bit.ly/InciSioNMember\n\nIn partnership with\nIloilo Doctors’ College of Medicine Student Council\nAUF – Biological Sciences Society\nAteneo de Zamboanga University School of Medicine Student Council\nUP Surgical Society\nUniversity of St. La Salle – Pre-Med Society\nCSU Biology Majors Organization\nCSTSC Psychological Society\nPLM Guild of Allied Health Advocates\nAteneo School of Medicine and Public Health Student Council\nUP Medical Students for Social Responsibility\n\nSource: UP Medical Students for Social Responsibility Facebook
URL:https://alum.up.edu.ph/event/incise-cutting-through-the-surface-of-global-surgery/
END:VEVENT
END:VCALENDAR