BEGIN:VCALENDAR
VERSION:2.0
PRODID:-//UP Alumni Website - ECPv6.15.16//NONSGML v1.0//EN
CALSCALE:GREGORIAN
METHOD:PUBLISH
X-WR-CALNAME:UP Alumni Website
X-ORIGINAL-URL:https://alum.up.edu.ph
X-WR-CALDESC:Events for UP Alumni Website
REFRESH-INTERVAL;VALUE=DURATION:PT1H
X-Robots-Tag:noindex
X-PUBLISHED-TTL:PT1H
BEGIN:VTIMEZONE
TZID:UTC
BEGIN:STANDARD
TZOFFSETFROM:+0000
TZOFFSETTO:+0000
TZNAME:UTC
DTSTART:20230101T000000
END:STANDARD
END:VTIMEZONE
BEGIN:VEVENT
DTSTART;TZID=UTC:20240316T080000
DTEND;TZID=UTC:20240608T170000
DTSTAMP:20260423T170235
CREATED:20240229T160636Z
LAST-MODIFIED:20240229T160636Z
UID:15205-1710576000-1717866000@alum.up.edu.ph
SUMMARY:20th Certificate Course in Industrial Relations and Human Resource Management
DESCRIPTION:Click this link to pre-register: https://bit.ly/regIRHR20\nUnlock Your Potential in Industrial Relations and HR Management!\n\nEmbark on a transformative journey with the 20th Certificate Course in Industrial Relations (IR) and Human Resource Management (HR)\, presented by the UP Diliman School of Labor and Industrial Relations (SOLAIR) in collaboration with the Center for Industry Productivity and Competitiveness (CIPC). 🚀\n\n📅 Course Duration: March 16 – June 08\, 2024\n⏰ Schedule: 12 Saturdays\, 9:00 am – 4:00 pm\n📍 Venue: Onsite sessions at UP SOLAIR\, UP Diliman\n\nWhy Enroll in This Course?\n🎯 Tailored for Professionals: Specifically designed for IR practitioners\, HR officers/executives\, and academicians eager to enhance their skills in the dynamic realm of Industrial Relations and Human Resource Management (IRHR).\n📚 Cutting-Edge Curriculum: Delve into core competencies and emerging topics shaped by the fourth industrial revolution\, ensuring you stay ahead in this ever-evolving field.\n💼 Expert-Led Sessions: Learn from distinguished lecturers and professors from UP SOLAIR\, as well as industry experts in labor and industrial relations\, guaranteeing a rich and diverse learning experience.\n🏆 Interactive Learning: Engage in face-to-face stimulating discussions\, practical case studies\, and collaborative activities to deepen your understanding of IRHR practices\, culminating in a capstone project.\n\nInvestment Fee: P36\,000 per participant (limited slots available)\nInclusions: Meals (Lunch\, AM and PM snacks)\, comprehensive lecture handouts\, and a prestigious Certificate of Completion.\n\nFor inquiries\, contact: cipc.upd@up.edu.ph or visit https://solair.upd.edu.ph/\nDon’t miss this opportunity to invest in your professional growth. Join us at the forefront of IR and HR practices\, and let’s shape the future together!\nSource: UP School of Labor and Industrial Relations Facebook
URL:https://alum.up.edu.ph/event/20th-certificate-course-in-industrial-relations-and-human-resource-management/
END:VEVENT
BEGIN:VEVENT
DTSTART;TZID=UTC:20240417T080000
DTEND;TZID=UTC:20240605T170000
DTSTAMP:20260423T170235
CREATED:20240319T155815Z
LAST-MODIFIED:20240319T155907Z
UID:15683-1713340800-1717606800@alum.up.edu.ph
SUMMARY:"Vision and Occupation: Tools and Techniques for Visual Rehabilitation" Occupational Therapy Training Course
DESCRIPTION:Calling all VisMin OTs!\n\nUP Occupational Therapy\, in partnership with @Eye Can Occupational Therapy\, presents “Vision and Occupation: Tools and Techniques for Visual Rehabilitation” exclusively for you!\n\nExplore evaluation and treatment methods for visual impairments\, with hands-on patient interactions.\n\nEarn CPD units with PRC accreditation. Stay tuned on UP Occupational Therapy Facebook Page for updates. See you there!\n\nREGISTER NOW: https://bit.ly/VisualRehab2024\n\nSource: University of the Philippines Manila Facebook
URL:https://alum.up.edu.ph/event/vision-and-occupation-tools-and-techniques-for-visual-rehabilitation-2/
END:VEVENT
BEGIN:VEVENT
DTSTART;TZID=UTC:20240530T080000
DTEND;TZID=UTC:20240531T170000
DTSTAMP:20260423T170235
CREATED:20240526T220917Z
LAST-MODIFIED:20240526T220917Z
UID:16473-1717056000-1717174800@alum.up.edu.ph
SUMMARY:UP Public Service Summit
DESCRIPTION:In line with the University of the Philippines’ (UP) mandate “to lead as a public service university\,” UP Padayon Public Service Office\, the Office of the Faculty Regent\, and the All U.P. Academic Employees Union will hold the UP Public Service Summit on May 30-31\, 2024 in UP Diliman.\n\nThis is phase one of a series of consultative meetings and conversations about public service from the perspective of various stakeholders in UP from faculty\, staff\, and REPS from various CUs in order to create a more enabling environment for public service to thrive and flourish.\n\nThis month’s Summit will focus on faculty members and hopes to achieve the following objectives:\n•   To facilitate the sharing of values\, experiences\, and practices among public service institutions and organizations in the UP;\n•   To institutionalize public service in existing arrangements and processes in UP\, including promotion and tenure;\n•   To promote collaboration between and among public service institutions and organizations in UP\n\nThe activity is also in partnership with the Office of the UP President\, Office of the Vice President for Public Affairs\, Office of the Vice President for Academic Affairs\, and the All UP Academic Employees Union – Manila Chapter.\n\nUP\, Paglingkuran ang Sambayanan!\n\nSource: Opisina ng Faculty Regent Facebook
URL:https://alum.up.edu.ph/event/up-public-service-summit/
END:VEVENT
BEGIN:VEVENT
DTSTART;TZID=UTC:20240531T120000
DTEND;TZID=UTC:20240531T140000
DTSTAMP:20260423T170235
CREATED:20240501T163439Z
LAST-MODIFIED:20240530T170545Z
UID:16155-1717156800-1717164000@alum.up.edu.ph
SUMMARY:Health Updates Webinar #194 “Fetal Programming: Improving the Next Generation"
DESCRIPTION:The University of the Philippines\,\nin partnership with the UP Manila – National Institutes of Health\,\nand in cooperation with UP Philippine General Hospital and UP College of Medicine\,\nwould like to invite you to attend this webinar! \n  \nRegistration slots are limited to this HEALTH UPDATES webinar\nSo sign up NOW:\nbit.ly/HealthUpdatesWebinar194 \n  \nWebinar #194\nMay 31\, 2024 (Friday) 12nn\nFetal Programming: Improving the Next Generation\n\nPresenter:\nDR. VALERIE T. GUINTO\nChair\, Department of Obstetrics and Gynecology\nAsian Hospital and Medical Center\nPast President\, Philippine Society of Maternal and Fetal Medicine\n\nReactor:\nDR. MARIA ESTERLITA V. UY\nDirector\, Institute of Child Health and Human Development\nNational Institutes of Health\nUniversity of the Philippines Manila\n\n———————————————————–\n\nWebinar #194\nMay 31\, 2024 (Friday) 12nn\nFetal Programming: Improving the Next Generation\n\nFetal programming describes how the environment within the womb shapes an individual’s health trajectory throughout their entire life. We will discuss the intricate dance between maternal factors like nutrition\, stress\, and environmental exposures\, and their influence on the developing fetus.\n\nIn this webinar\, we will equip you with a deeper understanding of epigenetics\, the process by which modifiable gene expression patterns established in utero can impact disease susceptibility later in life. We will identify the critical windows of development\, those sensitive periods where interventions can have the most profound impact on a child’s future health. By the end of the episode\, the audience should have gained valuable insights into the importance of nutritional programming\, learning how to optimize maternal diet for fetal development and long-term health outcomes. Finally\, we will explore the often-overlooked role of environmental exposures\, helping you understand how toxins and pollutants can influence fetal programming.\n\nOur main presenter is Dr. Valerie T. Guinto\, who is currently the Chair of the Department of Obstetrics and Gynecology\, Asian Hospital and Medical Center. She also served as Past President of the Philippine Society of Maternal and Fetal Medicine. Our reactor is Dr. Maria Esterlita V. Uy\, who serves as the Director of the Institute of Child Health and Human Development at the UP Manila – National Institutes of Health.\n\nJoin us as we explore the latest research on fetal programming and its implications for clinical practice. Learn how you can empower your patients to optimize the health of future generations\, right from the very beginning.\n\nTogether\, let us learn about fetal programming and its potential to revolutionize healthcare for generations to come!
URL:https://alum.up.edu.ph/event/health-updates-webinar-194/
END:VEVENT
BEGIN:VEVENT
DTSTART;TZID=UTC:20240531T180000
DTEND;TZID=UTC:20240531T190000
DTSTAMP:20260423T170235
CREATED:20240407T155725Z
LAST-MODIFIED:20240407T155725Z
UID:15973-1717178400-1717182000@alum.up.edu.ph
SUMMARY:Be a Gurong Pahinungód Program
DESCRIPTION:MAGTURO. MAGLINGKOD. MAGING GURONG PAHINUNGÓD!\n\nOpen to UP alumni and graduating students (this second semester) of any course from any UP constituent unit!\n\nTeaching experience is NOT required — as long as you have the heart for service\, you can be a Gurong Pahinungód (GP)!\n\nThe GP program is a program of the UP Ugnayan ng Pahinungód\, the volunteer service arm of the University of the Philippines. We deploy UP graduates to underserved and marginalized communities as volunteer teachers. Learn more about the program at bit.ly/aboutgurongpahinungod\n\nRegister at bit.ly/becomeaUPGP to receive the Zoom link for the orientation. Check the photo for the orientation schedule\n\nSource: UP System Ugnayan ng Pahinungód Facebook
URL:https://alum.up.edu.ph/event/be-a-gurong-pahinungod-program-7/
END:VEVENT
END:VCALENDAR