BEGIN:VCALENDAR
VERSION:2.0
PRODID:-//UP Alumni Website - ECPv6.15.16//NONSGML v1.0//EN
CALSCALE:GREGORIAN
METHOD:PUBLISH
X-WR-CALNAME:UP Alumni Website
X-ORIGINAL-URL:https://alum.up.edu.ph
X-WR-CALDESC:Events for UP Alumni Website
REFRESH-INTERVAL;VALUE=DURATION:PT1H
X-Robots-Tag:noindex
X-PUBLISHED-TTL:PT1H
BEGIN:VTIMEZONE
TZID:UTC
BEGIN:STANDARD
TZOFFSETFROM:+0000
TZOFFSETTO:+0000
TZNAME:UTC
DTSTART:20230101T000000
END:STANDARD
END:VTIMEZONE
BEGIN:VEVENT
DTSTART;TZID=UTC:20240610T080000
DTEND;TZID=UTC:20240611T170000
DTSTAMP:20260423T092946
CREATED:20240602T220914Z
LAST-MODIFIED:20240602T220923Z
UID:16525-1718006400-1718125200@alum.up.edu.ph
SUMMARY:Philippine Genome Center Mindanao "Basic Molecular Biology Training"
DESCRIPTION:Join our upcoming Basic Molecular Biology Training this June 10-11\, 2024.\n\nLearn about:\n1. DNA Extraction\n2. DNA Quantification\n3. Gene Amplification via PCR\n4. Agarose Electrophoresis (AGE)\n5. Purification of PCR Product\n\nThe training will be conducted at the College of Science and Mathematics\, University of the Philippines Mindanao\n\nREGISTER HERE: https://bit.ly/BasicMolBio\n\nSource: Philippine Genome Center Mindanao Facebook
URL:https://alum.up.edu.ph/event/basic-molecular-biology-training/
END:VEVENT
BEGIN:VEVENT
DTSTART;TZID=UTC:20240611T120000
DTEND;TZID=UTC:20240611T130000
DTSTAMP:20260423T092946
CREATED:20240605T172126Z
LAST-MODIFIED:20240605T172126Z
UID:16578-1718107200-1718110800@alum.up.edu.ph
SUMMARY:IOL 101: The Role of IT Governance and Enterprise Architecture in Digital Health Development
DESCRIPTION:📣 FREE Webinar Series: IOL 101\n\nWant to know more about the Role of IT Governance and Enterprise Architecture in Digital Health Development?\n\nWe have another addition to the first leg of IOL 101 Webinar Series. Join the 10th session\, featuring Dr. Alvin Marcelo\, Director of UP Manila Standards & Interoperability Lab (UPM SILab).\n\n📅 June 11\, 2024\n⏰12:00 PM – 1:00 PM (Manila Time)\nHere’s what you can expect for the first leg of IOL101 Webinar Series\n✅ Insights from UPM SILab experts\n✅ Practical knowledge & real-world case studies\n✅ Q&A sessions to get your questions answered\n\nScan the QR code below to register or use the link\nhttps://bit.ly/IOL101WebinarSeries2024\n\nVisit our website and social media pages for updates:\n🔗 upmsilab.org\n🔗 facebook.com/upmsilab\n🔗 twitter.com/upm_silab\n🔗 linkedin.com/company/upmsilab\n\nSource: UPM SILab Facebook
URL:https://alum.up.edu.ph/event/iol-101-the-role-of-it-governance-and-enterprise-architecture-in-digital-health-development/
END:VEVENT
END:VCALENDAR