BEGIN:VCALENDAR
VERSION:2.0
PRODID:-//UP Alumni Website - ECPv6.15.16//NONSGML v1.0//EN
CALSCALE:GREGORIAN
METHOD:PUBLISH
X-WR-CALNAME:UP Alumni Website
X-ORIGINAL-URL:https://alum.up.edu.ph
X-WR-CALDESC:Events for UP Alumni Website
REFRESH-INTERVAL;VALUE=DURATION:PT1H
X-Robots-Tag:noindex
X-PUBLISHED-TTL:PT1H
BEGIN:VTIMEZONE
TZID:UTC
BEGIN:STANDARD
TZOFFSETFROM:+0000
TZOFFSETTO:+0000
TZNAME:UTC
DTSTART:20230101T000000
END:STANDARD
END:VTIMEZONE
BEGIN:VEVENT
DTSTART;TZID=UTC:20240613T080000
DTEND;TZID=UTC:20240613T120000
DTSTAMP:20260422T152833
CREATED:20240604T163037Z
LAST-MODIFIED:20240604T163037Z
UID:16557-1718265600-1718280000@alum.up.edu.ph
SUMMARY:Blood Donation Matters: A Back to Back Lay and Clinical Forum
DESCRIPTION:Dugo mo\, buhay ko!\n\nIniimbitahan ng UP-PGH Adult Hematology Division ang lahat sa: Blood Donation Matters: A Back to Back Lay and Clinical Forum.\n\nAng event na ito ay naglalayong magpahayag ng kaalaman tungkol sa pagdodonate ng dugo para sa kapwa. Kahit ikaw ay isang beteranong donor o nag-iisip pa laman na mag-donate\, ang conference na ito ay para sa iyo.\n\nMay mga special raffle prizes din kaming inihanda para sa mga participants! Kaya’t ano pa ang hinihintay? Mag-REGISTER na!\nIsang donasyon\, isang buhay. Mag-donate ng dugo at maging bayani!\n\nhttps://up-edu.zoom.us/…/WN_5DvI0Tz0RxKaRdlMnrj9mg…\n\nSource: UP PGH Department of Medicine Facebook
URL:https://alum.up.edu.ph/event/blood-donation-matters-a-back-to-back-lay-and-clinical-forum/
END:VEVENT
BEGIN:VEVENT
DTSTART;TZID=UTC:20240613T140000
DTEND;TZID=UTC:20240613T190000
DTSTAMP:20260422T152833
CREATED:20240606T162712Z
LAST-MODIFIED:20240606T162712Z
UID:16611-1718287200-1718305200@alum.up.edu.ph
SUMMARY:Ang Duyan ng Magiting: Screening and Talkback
DESCRIPTION:🎉 Ang Duyan ng Magiting directed by Dustin Celestino is finally back with a bigger stage!\nJoin us on June 13\, 2024 (Thurs) at the UP Film Center for two special screenings at 2PM and 5PM. Don’t miss this powerful film!\n\n—–\n🎬 Please be at the venue 1 hour early\n🎬 Ticket price: 150php\n🎬 No food and drinks allowed\n\nSource: UPFI Film Center Facebook
URL:https://alum.up.edu.ph/event/ang-duyan-ng-magiting-screening-and-talkback/
END:VEVENT
END:VCALENDAR