BEGIN:VCALENDAR
VERSION:2.0
PRODID:-//UP Alumni Website - ECPv6.15.16//NONSGML v1.0//EN
CALSCALE:GREGORIAN
METHOD:PUBLISH
X-WR-CALNAME:UP Alumni Website
X-ORIGINAL-URL:https://alum.up.edu.ph
X-WR-CALDESC:Events for UP Alumni Website
REFRESH-INTERVAL;VALUE=DURATION:PT1H
X-Robots-Tag:noindex
X-PUBLISHED-TTL:PT1H
BEGIN:VTIMEZONE
TZID:UTC
BEGIN:STANDARD
TZOFFSETFROM:+0000
TZOFFSETTO:+0000
TZNAME:UTC
DTSTART:20230101T000000
END:STANDARD
END:VTIMEZONE
BEGIN:VEVENT
DTSTART;TZID=UTC:20240614T120000
DTEND;TZID=UTC:20240614T130000
DTSTAMP:20260421T094739
CREATED:20240603T173157Z
LAST-MODIFIED:20240613T171853Z
UID:16533-1718366400-1718370000@alum.up.edu.ph
SUMMARY:Health Updates Webinar #196 Kangaroo Mother Care: "Pag-Asa ng mga Sanggol na Premature"
DESCRIPTION:The University of the Philippines\,\nin partnership with the UP Manila – National Institutes of Health\,\nand in cooperation with UP Philippine General Hospital and UP College of Medicine\,\nwould like to invite you to attend this webinar! \n  \nRegistration slots are limited to this HEALTH UPDATES webinar\nSo sign up NOW:\nbit.ly/HealthUpdatesWebinar196 \n  \nWebinar #196\nJune 14\, 2024 (Friday) 12nn\nKangaroo Mother Care\n“Pag-Asa ng mga Sanggol na Premature”\n\nPresenter:\nDR. MARIA ESTERLITA V. UY\nDirector\, Institute of Child Health and Human Development\nNational Institutes of Health\nUniversity of the Philippines Manila\n\nReactor:\nDR. FAY DE OCAMPO\nNeonatologist\, Division of Newborn Medicine\nDepartment of Pediatrics\nUP Philippine General Hospital\n\n———————————————————–\n\nWebinar #196\nJune 14\, 2024 (Friday) 12nn\nKangaroo Mother Care\n“Pag-Asa ng mga Sanggol na Premature”\n\nImagine a world where a premature baby\, fighting to regulate their temperature and breathing\, finds solace nestled on their mother’s chest\, her heartbeat a comforting rhythm. This is the power of kangaroo mother care. Kangaroo mother care or KMC is a practice where a newborn receives skin-to-skin contact with a caregiver\, is a cornerstone of neonatal care. But KMC is not just about skin-to-skin contact. It is about creating a haven for your tiniest patients.\n\nIn this week’s webinar\, we will talk about the science behind KMC\, specifically its impact on preterm and low-birth-weight infants. We will talk about how KMC optimizes thermoregulation\, respiratory stability\, lactation success\, and neurodevelopment. We will also examine the latest research on initiating KMC\, optimal positioning techniques\, and overcoming implementation hurdles. By the end of this webinar\, we hope the audience will be equipped with the knowledge and skills to confidently integrate KMC into their practice\, fostering the best possible outcomes for vulnerable newborns.\n\nOur main presenter is Dr. Maria Esterlita V. Uy\, who is currently the Director of the Institute of Child Health and Human Development at the UP Manila – National Institutes of Health. Our reactor is Dr. Fay de Ocampo\, who is a practicing neonatologist from the Division of Newborn Medicine\, UP-PGH Department of Pediatrics.\n\nImagine the impact we can have together\, fostering optimal outcomes and a nurturing environment for every newborn in our care!\n\nTogether\, we can stop preventable deaths.
URL:https://alum.up.edu.ph/event/health-updates-webinar-196/
END:VEVENT
BEGIN:VEVENT
DTSTART;TZID=UTC:20240614T120000
DTEND;TZID=UTC:20240614T130000
DTSTAMP:20260421T094739
CREATED:20240612T171633Z
LAST-MODIFIED:20240612T171633Z
UID:16641-1718366400-1718370000@alum.up.edu.ph
SUMMARY:"The Genome Revolution: Integrating Genomics in Clinical Practice"
DESCRIPTION:Please join us as Dr. Eva Maria C. Cutiongco-de la Paz lectures on “The Genome Revolution: Integrating Genomics in Clinical Practice” on Friday\, June 14\, 2024 at 12:00 to 1:00 pm. Dr. Eva Maria C. Cutiongco-de la Paz is the Executive Director of the National Institutes of Health. This webinar is part of the “10 for 10: A Special UP MED Webinars Series” by the UPCM Class of 1999.\n\nThank you!\n\nViewing platforms:\nvia ZOOM:\n[advance registration recommended]\nhttps://up-edu.zoom.us/…/WN_OyaZO_bdR5KpnU2L7umMkQ…\n\nvia UPM LIVESTREAM:\nhttps://livestream.upm.edu.ph\nVIA UP MED WEBINARS 2024 FACEBOOK: [membership required]\nhttps://www.facebook.com/groups/282159307396442\n\nSource: UP Med Webinars Facebook
URL:https://alum.up.edu.ph/event/the-genome-revolution-integrating-genomics-in-clinical-practice/
END:VEVENT
BEGIN:VEVENT
DTSTART;TZID=UTC:20240614T150000
DTEND;TZID=UTC:20240614T170000
DTSTAMP:20260421T094739
CREATED:20240612T153147Z
LAST-MODIFIED:20240612T153147Z
UID:16624-1718377200-1718384400@alum.up.edu.ph
SUMMARY:UPSE-PCED Friday Seminar in Partnership with the World Bank
DESCRIPTION:UPCOMING Friday Seminar Series in partnership with World Bank:\n\nDon’t miss our UPSE-PCED Seminar on:\n\n1. “World Development Report 2023: Migrants\, Refugees\, and Societies” by Çağlar Özden\, PhD; and\n\n2. “The Promise Of Global Skills Partnership For Win-Win Migration Outcomes” by Pablo Ariel Acosta\, PhD\nto be held on 14 June 2024 (Friday)\, 3:00 PM at Elizabeth Yu Gokongwei Room (Room 114) at the UP School of Economics and online through Zoom.\n\nPlease register using the links below or by scanning the QR codes.\nOnsite: https://bit.ly/4avjpQD\nZoom: https://bit.ly/44Xm0Sq\n\nWe’d love to see you there!\n\nSource: UP School of Economics Facebook
URL:https://alum.up.edu.ph/event/upse-pced-friday-seminar-in-partnership-with-the-world-bank/
END:VEVENT
BEGIN:VEVENT
DTSTART;TZID=UTC:20240614T160000
DTEND;TZID=UTC:20240614T170000
DTSTAMP:20260421T094739
CREATED:20240613T162220Z
LAST-MODIFIED:20240613T162220Z
UID:16673-1718380800-1718384400@alum.up.edu.ph
SUMMARY:Boys Love Media in Thailand: Celebrity\, Fans\, and Transnational Asian Queer Popular Culture
DESCRIPTION:SAWADEE KA! You into Thai BL? Thai Boys-Love (BL) series?\n\nYou’re in luck! Join and attend the public lecture\, Boys Love Media in Thailand: Celebrity\, Fans\, and Transnational Asian Queer Popular Culture! This is scheduled on 14 June 2024\, 4 PM at the Seminar Room\, UP Asian Center\, and via Zoom!\n\nView details and sign up: https://bit.ly/acboyslove\n\nOur featured speaker is Dr. Thomas Baudinette\, Senior Lecturer of International Studies at Macquarie University\, Australia\, with the reactor\, CMC Associate Professor Louie Jon A. Sánchez.\n\nSource: Asian Center\, UP Diliman Facebook
URL:https://alum.up.edu.ph/event/boys-love-media-in-thailand-celebrity-fans-and-transnational-asian-queer-popular-culture/
END:VEVENT
BEGIN:VEVENT
DTSTART;TZID=UTC:20240614T170000
DTEND;TZID=UTC:20240614T190000
DTSTAMP:20260421T094739
CREATED:20240520T162308Z
LAST-MODIFIED:20240520T162308Z
UID:16422-1718384400-1718391600@alum.up.edu.ph
SUMMARY:"Pharmacists Beyond Borders: Navigating Sustainability\, Wellness\, and Generative AI in Healthcare"
DESCRIPTION:🌟 Calling all Pharmacists\, UPCP alumni lifetime members and registered participants of the Homecoming! 🎓✨\n\nJoin us for an exclusive opportunity to expand your knowledge and network at our upcoming webinar\, “Pharmacists Beyond Borders: Navigating Sustainability\, Wellness\, and Generative AI in Healthcare\,” hosted by the Class of 1999! As a token of appreciation for your continued support\, this webinar is FREE for all UPCP alumni lifetime members and registered Homecoming participants.\n\nDon’t miss out on this chance to reconnect with classmates\, explore the future of pharmacy practice\, and gain valuable insights from industry experts.\n\nSecure your spot now: bit.ly/CPDREG_001\n\nSource: UP College of Pharmacy Facebook
URL:https://alum.up.edu.ph/event/pharmacists-beyond-borders-navigating-sustainability-wellness-and-generative-ai-in-healthcare/
END:VEVENT
END:VCALENDAR