BEGIN:VCALENDAR
VERSION:2.0
PRODID:-//UP Alumni Website - ECPv6.15.16//NONSGML v1.0//EN
CALSCALE:GREGORIAN
METHOD:PUBLISH
X-WR-CALNAME:UP Alumni Website
X-ORIGINAL-URL:https://alum.up.edu.ph
X-WR-CALDESC:Events for UP Alumni Website
REFRESH-INTERVAL;VALUE=DURATION:PT1H
X-Robots-Tag:noindex
X-PUBLISHED-TTL:PT1H
BEGIN:VTIMEZONE
TZID:UTC
BEGIN:STANDARD
TZOFFSETFROM:+0000
TZOFFSETTO:+0000
TZNAME:UTC
DTSTART:20230101T000000
END:STANDARD
END:VTIMEZONE
BEGIN:VEVENT
DTSTART;TZID=UTC:20240620T080000
DTEND;TZID=UTC:20240626T170000
DTSTAMP:20260422T212044
CREATED:20240612T165343Z
LAST-MODIFIED:20240612T165343Z
UID:16635-1718870400-1719421200@alum.up.edu.ph
SUMMARY:PASEA 2024: 7th Symposium of the ICTMD Study Group on the Performing Arts of Southeast Asia
DESCRIPTION:Everyone is invited to the “7th Symposium of the International Council for Traditions of Music and Dance (ICTMD) Study Group on the Performing Arts of Southeast Asia (PASEA)” on June 20–26 at the Grand Xing Imperial Hotel\, Iloilo City.\n\nThe ICTMD-PASEA’s themes this year are “Alternative Modernities and Evolving Identities in the Performing Arts of Southeast Asia” and “Beyond Analog: Navigating the Digital Landscape.”\n\nThe symposium is hosted by the UP Visayas\, UP Diliman (UPD)\, Center for West Visayan Studies\, UPD College of Music\, and the UPD Center for Ethnomusicology.\n\nFor more information\, visit www.pasea.upethnom.com.\n\nSource: https://upd.edu.ph/events/pasea-2024-7th-symposium
URL:https://alum.up.edu.ph/event/pasea-2024-7th-symposium-of-the-ictmd-study-group-on-the-performing-arts-of-southeast-asia/
END:VEVENT
BEGIN:VEVENT
DTSTART;TZID=UTC:20240624T100000
DTEND;TZID=UTC:20240624T120000
DTSTAMP:20260422T212044
CREATED:20240619T185637Z
LAST-MODIFIED:20240619T185637Z
UID:16761-1719223200-1719230400@alum.up.edu.ph
SUMMARY:Better Governance Forum No. 7: Emerging Trends in the Voluntary Sector Management
DESCRIPTION:Discover New Insights on Better Governance Forum No. 7: Emerging Trends in the Voluntary Sector Management\n\nThe UP NCPAG-CLCD will host the Better Governance Forum No. 5 on Emerging Trends in Voluntary Sector Management on June 24\, 2024\, 10:00 am via Zoom.\n\nThe University of the Philippines National College of Public Administration (UP NCPAG) has been at the forefront of promoting volunteerism and empowering volunteer organizations\, and since its inception\, the Center for Leadership\, Citizenship and Democracy (CLCD) has been dedicated to advancing leadership and citizenship studies\, fostering stronger ties between the academia and civil society.\n\nJoin us and learn with our notable panel presenters:\nMr. Donald James D. Gawe\, Executive Director of Philippine National Volunteer Service Coordinating Agency\nMr. Manuel Alcantara Abinales\, Founder and President Buklod\, Tao\, Inc\nMr. Michael A. Gatela\, Director of Pahinungod UP Mindanao\nDr. Maria Faina Lucero-Diola\, Professor\, National College of Public Administration and Governance\, UP Diliman\n\nYou may now pre-register through this link: https://docs.google.com/…/1FAIpQLSfLAEQYh…/viewform…\n\nFor inquiries and collaborations with the CLCD\, you may contact them at (92) 8981-8500 local 4158 or email (clcdncpag.upd@up.edu.ph).\n\nSource: UP-NCPAG Facebook
URL:https://alum.up.edu.ph/event/better-governance-forum-no-7-emerging-trends-in-the-voluntary-sector-management/
END:VEVENT
BEGIN:VEVENT
DTSTART;TZID=UTC:20240624T140000
DTEND;TZID=UTC:20240624T160000
DTSTAMP:20260422T212044
CREATED:20240619T183123Z
LAST-MODIFIED:20240619T183140Z
UID:16757-1719237600-1719244800@alum.up.edu.ph
SUMMARY:Lead With Empathy: Creating a Safer and More Productive Workplace
DESCRIPTION:The UP ISSI through the Communities of Practice for Entrepreneurship (COPE) Program in partnership with Ask Lex PH Academy and ARISE Philippines invites you to our FREE webinar this month of June.\n\nLEAD WITH EMPATHY:\nCreating a Safer and More Productive Workplace\n24 June 2024\, Monday\n2:00pm to 4:00pm\n\nThis session will give you practical insights how empathy can help you as leaders to create a more safe working environment while promoting productivity and efficiency. Furthermore\, this session will provide the essential attributes of empathetic leaders and give some actual use cases to refer to.\n\nRegister now to reserve your slot at: bit.ly/upissiCOPE2024\n\nSource: UP Institute for Small-Scale Industries Facebook
URL:https://alum.up.edu.ph/event/lead-with-empathy-creating-a-safer-and-more-productive-workplace/
END:VEVENT
END:VCALENDAR