BEGIN:VCALENDAR
VERSION:2.0
PRODID:-//UP Alumni Website - ECPv6.15.16//NONSGML v1.0//EN
CALSCALE:GREGORIAN
METHOD:PUBLISH
X-WR-CALNAME:UP Alumni Website
X-ORIGINAL-URL:https://alum.up.edu.ph
X-WR-CALDESC:Events for UP Alumni Website
REFRESH-INTERVAL;VALUE=DURATION:PT1H
X-Robots-Tag:noindex
X-PUBLISHED-TTL:PT1H
BEGIN:VTIMEZONE
TZID:UTC
BEGIN:STANDARD
TZOFFSETFROM:+0000
TZOFFSETTO:+0000
TZNAME:UTC
DTSTART:20230101T000000
END:STANDARD
END:VTIMEZONE
BEGIN:VEVENT
DTSTART;TZID=UTC:20240708T080000
DTEND;TZID=UTC:20240709T170000
DTSTAMP:20260422T180338
CREATED:20240618T220053Z
LAST-MODIFIED:20240618T220053Z
UID:16742-1720425600-1720544400@alum.up.edu.ph
SUMMARY:UPV 45th Commencement Exercises
DESCRIPTION:Celebrating achievements and new chapters 🌻\n\nThe University of the Philippines Visayas’ 45th Commencement Exercises will take place on July 8-9\, 2024.\n\nDetails will be announced soon.\n\nSource: University of the Philippines Visayas Facebook
URL:https://alum.up.edu.ph/event/upv-45th-commencement-exercises/
END:VEVENT
BEGIN:VEVENT
DTSTART;TZID=UTC:20240708T080000
DTEND;TZID=UTC:20240712T170000
DTSTAMP:20260422T180338
CREATED:20240226T171114Z
LAST-MODIFIED:20240226T171114Z
UID:15130-1720425600-1720803600@alum.up.edu.ph
SUMMARY:EXECUTIVE COURSE ON HOSPITAL ADMINISTRATION
DESCRIPTION:EXECUTIVE COURSE ON HOSPITAL ADMINISTRATION\n8 – 12 July 2024\n\nThe Department of Health Policy and Administration (DHPA)\, College of Public Health (CPH)\, University of the Philippines Manila (UPM) will be conducting a face-to-face short course training on Executive Course on Hospital Administration from 8 – 12 July 2024 at Rosh Hotel Manila\n\nThe course is designed to meet the needs of top and middle executives of private and government hospitals in raising their level of performance and capabilities in the context of today’s challenging and changing world.\n\nPlease register here: http://tinyurl.com/ECHAJuly2024\n\nThe deadline for payment is on 28 June 2024\n\nREGISTRATION FEE: PhP 15\,000.00\n\nPAYMENT CAN BE MADE THROUGH:\nBank: Bank of the Philippine Islands\, Unlad Condominium\, Malvar cor Taft Ave. Sts.\, Ermita\, Manila\nAccount No.: 3061-0738-67\nAccount Name: UP CPH Foundation Inc.\n\nPlease email us the scanned copy of the deposit slip/screenshot of the online transaction. The participant’s accommodation is not included in the registration fee.\n\nPlease let us know if you have any questions. Thank you.\n\nSource: College of Public Health\, University of the Philippines Facebook
URL:https://alum.up.edu.ph/event/executive-course-on-hospital-administration/
END:VEVENT
BEGIN:VEVENT
DTSTART;TZID=UTC:20240709T080000
DTEND;TZID=UTC:20240709T170000
DTSTAMP:20260422T180338
CREATED:20240401T221559Z
LAST-MODIFIED:20240401T221559Z
UID:15875-1720512000-1720544400@alum.up.edu.ph
SUMMARY:45th UP Visayas Commencement Exercises
DESCRIPTION:The new schedule of the 45th UP Visayas Commencement Exercises is on 09 July 2024.
URL:https://alum.up.edu.ph/event/45th-up-visayas-commencement-exercises/
END:VEVENT
BEGIN:VEVENT
DTSTART;TZID=UTC:20240709T130000
DTEND;TZID=UTC:20240709T143000
DTSTAMP:20260422T180338
CREATED:20240704T221025Z
LAST-MODIFIED:20240704T221025Z
UID:16895-1720530000-1720535400@alum.up.edu.ph
SUMMARY:A Symposium on Forensic Science and Legal Processes
DESCRIPTION:“The body in eternal sleep never wakes up but speaks the truth than the the one waking up at every periodic moment” – Pragya Santra 🔍\n\nIn examining death\, forensic science has proven to be a vital arm in identifying the cause and manner of unexplainable deaths\, as well as to the prevention of wrongful convictions – proving to be the keys to unlocking truths in unresolved cases. 🔐\n\nPresented by the Department of Behavioral Sciences\, come along on July 9\, 2024\, from 1:00 to 5:00 PM in the UP Manila Theater College of Arts and Science\, in a symposium titled: Balancing Rights and Responsibilities: A Symposium on Forensic Science and Legal Processes.🕵️‍♂️\n\nJoining us for an enlightening afternoon are esteemed speakers and experts who will discuss the intersection of forensic science\, judicial processes\, and the critical issue of ensuring justice in a symposium.\n\nYou may register through this link:\nbit.ly/LegalForensicSymposium_Register\n\nWe look forward to seeing you there!\nCaption by: Maria Kathleen Mendoza\nPub by: Seijiro Ogata and Guia Espiritu\n\nSource: UP Behavioral Science Society Facebook
URL:https://alum.up.edu.ph/event/a-symposium-on-forensic-science-and-legal-processes/
END:VEVENT
END:VCALENDAR