BEGIN:VCALENDAR
VERSION:2.0
PRODID:-//UP Alumni Website - ECPv6.15.16//NONSGML v1.0//EN
CALSCALE:GREGORIAN
METHOD:PUBLISH
X-WR-CALNAME:UP Alumni Website
X-ORIGINAL-URL:https://alum.up.edu.ph
X-WR-CALDESC:Events for UP Alumni Website
REFRESH-INTERVAL;VALUE=DURATION:PT1H
X-Robots-Tag:noindex
X-PUBLISHED-TTL:PT1H
BEGIN:VTIMEZONE
TZID:UTC
BEGIN:STANDARD
TZOFFSETFROM:+0000
TZOFFSETTO:+0000
TZNAME:UTC
DTSTART:20230101T000000
END:STANDARD
END:VTIMEZONE
BEGIN:VEVENT
DTSTART;TZID=UTC:20240715T090000
DTEND;TZID=UTC:20240715T120000
DTSTAMP:20260422T165705
CREATED:20240701T174504Z
LAST-MODIFIED:20240701T174504Z
UID:16858-1721034000-1721044800@alum.up.edu.ph
SUMMARY:LINANGAN: Teaching Gender and Sexuality: Notes from SOSC 3 and Pan Pil 19
DESCRIPTION:Teaching Gender and Sexuality: Notes from SOSC 3 and Pan Pil 19\n15 July 2024\, 9am to 12pm\n\nLINANGAN’s second webinar on gender mainstreaming shall focus on the pedagogy of GE courses SOSC 3: Exploring Gender and Sexuality and Pan Pil 19: Sexwalidad\, Kasarian at Panitikan. The webinar aims to present how these two courses meet GE competencies through the lens of gender and sexuality\, as well as to discuss opportunities and challenges of incorporating gender sensitivity and inclusivity in GE courses that are not specific to the study of gender. Participants are expected to gain knowledge and insights on how they can incorporate gender mainstreaming in the pedagogy.\n\nInterested participants may register through this link: https://bit.ly/4b5bs5c\n\nSee you on 15 July 2024 at 9am!\n\nSource: General Education Center Diliman Facebook
URL:https://alum.up.edu.ph/event/linangan-teaching-gender-and-sexuality-notes-from-sosc-3-and-pan-pil-19/
END:VEVENT
BEGIN:VEVENT
DTSTART;TZID=UTC:20240715T100000
DTEND;TZID=UTC:20240715T120000
DTSTAMP:20260422T165705
CREATED:20240702T184705Z
LAST-MODIFIED:20240702T184705Z
UID:16878-1721037600-1721044800@alum.up.edu.ph
SUMMARY:HARVESTING SUCCESS: Innovations in Agribusiness Practices
DESCRIPTION:UPLB Department of Agribusiness Management and Entrepreneurship\, UPLB College of Economics and Management\, University of the Philippines Los Baños invites everyone to the 2024 Midyear Agribusiness Forum.\n\nHARVESTING SUCCESS:\nInnovations in Agribusiness Practices\nThe online seminar delivered via Zoom will feature two innovative experts in their respective fields\, Dr. Katsumori Hatanaka and Dr. Ronel Pangan\, on 15 July 2024 (Monday)\, 10:00AM-12:00PM.\n\nInterested participants may register using this link bit.ly/HarvestSuccess to access the credentials.\n\nSource: UPLB Department of Agribusiness Management and Entrepreneurship Facebook
URL:https://alum.up.edu.ph/event/harvesting-success-innovations-in-agribusiness-practices/
END:VEVENT
END:VCALENDAR