BEGIN:VCALENDAR
VERSION:2.0
PRODID:-//UP Alumni Website - ECPv6.15.16//NONSGML v1.0//EN
CALSCALE:GREGORIAN
METHOD:PUBLISH
X-WR-CALNAME:UP Alumni Website
X-ORIGINAL-URL:https://alum.up.edu.ph
X-WR-CALDESC:Events for UP Alumni Website
REFRESH-INTERVAL;VALUE=DURATION:PT1H
X-Robots-Tag:noindex
X-PUBLISHED-TTL:PT1H
BEGIN:VTIMEZONE
TZID:UTC
BEGIN:STANDARD
TZOFFSETFROM:+0000
TZOFFSETTO:+0000
TZNAME:UTC
DTSTART:20230101T000000
END:STANDARD
END:VTIMEZONE
BEGIN:VEVENT
DTSTART;TZID=UTC:20240718T080000
DTEND;TZID=UTC:20240720T170000
DTSTAMP:20260420T004249
CREATED:20240716T230239Z
LAST-MODIFIED:20240716T230239Z
UID:16972-1721289600-1721494800@alum.up.edu.ph
SUMMARY:The 5th SEASIA Biennial International Conference 2024
DESCRIPTION:The public is welcome to attend the 5th Southeast Asian Studies in Asia (SEASIA) Biennial International Conference\, which will be held from 18-20 July 2024 at the Asian Center and at the School of Economics\, both at the University of the Philippines Diliman. Registration fees apply\, but seating is first-come\, first-served. Online registration will close on 16 July 2024\, while onsite registration will end on 18 July 2024.\n \nPAY AND REGISTER\n\nWith the theme\, “De/Centering Southeast Asia\,” the conference features the following: \n\nFifty-one (51) panels on various disciplines and topics\nThree (3) keynote lectures\nTwo (2) book launches\nOne (1) plenary roundtable\nOne (1) film festival (CSEAS)\nOne (1) special film screening (UP Center for Ethnomusicology)\n\n\nView full list of panels (Day 1 • Day 2 • Day 3)\n\nPlenary Roundtable: De/Centering Southeast Asian Studies and the Search for Relevance\n\nThe roundtable will be held on 20 July 2024\, 3:00 pm\, UP School of Economics Auditorium. The speakers are: \n\nPing Tjin Thum (New Naratif)\nCaroline Hau\, Ph.D. (Kyoto University)\nSyed Farid Alatas\, Ph.D. (National University of Singapore)\n\n\nKeynote/Plenary Speakers\n\nOPENING PROGRAM\n \n\nMa. Serena I. Diokno\, PhD (July 18) (Guest of Honor)\nProfessor Emeritus\, Department of History\nUniversity of the Philippines\n\n\nKEYNOTE LECTURE\n \n\nProf. Syed Farid Alatas\, PhD (July 19)\nNational University of Singapore \nRamon P. Santos (July 20)\nNational Artist for Music\nProfessor Emeritus\, College of Music\nUniversity of the Philippines\n\n\nThe Opening Program and Keynote Lectures start at 9 am\, and will be held at the Asian Center GT-Toyota Auditorium.
URL:https://alum.up.edu.ph/event/the-5th-seasia-biennial-international-conference-2024/
END:VEVENT
BEGIN:VEVENT
DTSTART;TZID=UTC:20240718T140000
DTEND;TZID=UTC:20240718T153000
DTSTAMP:20260420T004249
CREATED:20240717T170419Z
LAST-MODIFIED:20240717T170419Z
UID:16977-1721311200-1721316600@alum.up.edu.ph
SUMMARY:Diving Into the Unknown: Causes and Consequences of the Unsuspected Intraspecific Genome Size Diversity of Marine Organisms
DESCRIPTION:Not all genome sizes are created equal — even for individuals of the same species. Through studies on corals and sponges\, Dr. Jean-François Flot of the Université libre de Bruxelles explores how to account for these intraspecific differences in the laboratory.\n\nJoin us for Dr. Flot’s talk on “Diving into the unknown: causes and consequences of the unsuspected intraspecific genome size diversity of marine organisms” on July 18\, Thursday\, 2PM at the MSI AVR.\n\nOnsite attendees may walk in. Online attendees must register through: bit.ly/MSIFlot\n\nSource: UP Marine Science Institute Facebook page
URL:https://alum.up.edu.ph/event/diving-into-the-unknown-causes-and-consequences-of-the-unsuspected-intraspecific-genome-size-diversity-of-marine-organisms/
END:VEVENT
END:VCALENDAR