BEGIN:VCALENDAR
VERSION:2.0
PRODID:-//UP Alumni Website - ECPv6.15.16//NONSGML v1.0//EN
CALSCALE:GREGORIAN
METHOD:PUBLISH
X-WR-CALNAME:UP Alumni Website
X-ORIGINAL-URL:https://alum.up.edu.ph
X-WR-CALDESC:Events for UP Alumni Website
REFRESH-INTERVAL;VALUE=DURATION:PT1H
X-Robots-Tag:noindex
X-PUBLISHED-TTL:PT1H
BEGIN:VTIMEZONE
TZID:UTC
BEGIN:STANDARD
TZOFFSETFROM:+0000
TZOFFSETTO:+0000
TZNAME:UTC
DTSTART:20230101T000000
END:STANDARD
END:VTIMEZONE
BEGIN:VEVENT
DTSTART;TZID=UTC:20240720T080000
DTEND;TZID=UTC:20240722T170000
DTSTAMP:20260423T064659
CREATED:20240708T165324Z
LAST-MODIFIED:20240708T165324Z
UID:16911-1721462400-1721667600@alum.up.edu.ph
SUMMARY:Basic Molecular Biology Techniques Training
DESCRIPTION:There are only a few slots remaining for the Basic Molecular Biology Techniques Training hosted by the UPD NIMBB in July 2024.\nRegistration will close on 01 April 2024 (Monday). Accepted participants will be notified via email by 08 April 2024 (Monday).\n\nRegister via tinyurl.com/NIMBBTrainingJul2024.\n\nDo not miss the opportunity to get firsthand experience in working with bacteria\, insects\, plants\, and animals at a molecular level.\n\nSource: National Institute of Molecular Biology and Biotechnology UP Diliman Facebook page
URL:https://alum.up.edu.ph/event/basic-molecular-biology-techniques-training-2/
END:VEVENT
END:VCALENDAR