BEGIN:VCALENDAR
VERSION:2.0
PRODID:-//UP Alumni Website - ECPv6.15.16//NONSGML v1.0//EN
CALSCALE:GREGORIAN
METHOD:PUBLISH
X-WR-CALNAME:UP Alumni Website
X-ORIGINAL-URL:https://alum.up.edu.ph
X-WR-CALDESC:Events for UP Alumni Website
REFRESH-INTERVAL;VALUE=DURATION:PT1H
X-Robots-Tag:noindex
X-PUBLISHED-TTL:PT1H
BEGIN:VTIMEZONE
TZID:UTC
BEGIN:STANDARD
TZOFFSETFROM:+0000
TZOFFSETTO:+0000
TZNAME:UTC
DTSTART:20230101T000000
END:STANDARD
END:VTIMEZONE
BEGIN:VEVENT
DTSTART;TZID=UTC:20240725T080000
DTEND;TZID=UTC:20240726T170000
DTSTAMP:20260422T103050
CREATED:20240702T170743Z
LAST-MODIFIED:20240702T170804Z
UID:16867-1721894400-1722013200@alum.up.edu.ph
SUMMARY:UP-PGH Department of Emergency Medicine 23rd Annual Postgraduate Course “EMPOWER From Triage to Triumph: Unleashing the Power of Emergency Medicine Excellence”
DESCRIPTION:The UP-PGH Department of Emergency Medicine invites you to its 23rd Annual Postgraduate Course entitled “EMPOWER From Triage to Triumph: Unleashing the Power of Emergency Medicine Excellence”.\n\n🗓️ July 25-26\, 2024\, 8:00 AM-5:00 PM\n📍 Batangas Country Club\, Batangas City\n🪪 10 PRC CPD units for medicine\n✅ PRC CPD units for nursing applied\n⏰ DOH official business time applied\n\nInteractive discussion will be spearheaded by experts in the field of emergency medicine in the morning\, followed by practical and engaging workshops in the afternoon.\n\n🐣📝 EARLY BIRD REGISTRATION IS UNTIL JULY 1\, 2024. There are only a few slots left\, so hurry! Sign up now at https://tinyurl.com/PGH-DEM-EMPOWER\n\nSource: University of the Philippines-Philippine General Hospital Facebook
URL:https://alum.up.edu.ph/event/up-pgh-department-of-emergency-medicine-23rd-annual-postgraduate-course-empower-from-triage-to-triumph-unleashing-the-power-of-emergency-medicine-excellence/
END:VEVENT
BEGIN:VEVENT
DTSTART;TZID=UTC:20240725T160000
DTEND;TZID=UTC:20240725T170000
DTSTAMP:20260422T103050
CREATED:20240708T165645Z
LAST-MODIFIED:20240708T165645Z
UID:16914-1721923200-1721926800@alum.up.edu.ph
SUMMARY:Resilience Live: Exploring Geoheritage for Resilience Building
DESCRIPTION:How do we design spaces to foster urban resilience?\n\nExplore these questions with Ar. Geolette Marie Esguerra on Resilience Live Episode 11!\n\nRegister now! Click the link or scan the QR code\nhttps://up-edu.zoom.us/…/tJcsd…\n\nSource: UP Resilience Institute Facebook page
URL:https://alum.up.edu.ph/event/resilience-live-exploring-geoheritage-for-resilience-building-4/
END:VEVENT
END:VCALENDAR