BEGIN:VCALENDAR
VERSION:2.0
PRODID:-//UP Alumni Website - ECPv6.15.16//NONSGML v1.0//EN
CALSCALE:GREGORIAN
METHOD:PUBLISH
X-WR-CALNAME:UP Alumni Website
X-ORIGINAL-URL:https://alum.up.edu.ph
X-WR-CALDESC:Events for UP Alumni Website
REFRESH-INTERVAL;VALUE=DURATION:PT1H
X-Robots-Tag:noindex
X-PUBLISHED-TTL:PT1H
BEGIN:VTIMEZONE
TZID:UTC
BEGIN:STANDARD
TZOFFSETFROM:+0000
TZOFFSETTO:+0000
TZNAME:UTC
DTSTART:20230101T000000
END:STANDARD
END:VTIMEZONE
BEGIN:VEVENT
DTSTART;VALUE=DATE:20240804
DTEND;VALUE=DATE:20240819
DTSTAMP:20260422T183047
CREATED:20240717T181410Z
LAST-MODIFIED:20240717T181410Z
UID:16994-1722729600-1724025599@alum.up.edu.ph
SUMMARY:2024 UPV HOMECOMING CALENDAR OF EVENTS
DESCRIPTION:Here are the 2024 UPV Homecoming events.\n\nBrought to you by UPV OAR\, and our partner organizations:\nUPAA Iloilo Chapter\, iAmUPHi\, UPV College of Management\, UPV CAS Division of Social Sciences\, UPV SoTech Alumni Association and UPV School of Technology\, UP SILAK SILAB Alumni Association\, UPV Scintilla Jvris and Stella Juris Alumni Association\, UP Validus Amicitia Alumni Association\, UP Hamili Hamilia Alumni Association\, and Alpha Phi Omega – Kappa Gamma Alumni Association.\n\nSee you all soon!
URL:https://alum.up.edu.ph/event/2024-upv-homecoming-calendar-of-events/
END:VEVENT
BEGIN:VEVENT
DTSTART;TZID=UTC:20240806T080000
DTEND;TZID=UTC:20240820T170000
DTSTAMP:20260422T183047
CREATED:20240805T165130Z
LAST-MODIFIED:20240805T170037Z
UID:17135-1722931200-1724173200@alum.up.edu.ph
SUMMARY:"Beyond Science 2" art exhibit
DESCRIPTION:The Department of Clinical Epidemiology and the Institute of Clinical Epidemiology are celebrating the 40th year of clinical epidemiology in the Philippines. This year’s theme is ‘Advancing Equity in the Evolving Health Landscape.’ One of the highlights of the celebration is an art exhibit from September 6 to 20 at the UPCM Calderon Hall lobby. This exhibit\, titled “Beyond Science 2\,” will feature works by students\, faculty\, alumni\, staff\, and their families and friends in various art forms such as visual arts\, bonsai\, arts and crafts\, photography\, music\, and literary pieces.\n\nJoin us for a series of art workshops showcasing visual art\, bonsai\, and arts and crafts. This event is a fundraising project for the promotion of research for better health.\n\nRegistration is Php 2\,000.00 per workshop (workshop kits and light snacks included).\n\nWatercolor Workshop – https://bit.ly/BS2WatercolorWorkshop\nBasic Bonsai Workshop – https://bit.ly/BS2BasicBonsaiWorkshop\nPaper Quilling Workshop – https://bit.ly/BS2PaperQuillingWorkshop\nPaper Flower Workshop – https://bit.ly/BS2PaperFlowerWorkshop\n\nSource: University of the Philippines Manila Facebook
URL:https://alum.up.edu.ph/event/beyond-science-2-art-exhibit/
END:VEVENT
BEGIN:VEVENT
DTSTART;TZID=UTC:20240813T130000
DTEND;TZID=UTC:20240813T153000
DTSTAMP:20260422T183047
CREATED:20240722T180343Z
LAST-MODIFIED:20240722T180343Z
UID:17049-1723554000-1723563000@alum.up.edu.ph
SUMMARY:Research Dissemination Forum: Research Grant 2023
DESCRIPTION:Everyone is invited to the Research Dissemination Forum: Research Grant 2023 on Aug. 13\, 2024 Tues 1pm to 3:30pm at the conference room of the UP Center for Women’s and Gender Studies\, Magsaysay Avenue corner Ylanan Street\, University of the Philippines Diliman\, Quezon City.\n\nRegister via https://tinyurl.com/RDF2024\n\nThe featured research projects are:\nThe Face of Menopause: Portraits of the Menopausal Filipino Women by Liza Aleria Cabrera and Brenda G. Caballero\nWomen Empowerment and Deprivation in the Philippines: Trends and Comparisons using DHS Data by John Carlo Daquis and Alliah Yvonne B. Bobier\n\nRemoving Invisibility Cloak: Accounting Roles and Impacts of Women in Philippine Fisheries and Its Sustainability by Abigail A. Garcia and Jonathan A. Anticamara\n\nDevelopment of a Counseling Framework for Mothers of Children with Perinatally Acquired HIV Disease by Queenie R. Ridulme and Paul Froilan U. Garma\n\nRead the presentation abstracts here: https://tinyurl.com/RDFAbstracts2024\n\nSource: UP Center for Women’s and Gender Studies Facebook
URL:https://alum.up.edu.ph/event/research-dissemination-forum-research-grant-2023/
END:VEVENT
BEGIN:VEVENT
DTSTART;TZID=UTC:20240813T180000
DTEND;TZID=UTC:20240813T200000
DTSTAMP:20260422T183047
CREATED:20240806T170009Z
LAST-MODIFIED:20240806T170009Z
UID:17162-1723572000-1723579200@alum.up.edu.ph
SUMMARY:Violin and Piano Recital: Yin-Chou Daniel Hung and Michelle Nicolasora
DESCRIPTION:VIOLIN AND PIANO RECITAL: Dr. Yin-Chou Daniel Hung and Prof. Michelle Nicolasora on Tuesday\, August 13\, 6pm at Aldaba Hall. FREE ADMISSION!\nViolinist Dr. Yin-Chou Daniel Hung earned a doctoral degree in violin performance at the Eastman School of Music.\n\nDr. Hung studied with the legendary Ukrainian violinist Oleh Krysa\, the winner of Tschaikovsky\, Paganini\, Montreal\, and Winieawski international violin competitions\, and served as his teaching assistant for six years. He holds Doctoral and Master’s degrees at the Eastman School in Violin Performance.\n\nMichelle Nicolasora\, an Assistant Professor 3 at the UP College of Music’s Keyboard Department\, holds a Doctor of Musical Arts in Collaborative Piano from the University of Memphis\, a Master of Music in Piano Performance\, and a Bachelor of Music in Piano Performance from the University of the Philippines. She has taught at the Asian Institute for Liturgy and Music and St. Paul University College of Music and Performing Arts. As a former staff pianist for the UP Voice\, Music Theater\, and Dance Department and a member of the Lozada Piano Trio\, Michelle regularly assists students in recitals\, auditions\, and competitions and collaborates with various performers.\n\nWatch their FREE recital on Tuesday\, August 13\, 6pm\, at the Aldaba Recital Hall\, UP Theater\, UP Diliman.\n\nSource: UP Kolehiyo ng Musika Facebook
URL:https://alum.up.edu.ph/event/violin-and-piano-recital-yin-chou-daniel-hung-and-michelle-nicolasora/
END:VEVENT
END:VCALENDAR