BEGIN:VCALENDAR
VERSION:2.0
PRODID:-//UP Alumni Website - ECPv6.15.16//NONSGML v1.0//EN
CALSCALE:GREGORIAN
METHOD:PUBLISH
X-WR-CALNAME:UP Alumni Website
X-ORIGINAL-URL:https://alum.up.edu.ph
X-WR-CALDESC:Events for UP Alumni Website
REFRESH-INTERVAL;VALUE=DURATION:PT1H
X-Robots-Tag:noindex
X-PUBLISHED-TTL:PT1H
BEGIN:VTIMEZONE
TZID:UTC
BEGIN:STANDARD
TZOFFSETFROM:+0000
TZOFFSETTO:+0000
TZNAME:UTC
DTSTART:20230101T000000
END:STANDARD
END:VTIMEZONE
BEGIN:VEVENT
DTSTART;VALUE=DATE:20240804
DTEND;VALUE=DATE:20240819
DTSTAMP:20260422T142615
CREATED:20240717T181410Z
LAST-MODIFIED:20240717T181410Z
UID:16994-1722729600-1724025599@alum.up.edu.ph
SUMMARY:2024 UPV HOMECOMING CALENDAR OF EVENTS
DESCRIPTION:Here are the 2024 UPV Homecoming events.\n\nBrought to you by UPV OAR\, and our partner organizations:\nUPAA Iloilo Chapter\, iAmUPHi\, UPV College of Management\, UPV CAS Division of Social Sciences\, UPV SoTech Alumni Association and UPV School of Technology\, UP SILAK SILAB Alumni Association\, UPV Scintilla Jvris and Stella Juris Alumni Association\, UP Validus Amicitia Alumni Association\, UP Hamili Hamilia Alumni Association\, and Alpha Phi Omega – Kappa Gamma Alumni Association.\n\nSee you all soon!
URL:https://alum.up.edu.ph/event/2024-upv-homecoming-calendar-of-events/
END:VEVENT
BEGIN:VEVENT
DTSTART;TZID=UTC:20240806T080000
DTEND;TZID=UTC:20240820T170000
DTSTAMP:20260422T142615
CREATED:20240805T165130Z
LAST-MODIFIED:20240805T170037Z
UID:17135-1722931200-1724173200@alum.up.edu.ph
SUMMARY:"Beyond Science 2" art exhibit
DESCRIPTION:The Department of Clinical Epidemiology and the Institute of Clinical Epidemiology are celebrating the 40th year of clinical epidemiology in the Philippines. This year’s theme is ‘Advancing Equity in the Evolving Health Landscape.’ One of the highlights of the celebration is an art exhibit from September 6 to 20 at the UPCM Calderon Hall lobby. This exhibit\, titled “Beyond Science 2\,” will feature works by students\, faculty\, alumni\, staff\, and their families and friends in various art forms such as visual arts\, bonsai\, arts and crafts\, photography\, music\, and literary pieces.\n\nJoin us for a series of art workshops showcasing visual art\, bonsai\, and arts and crafts. This event is a fundraising project for the promotion of research for better health.\n\nRegistration is Php 2\,000.00 per workshop (workshop kits and light snacks included).\n\nWatercolor Workshop – https://bit.ly/BS2WatercolorWorkshop\nBasic Bonsai Workshop – https://bit.ly/BS2BasicBonsaiWorkshop\nPaper Quilling Workshop – https://bit.ly/BS2PaperQuillingWorkshop\nPaper Flower Workshop – https://bit.ly/BS2PaperFlowerWorkshop\n\nSource: University of the Philippines Manila Facebook
URL:https://alum.up.edu.ph/event/beyond-science-2-art-exhibit/
END:VEVENT
BEGIN:VEVENT
DTSTART;TZID=UTC:20240815T080000
DTEND;TZID=UTC:20240816T170000
DTSTAMP:20260422T142615
CREATED:20240602T212908Z
LAST-MODIFIED:20240805T171402Z
UID:16512-1723708800-1723827600@alum.up.edu.ph
SUMMARY:3rd Postgraduate Course in Clinical Tropical Medicine
DESCRIPTION:CALLING ALL INTERESTED HEALTHCARE WORKERS\, ACADEMICS\, AND STUDENTS!\n\nThe UP College of Public Health is in its 3rd cohort of the Postgraduate Course in Clinical Tropical Medicine (PCCTM) with the theme of “Navigating through Challenges with Advances in Clinical Tropical Medicine.”\n\nThe aim of this course is to describe updates on epidemiology\, diagnosis\, treatment\, control\, and prevention\, and identify current challenges\, research gaps\, and opportunities related to the control of selected tropical diseases.\n\n📅 Date: August 15-16\, 2024\, (Thursday and Friday)\n📍 Venue: Hotel Kimberly Manila\, 770 Pedro Gil St\, Malate\, Manila\, Philippines\n🔗 Link to registration: https://bit.ly/CPH3RDPCCTM\n\nPlease refer to the poster below for more details. Interested participants shall accomplish the registration form via scanning the QR code or through the link above.\n\nFor more inquiries on the program\, you may email us (dmmtrainings@gmail.com or dop.upcph@gmail.com) or contact us via phone (0960 282 2503 or 0942 605 6127).\n\nSource: College of Public Health\, University of the Philippines Facebook
URL:https://alum.up.edu.ph/event/3rd-postgraduate-course-in-clinical-tropical-medicine/
END:VEVENT
BEGIN:VEVENT
DTSTART;TZID=UTC:20240816T080000
DTEND;TZID=UTC:20240818T170000
DTSTAMP:20260422T142615
CREATED:20240422T235830Z
LAST-MODIFIED:20240422T235830Z
UID:16114-1723795200-1724000400@alum.up.edu.ph
SUMMARY:UP Visayas Homecoming
DESCRIPTION:For updates\, visit the UP Visayas OAR Facebook page
URL:https://alum.up.edu.ph/event/up-visayas-homecoming/
END:VEVENT
BEGIN:VEVENT
DTSTART;TZID=UTC:20240816T120000
DTEND;TZID=UTC:20240816T130000
DTSTAMP:20260422T142615
CREATED:20240815T145750Z
LAST-MODIFIED:20240815T145803Z
UID:17166-1723809600-1723813200@alum.up.edu.ph
SUMMARY:Health UPdates Webinar #205 -- Diabetes in Children… Paano Ito Maaawat?
DESCRIPTION:The University of the Philippines\,\nin partnership with the UP Manila – National Institutes of Health\,\nand in cooperation with UP Philippine General Hospital and UP College of Medicine\,\nwould like to invite you to attend this webinar! \n  \nRegistration slots are limited to this HEALTH UPDATES webinar\nSo sign up NOW:\nbit.ly/HealthUpdatesWebinar205 \n \n\nWebinar #205\nAugust 16\, 2024 (Friday) 12nn\nDiabetes in Children… Paano Ito Maawat?\n\nPresenter:\nDR. SYLVIA C. ESTRADA\nChief\, Division of Pediatric Endocrinology\nDepartment of Pediatrics\nUP – Philippine General Hospital\n\nReactor:\nDR. ANGELICA TOMAS\nMedical Specialist II\, Division of Ambulatory Pediatrics\nUP – Philippine General Hospital\n\n———————————————————–\n\nWebinar #205\nAugust 16\, 2024 (Friday) 12nn\nDiabetes in Children… Paano Ito Maawat?\n\nDiabetes mellitus\, a metabolic disorder characterized by hyperglycemia\, poses a significant public health concern worldwide. While its impact on adults is widely recognized\, the implications of this chronic condition on children have gained increasing attention.\n\nIn this week’s episode\, we will discuss the different aspects of pediatric diabetes and the complex interplay of factors contributing to the development of both Type 1 and Type 2 diabetes in children. We will discuss the underlying pathophysiology\, including the role of autoimmunity\, insulin resistance\, and genetic predisposition. We will also talk about the diagnostic criteria and diagnostic workup for pediatric diabetes\, emphasizing the importance of early detection and timely intervention.\n\nBy the end of this webinar\, participants should have gained the necessary knowledge and skills to effectively manage children with diabetes. They should be able to identify high-risk populations\, implement appropriate screening and diagnostic measures\, and develop comprehensive care plans.\n\nOur main presenter is Dr. Sylvia C. Estrada\, who is the Chief of the Division of Pediatric Endocrinology at the UP-PGH Department of Pediatrics. Our reactor is Dr. Angelica Tomas\, who serves as Medical Specialist II at the Division of Ambulatory Pediatrics of the UP-PGH Department of Pediatrics.\n\nTogether\, let us foster interdisciplinary collaboration among healthcare providers and empower them to deliver optimal care to young patients with diabetes\, promoting improved health outcomes and quality of life.\n\nTogether\, we can stop preventable deaths.
URL:https://alum.up.edu.ph/event/health-updates-webinar-205/
END:VEVENT
BEGIN:VEVENT
DTSTART;TZID=UTC:20240816T180000
DTEND;TZID=UTC:20240816T200000
DTSTAMP:20260422T142615
CREATED:20240722T181200Z
LAST-MODIFIED:20240722T181200Z
UID:17052-1723831200-1723838400@alum.up.edu.ph
SUMMARY:Felix\, Gustav\, and Igor on Campus
DESCRIPTION:FELIX\, GUSTAV\, and IGOR ON CAMPUS\nFriday\, 16 August 2024\, 6pm\nUP Theater\, UP Diliman\n\n👉🏼 http://bit.ly/upsoaug16reg\n\nJoin UPSO as we perform Mahler’s Symphony 5\, Stravinsky’s Fireworks\, and Mendelssohn’s Violin Concerto in FELIX\, GUSTAV\, and IGOR ON CAMPUS on August 16\, 6pm\, at the UP Theater! UPSO proudly presents Ms. KayCee Galano as violin soloist.\n\nTickets are priced at p1\,500 and p800 with discounts available for students\, senior citizens\, PWD’s\, and UP employees. Visit http://bit.ly/upsoaug16reg to secure your seats today.\n\n“Felix\, Gustav\, and Igor on Campus” is produced by UPSO in cooperation with Orkestra ng Bayan\, Inc and the Filipino String Teachers Association.\n\nSource: UP Symphony Orchestra Facebook
URL:https://alum.up.edu.ph/event/felix-gustav-and-igor-on-campus/
END:VEVENT
END:VCALENDAR