BEGIN:VCALENDAR
VERSION:2.0
PRODID:-//UP Alumni Website - ECPv6.15.16//NONSGML v1.0//EN
CALSCALE:GREGORIAN
METHOD:PUBLISH
X-WR-CALNAME:UP Alumni Website
X-ORIGINAL-URL:https://alum.up.edu.ph
X-WR-CALDESC:Events for UP Alumni Website
REFRESH-INTERVAL;VALUE=DURATION:PT1H
X-Robots-Tag:noindex
X-PUBLISHED-TTL:PT1H
BEGIN:VTIMEZONE
TZID:UTC
BEGIN:STANDARD
TZOFFSETFROM:+0000
TZOFFSETTO:+0000
TZNAME:UTC
DTSTART:20230101T000000
END:STANDARD
END:VTIMEZONE
BEGIN:VEVENT
DTSTART;TZID=UTC:20240806T080000
DTEND;TZID=UTC:20240820T170000
DTSTAMP:20260422T185457
CREATED:20240805T165130Z
LAST-MODIFIED:20240805T170037Z
UID:17135-1722931200-1724173200@alum.up.edu.ph
SUMMARY:"Beyond Science 2" art exhibit
DESCRIPTION:The Department of Clinical Epidemiology and the Institute of Clinical Epidemiology are celebrating the 40th year of clinical epidemiology in the Philippines. This year’s theme is ‘Advancing Equity in the Evolving Health Landscape.’ One of the highlights of the celebration is an art exhibit from September 6 to 20 at the UPCM Calderon Hall lobby. This exhibit\, titled “Beyond Science 2\,” will feature works by students\, faculty\, alumni\, staff\, and their families and friends in various art forms such as visual arts\, bonsai\, arts and crafts\, photography\, music\, and literary pieces.\n\nJoin us for a series of art workshops showcasing visual art\, bonsai\, and arts and crafts. This event is a fundraising project for the promotion of research for better health.\n\nRegistration is Php 2\,000.00 per workshop (workshop kits and light snacks included).\n\nWatercolor Workshop – https://bit.ly/BS2WatercolorWorkshop\nBasic Bonsai Workshop – https://bit.ly/BS2BasicBonsaiWorkshop\nPaper Quilling Workshop – https://bit.ly/BS2PaperQuillingWorkshop\nPaper Flower Workshop – https://bit.ly/BS2PaperFlowerWorkshop\n\nSource: University of the Philippines Manila Facebook
URL:https://alum.up.edu.ph/event/beyond-science-2-art-exhibit/
END:VEVENT
END:VCALENDAR