BEGIN:VCALENDAR
VERSION:2.0
PRODID:-//UP Alumni Website - ECPv6.15.16//NONSGML v1.0//EN
CALSCALE:GREGORIAN
METHOD:PUBLISH
X-WR-CALNAME:UP Alumni Website
X-ORIGINAL-URL:https://alum.up.edu.ph
X-WR-CALDESC:Events for UP Alumni Website
REFRESH-INTERVAL;VALUE=DURATION:PT1H
X-Robots-Tag:noindex
X-PUBLISHED-TTL:PT1H
BEGIN:VTIMEZONE
TZID:UTC
BEGIN:STANDARD
TZOFFSETFROM:+0000
TZOFFSETTO:+0000
TZNAME:UTC
DTSTART:20230101T000000
END:STANDARD
END:VTIMEZONE
BEGIN:VEVENT
DTSTART;VALUE=DATE:20240901
DTEND;VALUE=DATE:20241001
DTSTAMP:20260424T135307
CREATED:20240911T171233Z
LAST-MODIFIED:20240911T171259Z
UID:17282-1725148800-1727740799@alum.up.edu.ph
SUMMARY:SP Lopez: The Radical President
DESCRIPTION:The University Archives\, UP Diliman and Strategic Communication\, Research and Marketing Section\, in partnership with the President’s Committee on Culture and the Arts (PCCA) and the UP Diliman OICA\, invites you to SP Lopez: The Radical President\, an exhibition of the Salvador P. Lopez Papers in commemoration of the UP Day of Remembrance.\n\nThe exhibit will be officially launched on 10 September 2024 (Tuesday) at 9:30 AM in the Environmental and Energy Engineering Building lobby.\n\nThis exhibit aims to bring to the public the life and accomplishments of the former UP President. One of the most famous images of SP Lopez was him rallying with students on the steps of AS Hall against the presence of military in the campus. He was a firm supporter of UP’s autonomy and academic freedom and for that he earned the respect and admiration of students during the difficult times of Martial Law.\n\nSource: The University Library\, UP Diliman Facebook
URL:https://alum.up.edu.ph/event/sp-lopez-the-radical-president/
END:VEVENT
BEGIN:VEVENT
DTSTART;TZID=UTC:20240904T080000
DTEND;TZID=UTC:20240928T170000
DTSTAMP:20260424T135307
CREATED:20240908T175654Z
LAST-MODIFIED:20240908T175654Z
UID:17237-1725436800-1727542800@alum.up.edu.ph
SUMMARY:UP Diliman College of Music 108th Founding Anniversary
DESCRIPTION:Here is our new schedule for College Week! See you!\n\nSource: UP Kolehiyo ng Musika Facebook
URL:https://alum.up.edu.ph/event/up-diliman-college-of-music-108th-founding-anniversary/
END:VEVENT
BEGIN:VEVENT
DTSTART;VALUE=DATE:20240906
DTEND;VALUE=DATE:20240923
DTSTAMP:20260424T135307
CREATED:20240918T184503Z
LAST-MODIFIED:20240918T184503Z
UID:17392-1725580800-1727049599@alum.up.edu.ph
SUMMARY:Martial Law Day of Remembrance: Tagubtob sa Kamatuoran
DESCRIPTION:MLDR 2024 TIMELINE OF ACTIVITIES ❤️‍🔥\n\nAs we continue with our monthlong Day of Remembrance commemoration and as the 1081 Exhibit draws nearer\, take a look at the schedule of activities you can impart for this year’s commemoration!\n\nJoin the MLDR Committee of UP Cebu and our dearest partners this September 2024. ✊\n\nEach day is a call to action—remember the victims\, reveal the truth\, and resist any attempts to distort our history. Never Again\, Never Forget.\n\nSource: 1081 Exhibit Facebook page
URL:https://alum.up.edu.ph/event/martial-law-day-of-remembrance-tagubtob-sa-kamatuoran/
END:VEVENT
BEGIN:VEVENT
DTSTART;VALUE=DATE:20240909
DTEND;VALUE=DATE:20240914
DTSTAMP:20260424T135307
CREATED:20240908T175239Z
LAST-MODIFIED:20240908T175239Z
UID:17234-1725840000-1726271999@alum.up.edu.ph
SUMMARY:UP Diliman Health Service 95th Anniversary
DESCRIPTION:You are cordially invited to celebrate our 95th Anniversary From Sept 9 to Sept 13\, 2024 For inquiries you can message our fb account. ☺️\n\nSource: UP Diliman Health Service Facebook
URL:https://alum.up.edu.ph/event/up-diliman-health-service-95th-anniversary/
END:VEVENT
BEGIN:VEVENT
DTSTART;TZID=UTC:20240912T080000
DTEND;TZID=UTC:20240913T170000
DTSTAMP:20260424T135307
CREATED:20240411T191329Z
LAST-MODIFIED:20240717T173812Z
UID:16026-1726128000-1726246800@alum.up.edu.ph
SUMMARY:4th National Patient Safety Congress
DESCRIPTION:📢 The registration for the 4th Safety Congress Registration is NOW OPEN!\n\nRegistration forms\nIndividual: https://bit.ly/4thPSCRegForm\nGroup: https://bit.ly/4thPSCGroupReg\nPayment details: https://bit.ly/4thPSCPaymentyDetails\n\nEarly Bird Registration Deadline: June 7\, 2024\nRegular Registration Deadline: August 20\, 2024\n\nSource: University of the Philippines Manila Facebook
URL:https://alum.up.edu.ph/event/4th-national-patient-safety-congress/
END:VEVENT
BEGIN:VEVENT
DTSTART;TZID=UTC:20240912T110000
DTEND;TZID=UTC:20240912T120000
DTSTAMP:20260424T135307
CREATED:20240911T165020Z
LAST-MODIFIED:20240911T165020Z
UID:17279-1726138800-1726142400@alum.up.edu.ph
SUMMARY:"Learning How to Teach Linear Equations: A Lesson Study Experience"
DESCRIPTION:Are you having trouble teaching linear equations? Do you want to learn how to lesson study? This episode is perfect for you! 😎\n\nTune in to our episode titled “Learning How to Teach Linear Equations: A Lesson Study Experience” this coming Thursday\, 12 September 2024 from 11:00 a.m. to 12:00 n.n.. We have teachers to join from Tabaco National High School in Albay. 🌋\n\nJoin and learn only here at Go Teacher Go! Brotherhood of Innovative Teachers! 🧑🏽 🏫👩🏻 🏫\n\nSource: Go Teacher Go Facebook
URL:https://alum.up.edu.ph/event/learning-how-to-teach-linear-equations-a-lesson-study-experience/
END:VEVENT
BEGIN:VEVENT
DTSTART;TZID=UTC:20240912T130000
DTEND;TZID=UTC:20240912T150000
DTSTAMP:20260424T135307
CREATED:20240908T172309Z
LAST-MODIFIED:20240908T172309Z
UID:17225-1726146000-1726153200@alum.up.edu.ph
SUMMARY:#MusiKolokya and Gayageum workshop
DESCRIPTION:The University of the Philippines Korea Research Center (UP KRC) together with the UP Diliman College of Music (UPD CMu) Music Education Department\, UP Kolehiyo ng Musika Office of Research\, Publication and Creative Work\, and UP Arirang will co-host #MusiKolokya and Gayageum workshop\, on September 12\, 1:00 pm to 6:00 pm\, at the Mini Hall\, College of Music\, UP Diliman.\n\nSpeaking at the event is Dr. Hyunah Cho from the University of Leeds\, who will talk about “Musical engagement and Subjective wellbeing amongst Korean international students in the UK.”\n\nThe musiKolokya is open to the public and both events are free! Kitakits! 🇵🇭🇰🇷🌻
URL:https://alum.up.edu.ph/event/musikolokya-and-gayageum-workshop/
END:VEVENT
END:VCALENDAR