BEGIN:VCALENDAR
VERSION:2.0
PRODID:-//UP Alumni Website - ECPv6.15.16//NONSGML v1.0//EN
CALSCALE:GREGORIAN
METHOD:PUBLISH
X-WR-CALNAME:UP Alumni Website
X-ORIGINAL-URL:https://alum.up.edu.ph
X-WR-CALDESC:Events for UP Alumni Website
REFRESH-INTERVAL;VALUE=DURATION:PT1H
X-Robots-Tag:noindex
X-PUBLISHED-TTL:PT1H
BEGIN:VTIMEZONE
TZID:UTC
BEGIN:STANDARD
TZOFFSETFROM:+0000
TZOFFSETTO:+0000
TZNAME:UTC
DTSTART:20230101T000000
END:STANDARD
END:VTIMEZONE
BEGIN:VEVENT
DTSTART;VALUE=DATE:20240901
DTEND;VALUE=DATE:20241001
DTSTAMP:20260423T092815
CREATED:20240911T171233Z
LAST-MODIFIED:20240911T171259Z
UID:17282-1725148800-1727740799@alum.up.edu.ph
SUMMARY:SP Lopez: The Radical President
DESCRIPTION:The University Archives\, UP Diliman and Strategic Communication\, Research and Marketing Section\, in partnership with the President’s Committee on Culture and the Arts (PCCA) and the UP Diliman OICA\, invites you to SP Lopez: The Radical President\, an exhibition of the Salvador P. Lopez Papers in commemoration of the UP Day of Remembrance.\n\nThe exhibit will be officially launched on 10 September 2024 (Tuesday) at 9:30 AM in the Environmental and Energy Engineering Building lobby.\n\nThis exhibit aims to bring to the public the life and accomplishments of the former UP President. One of the most famous images of SP Lopez was him rallying with students on the steps of AS Hall against the presence of military in the campus. He was a firm supporter of UP’s autonomy and academic freedom and for that he earned the respect and admiration of students during the difficult times of Martial Law.\n\nSource: The University Library\, UP Diliman Facebook
URL:https://alum.up.edu.ph/event/sp-lopez-the-radical-president/
END:VEVENT
BEGIN:VEVENT
DTSTART;TZID=UTC:20240904T080000
DTEND;TZID=UTC:20240928T170000
DTSTAMP:20260423T092815
CREATED:20240908T175654Z
LAST-MODIFIED:20240908T175654Z
UID:17237-1725436800-1727542800@alum.up.edu.ph
SUMMARY:UP Diliman College of Music 108th Founding Anniversary
DESCRIPTION:Here is our new schedule for College Week! See you!\n\nSource: UP Kolehiyo ng Musika Facebook
URL:https://alum.up.edu.ph/event/up-diliman-college-of-music-108th-founding-anniversary/
END:VEVENT
BEGIN:VEVENT
DTSTART;VALUE=DATE:20240906
DTEND;VALUE=DATE:20240923
DTSTAMP:20260423T092815
CREATED:20240918T184503Z
LAST-MODIFIED:20240918T184503Z
UID:17392-1725580800-1727049599@alum.up.edu.ph
SUMMARY:Martial Law Day of Remembrance: Tagubtob sa Kamatuoran
DESCRIPTION:MLDR 2024 TIMELINE OF ACTIVITIES ❤️‍🔥\n\nAs we continue with our monthlong Day of Remembrance commemoration and as the 1081 Exhibit draws nearer\, take a look at the schedule of activities you can impart for this year’s commemoration!\n\nJoin the MLDR Committee of UP Cebu and our dearest partners this September 2024. ✊\n\nEach day is a call to action—remember the victims\, reveal the truth\, and resist any attempts to distort our history. Never Again\, Never Forget.\n\nSource: 1081 Exhibit Facebook page
URL:https://alum.up.edu.ph/event/martial-law-day-of-remembrance-tagubtob-sa-kamatuoran/
END:VEVENT
BEGIN:VEVENT
DTSTART;VALUE=DATE:20240915
DTEND;VALUE=DATE:20241007
DTSTAMP:20260423T092815
CREATED:20240905T212541Z
LAST-MODIFIED:20240905T212541Z
UID:17220-1726358400-1728259199@alum.up.edu.ph
SUMMARY:"Aso ni Juan: Getting Ready for the Big One! Presents BARK-kada!"
DESCRIPTION:Have fun learning all about dog training and disaster preparedness with the UPMV K9 Corps!\n\nEstablished in 2017\, the University of the Philippines –Metro Manila Development Authority – UP Vanguard\, Inc. (UPMV) K9 Corps is a non-profit partnership aimed at training local communities and their pets in basic search-and-rescue and disaster response. To date\, there are already close to a hundred volunteers and K9s in the program\, with Batch 11 already in training.\n\nThis year\, we’re celebrating seven years of resilience and community spirit with “Aso ni Juan: Getting Ready for the Big One! Presents BARK-kada!”\, a four-week festival of fun and games aimed at helping everyone get ready for the unexpected with our family\, friends – and\, of course\, our fur babies – by our side.\n\nIt’s a whole month of bonding\, learning\, and playing\, all aimed at getting us all ready for anything that may come our way. Because when the going gets tough\, the tough get barking!\n\nBARK-kada! is made possible by our official partners\, UP Vanguard Inc. – Makati Chapter\, the Philippine Coast Guard\, and OCR Dogs Pinas; our animal welfare partner\, Animal Kingdom Foundation; our disaster preparedness partners\, Team Rescue 8 and Technical Rescue Assistance Unit & Medical Aid (TRAUMA); and our media partners\, The Manila Bulletin and Animal Scene.\n\nTo register for BARK-kada! and to learn more about volunteering for K9 training\, visit our website:\n\nhttps://upmvk9.org/upmvk9-anniversary\n\nAnd don’t forget to like and follow our Facebook page for updates:\n\nhttps://www.facebook.com/upmmdavanguardk9
URL:https://alum.up.edu.ph/event/aso-ni-juan-getting-ready-for-the-big-one-presents-bark-kada/
END:VEVENT
BEGIN:VEVENT
DTSTART;TZID=UTC:20240917T080000
DTEND;TZID=UTC:20240917T120000
DTSTAMP:20260423T092815
CREATED:20240908T181252Z
LAST-MODIFIED:20240908T181252Z
UID:17247-1726560000-1726574400@alum.up.edu.ph
SUMMARY:"Waves and Roots: A Journey Through Mangroves and Marine Mammals"
DESCRIPTION:🌊🌿Join Us for an Unforgettable Journey Through Mangroves and Marine Mammals! 🌿🌊\n\nAs part of our BioWeek 2024 celebration\, we invite you to “Waves and Roots: A Journey Through Mangroves and Marine Mammals\,” happening on September 17\, 8:00 AM at the UPM Theater.\n\n🎬 What to Expect:\n🌱Immerse yourself in the breathtaking world of mangroves with a screening of the acclaimed film Bakawan by renowned filmmaker Prof. Nick Deocampo and Prof. Lemnuel Aragones.\n🐬Dive deeper into marine life with an enlightening lecture on the fascinating marine mammals of the Philippines by Prof. Lemnuel Aragones.\n\n📅 Mark Your Calendars! Don’t miss this unique opportunity to explore the hidden treasures of our mangroves and marine life\, and learn how we can all contribute to their conservation.\n\n📍 Where: UPM Theater\n⏰ When: September 17\, 8:00 AM\n📝 Register now to secure your spot: https://forms.gle/xCqmDyTsBQpw3C8s8\n\nCome and be part of this inspiring event and BioWeek 2024 celebration! 🌊🌿\n\nSource: Department of Biology – CAS\, UP Manila Facebook
URL:https://alum.up.edu.ph/event/waves-and-roots-a-journey-through-mangroves-and-marine-mammals/
END:VEVENT
BEGIN:VEVENT
DTSTART;TZID=UTC:20240917T140000
DTEND;TZID=UTC:20240917T180000
DTSTAMP:20260423T092815
CREATED:20240912T164450Z
LAST-MODIFIED:20240912T164450Z
UID:17294-1726581600-1726596000@alum.up.edu.ph
SUMMARY:Paper Quilling Workshop
DESCRIPTION:In Celebration of the 40th Clinical Epidemiology Anniversary in the Philippines.\n\nLearn Quilling with us! Let us roll\, shape\, and glue paper to create a unified\, decorative design. Ideal for this upcoming Christmas season\, adorn gift tags\, packages\, and cards for more personalized presents for your family and friends.\n\nQuilling is akin but different from origami. Origami folds full-paged paper\, while quilling rolls paper strips. Birds’ feathers\, or quills\, were used to coil the strips of paper. Hence\, the name quilling. Also\, it was believed that it was first seen in ancient Egypt\, where certain filigree-type art inspired modern quilling.\n\nIn this workshop\, we will be guided by Dr Carmela Marie Lapitan. A practicing urologist\, researcher\, and an administrator\, Dr Lapitan discovered quilling as a form of relaxation amidst the many demands of her various roles. She does nor claim to be an expert\, just a hobbyist\, she said. Who can better teach us who wants to discover a hobby but a hobbyist herself.\n\nJoin us as an individual at PhP1500 or bring along a friend for a fee of PhP2000.\n\nRegister now at: https://bit.ly/BS2PaperQuillingWorkshop\n\nOPEN to PUBLIC\n\nSource: University of the Philippines Manila Facebook
URL:https://alum.up.edu.ph/event/paper-quilling-workshop/
END:VEVENT
END:VCALENDAR