BEGIN:VCALENDAR
VERSION:2.0
PRODID:-//UP Alumni Website - ECPv6.15.16//NONSGML v1.0//EN
CALSCALE:GREGORIAN
METHOD:PUBLISH
X-WR-CALNAME:UP Alumni Website
X-ORIGINAL-URL:https://alum.up.edu.ph
X-WR-CALDESC:Events for UP Alumni Website
REFRESH-INTERVAL;VALUE=DURATION:PT1H
X-Robots-Tag:noindex
X-PUBLISHED-TTL:PT1H
BEGIN:VTIMEZONE
TZID:UTC
BEGIN:STANDARD
TZOFFSETFROM:+0000
TZOFFSETTO:+0000
TZNAME:UTC
DTSTART:20230101T000000
END:STANDARD
END:VTIMEZONE
BEGIN:VEVENT
DTSTART;VALUE=DATE:20240901
DTEND;VALUE=DATE:20241001
DTSTAMP:20260425T074904
CREATED:20240911T171233Z
LAST-MODIFIED:20240911T171259Z
UID:17282-1725148800-1727740799@alum.up.edu.ph
SUMMARY:SP Lopez: The Radical President
DESCRIPTION:The University Archives\, UP Diliman and Strategic Communication\, Research and Marketing Section\, in partnership with the President’s Committee on Culture and the Arts (PCCA) and the UP Diliman OICA\, invites you to SP Lopez: The Radical President\, an exhibition of the Salvador P. Lopez Papers in commemoration of the UP Day of Remembrance.\n\nThe exhibit will be officially launched on 10 September 2024 (Tuesday) at 9:30 AM in the Environmental and Energy Engineering Building lobby.\n\nThis exhibit aims to bring to the public the life and accomplishments of the former UP President. One of the most famous images of SP Lopez was him rallying with students on the steps of AS Hall against the presence of military in the campus. He was a firm supporter of UP’s autonomy and academic freedom and for that he earned the respect and admiration of students during the difficult times of Martial Law.\n\nSource: The University Library\, UP Diliman Facebook
URL:https://alum.up.edu.ph/event/sp-lopez-the-radical-president/
END:VEVENT
BEGIN:VEVENT
DTSTART;TZID=UTC:20240904T080000
DTEND;TZID=UTC:20240928T170000
DTSTAMP:20260425T074904
CREATED:20240908T175654Z
LAST-MODIFIED:20240908T175654Z
UID:17237-1725436800-1727542800@alum.up.edu.ph
SUMMARY:UP Diliman College of Music 108th Founding Anniversary
DESCRIPTION:Here is our new schedule for College Week! See you!\n\nSource: UP Kolehiyo ng Musika Facebook
URL:https://alum.up.edu.ph/event/up-diliman-college-of-music-108th-founding-anniversary/
END:VEVENT
BEGIN:VEVENT
DTSTART;VALUE=DATE:20240915
DTEND;VALUE=DATE:20241007
DTSTAMP:20260425T074904
CREATED:20240905T212541Z
LAST-MODIFIED:20240905T212541Z
UID:17220-1726358400-1728259199@alum.up.edu.ph
SUMMARY:"Aso ni Juan: Getting Ready for the Big One! Presents BARK-kada!"
DESCRIPTION:Have fun learning all about dog training and disaster preparedness with the UPMV K9 Corps!\n\nEstablished in 2017\, the University of the Philippines –Metro Manila Development Authority – UP Vanguard\, Inc. (UPMV) K9 Corps is a non-profit partnership aimed at training local communities and their pets in basic search-and-rescue and disaster response. To date\, there are already close to a hundred volunteers and K9s in the program\, with Batch 11 already in training.\n\nThis year\, we’re celebrating seven years of resilience and community spirit with “Aso ni Juan: Getting Ready for the Big One! Presents BARK-kada!”\, a four-week festival of fun and games aimed at helping everyone get ready for the unexpected with our family\, friends – and\, of course\, our fur babies – by our side.\n\nIt’s a whole month of bonding\, learning\, and playing\, all aimed at getting us all ready for anything that may come our way. Because when the going gets tough\, the tough get barking!\n\nBARK-kada! is made possible by our official partners\, UP Vanguard Inc. – Makati Chapter\, the Philippine Coast Guard\, and OCR Dogs Pinas; our animal welfare partner\, Animal Kingdom Foundation; our disaster preparedness partners\, Team Rescue 8 and Technical Rescue Assistance Unit & Medical Aid (TRAUMA); and our media partners\, The Manila Bulletin and Animal Scene.\n\nTo register for BARK-kada! and to learn more about volunteering for K9 training\, visit our website:\n\nhttps://upmvk9.org/upmvk9-anniversary\n\nAnd don’t forget to like and follow our Facebook page for updates:\n\nhttps://www.facebook.com/upmmdavanguardk9
URL:https://alum.up.edu.ph/event/aso-ni-juan-getting-ready-for-the-big-one-presents-bark-kada/
END:VEVENT
BEGIN:VEVENT
DTSTART;VALUE=DATE:20240923
DTEND;VALUE=DATE:20241008
DTSTAMP:20260425T074904
CREATED:20240918T180241Z
LAST-MODIFIED:20240918T180346Z
UID:17349-1727049600-1728345599@alum.up.edu.ph
SUMMARY:UP Manila's Institutional Animal Care and Use Committee Basic IACUC Training Online Course
DESCRIPTION:The UP Manila’s Institutional Animal Care and Use Committee invites the UP Manila community to join the Free Basic IACUC Online Training this upcoming September 23 to October 7\, 2024. This asynchronous and self-paced online course will discuss topics on animal welfare\, legal bases\, the institutional animal care and use committee\, and the fundamentals of animal use in research. A certificate of completion will be awarded to the participants who complete the online module and pass 70% of the assessment within the given timeframe.\n \nRegister through bit.ly/4gtUcKI or scan the QR code found in the poster.\n\nFor more information and other concerns\, kindly contact the IACUC Secretariat at iacuc.upmanila@up.edu.ph. The office hours are Monday to Friday\, from 8:00 a.m. to 5:00 p.m.\, or you can visit and follow their Facebook page at https://www.facebook.com/iacucupmnl for future activities and services.\n\nSource: University of the Philippines Manila Facebook
URL:https://alum.up.edu.ph/event/basic-iacuc-training-online-course/
END:VEVENT
BEGIN:VEVENT
DTSTART;TZID=UTC:20240923T080000
DTEND;TZID=UTC:20240925T170000
DTSTAMP:20260425T074904
CREATED:20240918T170536Z
LAST-MODIFIED:20240918T170536Z
UID:17318-1727078400-1727283600@alum.up.edu.ph
SUMMARY:15th UP Diliman Gender and Development Summit
DESCRIPTION:[UPDATED SCHEDULE OF GADS15]\n\nJoin the UP Diliman Office of the Chancellor and the UP Diliman Gender Office for the 15th UP Diliman Gender and Development Summit this September 23-25\, 2024.\n\nSeptember 23-24\, 2024\nGAD Committees Summit and GAD Plan and Budget 2025 Validation (GAD Focals and GAD Committee Members)\n7:00AM – 5:00PM\n\nSeptember 25\, 2024\nGAD Executive and Admin Summit Summit (for all Vice Chancellors\, Deans\, Department Chairs\, Heads of Units\, Administrative Officers of each unit)\n7:00AM – 5:00PM\n\nGT Toyota Asian Center Auditorium\nRSVP through: https://bit.ly/UPDGADSummit2024\n\nSource: UP Diliman Gender Office Facebook page
URL:https://alum.up.edu.ph/event/15th-up-diliman-gender-and-development-summit/
END:VEVENT
BEGIN:VEVENT
DTSTART;TZID=UTC:20240924T080000
DTEND;TZID=UTC:20240924T120000
DTSTAMP:20260425T074904
CREATED:20240918T183312Z
LAST-MODIFIED:20240918T183312Z
UID:17376-1727164800-1727179200@alum.up.edu.ph
SUMMARY:UPV OVCRE - Orientation on Research and Work Ethics\, Intellectual Property Rights\, and Conflict Management
DESCRIPTION:The Office of the Vice Chancellor for Research and Extension invites you to the Orientation on Research and Work Ethics\, Intellectual Property Rights\, and Conflict Management on September 24\, 2024 and October 1\, 2024 at CFOS AV Hall\, University of the Philippines Visayas.\n\nThis is open for all UPV Faculty\, REPS and Project-based Personnel.\n\nFor those who are interested to join\, you are encouraged to register now since we only have limited slots.\n\nRegistration Link: https://docs.google.com/…/1FAIpQLSdSHsn8vdzqGX…/viewform\n\nSource: UPV Office of the Vice Chancellor for Research and Extension – OVCRE Facebook
URL:https://alum.up.edu.ph/event/upv-ovcre-orientation-on-research-and-work-ethics-intellectual-property-rights-and-conflict-management/
END:VEVENT
BEGIN:VEVENT
DTSTART;TZID=UTC:20240924T090000
DTEND;TZID=UTC:20240924T100000
DTSTAMP:20260425T074904
CREATED:20240918T174517Z
LAST-MODIFIED:20240918T174550Z
UID:17343-1727168400-1727172000@alum.up.edu.ph
SUMMARY:Emergency Preparedness: What we Learned from COVID and Future Considerations
DESCRIPTION:[INVITATION FOR ONLINE GRAND ROUNDS]\n\nPlease join our department via Zoom in our Special Grand Rounds with our speaker from Mount Sinai Hospital\, New York\, Dr. Carlos Salama. The Lecture topics and moderators are as follows:\n\n1) Emergency Preparedness: What we Learned from COVID and Future Considerations\nPresenter: Dr. Carlos Salama\nModerator: Dr. John Añonuevo\nPGH Science Hall\nSeptember 24\, Tuesday\, 9-10 AM\n\n2) Antiretroviral Therapy (ART) and Pre-exposure Prophylaxis (PrEP): New Drugs on the Horizon\nPresenter: Dr. Carlos Salama\nModerator: Dr. Edsel Maurice Salvaña\nPGH Science Hall\nSeptember 26\, Thursday\, 9-10 AM\n\nHere is the Webinar Link:\nWebinar link: https://tinyurl.com/confePGHIM\nWebinar ID: 927 2617 5235\nPasscode: 83365638\n\nSee you there!\n\nSource: UP PGH Department of Medicine Facebook
URL:https://alum.up.edu.ph/event/emergency-preparedness-what-we-learned-from-covid-and-future-considerations/
END:VEVENT
BEGIN:VEVENT
DTSTART;TZID=UTC:20240924T100000
DTEND;TZID=UTC:20240924T110000
DTSTAMP:20260425T074904
CREATED:20240911T161741Z
LAST-MODIFIED:20240911T161741Z
UID:17259-1727172000-1727175600@alum.up.edu.ph
SUMMARY:NSRI Lecture Series: Exploring Greener Methodologies for the Synthesis of Plasmonic Au and Ag Nanomaterials
DESCRIPTION:The NSRI would like to invite everyone for the upcoming NSRI Lecture Series featuring Dr. Michelle D. Regulacio\, Associate Professor from the Institute of Chemistry\, UP Diliman.\n\nThis talk is open to the public and will take place in the NSRI Conference Room\, Miranda Hall\, UP Diliman on September 24\, 2024.\nParticipants may scan the QR code to pre-register or may register onsite which opens at 9:30 AM. The lecture starts at 10:00 AM. This event will be onsite only.\n\nSource: Natural Sciences Research Institute Facebook
URL:https://alum.up.edu.ph/event/nsri-lecture-series-exploring-greener-methodologies-for-the-synthesis-of-plasmonic-au-and-ag-nanomaterials/
END:VEVENT
BEGIN:VEVENT
DTSTART;TZID=UTC:20240924T130000
DTEND;TZID=UTC:20240924T150000
DTSTAMP:20260425T074904
CREATED:20240918T170222Z
LAST-MODIFIED:20240918T170222Z
UID:17315-1727182800-1727190000@alum.up.edu.ph
SUMMARY:Markus Köhle Lecture-Workshop on Poetry Slam
DESCRIPTION:The Austrian Embassy in Manila\, in collaboration with The Carlos Palanca Foundation and the Office of the Dean\, UP College of Arts and Letters\, is hosting a lecture and workshop on the art of poetry slam featuring Austrian poet Markus Köhle on Tuesday\, September 24th\, 2024\, from 1:00 to 3:00 PM in Palma Hall Pavilion 1\, Room 1131\, Quirino corner Roces Streets\, UP Diliman.\n\nKöhle pursued German language\, literature\, and Romance studies in Innsbruck and Rome. He is the host of the Bierstindl Poetry Slam in Innsbruck. He also authored several published works\, primarily characterized by his mid-length prose and vibrant\, cross-genre texts that captivate readers and audiences globally.\n\nSince 2002\, Köhle has been instrumental in organizing poetry slams throughout Austria. He has also curated and moderated the Innsbruck Prose Festival alongside Mr. Robert Renk since 2003. Mr. Köhle has also been an active contributor to the literary magazine DUM (Das Ultimative Magazin) since 2007. He has served on its editorial board since 2010.\n\nMr. Köhle has received numerous awards\, including the 2021 Viennese Literature Scholarship\, the 2019/20 Literature Scholarship of the Land Tyrol\, and the 2018/19 Literature Project Grant from the Federal Chancellery of the Republic of Austria. He has also been honored with the 2018 Otto Grünmandl Literary Award from the Land Tyrol\, the 2016 Mira Lobe Scholarship\, the 2009 Prize for Literature from the City of Innsbruck\, and the 2008/09 State Scholarship for Literature.\n\nAs an art form\, poetry slam represents a dynamic and competitive platform where aspiring and experienced poets perform their original works before a live audience\, often competing against one another. These events provide poets invaluable opportunities to hone their performance skills\, engage with their audience\, and receive immediate feedback on their creative expressions.\n\nOn the Philippine side\, 2023 Gawad Pambansang Alagad ni Balagtas recipient D.M. Reyes and Palanca-winning poet Louie Jon A. Sanchez will read excerpts from their works in progress. Reyes teaches Literature at the UP College of Arts and Letters\, while Sanchez teaches media arts and studies at the UP College of Mass Communication.\n\nAccessible and Open to the public. For inquiries\, please email at artsandletters.diliman@gmail.com.\n\nSource: UP College of Arts and Letters Facebook
URL:https://alum.up.edu.ph/event/markus-kohle-lecture-workshop-on-poetry-slam/
END:VEVENT
BEGIN:VEVENT
DTSTART;TZID=UTC:20240924T140000
DTEND;TZID=UTC:20240924T160000
DTSTAMP:20260425T074904
CREATED:20240912T215613Z
LAST-MODIFIED:20240912T215613Z
UID:17306-1727186400-1727193600@alum.up.edu.ph
SUMMARY:"Museums in Leading Transformations for Species Conservation”
DESCRIPTION:📢 UPCOMING WEBINAR 📢\n\nIn celebration of the UPLB MNH 48th Anniversary\, we will be having a Webinar titled “Museums in Leading Transformations for Species Conservation” on 24 September 2024\, 2:00 – 4:00 PM\, via ZOOM.\n\nRegister now to secure your slot: bit.ly/MNH48WEBINAR\n\nStay tuned for our other events lined up for the week of 24-30 September:\n🗓️ 25 Sept – NuLab: STEM in Motion and UPLB MNH Museum on Wheels\n🗓️26 Sept – Cafe Scientifique\n🗓️ 27 Sept – Seminar “Harnessing Digital Platforms for Conservation and Access to Biodiversity Information”\n\nSource: UPLB Museum of Natural History Facebook
URL:https://alum.up.edu.ph/event/museums-in-leading-transformations-for-species-conservation/
END:VEVENT
BEGIN:VEVENT
DTSTART;TZID=UTC:20240924T140000
DTEND;TZID=UTC:20240924T160000
DTSTAMP:20260425T074904
CREATED:20240918T173215Z
LAST-MODIFIED:20240918T173228Z
UID:17328-1727186400-1727193600@alum.up.edu.ph
SUMMARY:PRE-EMPLOYMENT VIRTUAL SEMINAR: Paving the Path for the Next Generations of Professionals
DESCRIPTION:Get ready to level up your career! 💼\n\nJoin us for the PRE-EMPLOYMENT VIRTUAL SEMINAR: Paving the Path for the Next Generations of Professionals. 💻📲\nThis event is a collaboration among the University of the Philippines\, the UP Alumni Association\, and the Department of Labor and Employment (DOLE). 🤝\n\nWhen: September 24\, 2024\nTime: 2:00 PM\nWhere: Via Zoom\n\nScan the QR code or use the link to register:\nhttps://docs.google.com/…/1FAIpQLSezmNicrvi…/viewform…\n\nOur resource person is Dr. Ronahlee A. Asuncion\, PhD.\, former Dean of UP School of Labor and Industrial Relations (UP SOLAIR). 🌟\nDon’t miss this opportunity to gain valuable insights and tips on career development.\n\nSee you there! 👍\n\nSource: UPAA – University of the Philippines Alumni Association Facebook
URL:https://alum.up.edu.ph/event/pre-employment-virtual-seminar-paving-the-path-for-the-next-generations-of-professionals/
END:VEVENT
END:VCALENDAR