BEGIN:VCALENDAR
VERSION:2.0
PRODID:-//UP Alumni Website - ECPv6.15.16//NONSGML v1.0//EN
CALSCALE:GREGORIAN
METHOD:PUBLISH
X-WR-CALNAME:UP Alumni Website
X-ORIGINAL-URL:https://alum.up.edu.ph
X-WR-CALDESC:Events for UP Alumni Website
REFRESH-INTERVAL;VALUE=DURATION:PT1H
X-Robots-Tag:noindex
X-PUBLISHED-TTL:PT1H
BEGIN:VTIMEZONE
TZID:UTC
BEGIN:STANDARD
TZOFFSETFROM:+0000
TZOFFSETTO:+0000
TZNAME:UTC
DTSTART:20230101T000000
END:STANDARD
END:VTIMEZONE
BEGIN:VEVENT
DTSTART;VALUE=DATE:20240901
DTEND;VALUE=DATE:20241001
DTSTAMP:20260424T152505
CREATED:20240911T171233Z
LAST-MODIFIED:20240911T171259Z
UID:17282-1725148800-1727740799@alum.up.edu.ph
SUMMARY:SP Lopez: The Radical President
DESCRIPTION:The University Archives\, UP Diliman and Strategic Communication\, Research and Marketing Section\, in partnership with the President’s Committee on Culture and the Arts (PCCA) and the UP Diliman OICA\, invites you to SP Lopez: The Radical President\, an exhibition of the Salvador P. Lopez Papers in commemoration of the UP Day of Remembrance.\n\nThe exhibit will be officially launched on 10 September 2024 (Tuesday) at 9:30 AM in the Environmental and Energy Engineering Building lobby.\n\nThis exhibit aims to bring to the public the life and accomplishments of the former UP President. One of the most famous images of SP Lopez was him rallying with students on the steps of AS Hall against the presence of military in the campus. He was a firm supporter of UP’s autonomy and academic freedom and for that he earned the respect and admiration of students during the difficult times of Martial Law.\n\nSource: The University Library\, UP Diliman Facebook
URL:https://alum.up.edu.ph/event/sp-lopez-the-radical-president/
END:VEVENT
BEGIN:VEVENT
DTSTART;TZID=UTC:20240904T080000
DTEND;TZID=UTC:20240928T170000
DTSTAMP:20260424T152505
CREATED:20240908T175654Z
LAST-MODIFIED:20240908T175654Z
UID:17237-1725436800-1727542800@alum.up.edu.ph
SUMMARY:UP Diliman College of Music 108th Founding Anniversary
DESCRIPTION:Here is our new schedule for College Week! See you!\n\nSource: UP Kolehiyo ng Musika Facebook
URL:https://alum.up.edu.ph/event/up-diliman-college-of-music-108th-founding-anniversary/
END:VEVENT
BEGIN:VEVENT
DTSTART;VALUE=DATE:20240915
DTEND;VALUE=DATE:20241007
DTSTAMP:20260424T152505
CREATED:20240905T212541Z
LAST-MODIFIED:20240905T212541Z
UID:17220-1726358400-1728259199@alum.up.edu.ph
SUMMARY:"Aso ni Juan: Getting Ready for the Big One! Presents BARK-kada!"
DESCRIPTION:Have fun learning all about dog training and disaster preparedness with the UPMV K9 Corps!\n\nEstablished in 2017\, the University of the Philippines –Metro Manila Development Authority – UP Vanguard\, Inc. (UPMV) K9 Corps is a non-profit partnership aimed at training local communities and their pets in basic search-and-rescue and disaster response. To date\, there are already close to a hundred volunteers and K9s in the program\, with Batch 11 already in training.\n\nThis year\, we’re celebrating seven years of resilience and community spirit with “Aso ni Juan: Getting Ready for the Big One! Presents BARK-kada!”\, a four-week festival of fun and games aimed at helping everyone get ready for the unexpected with our family\, friends – and\, of course\, our fur babies – by our side.\n\nIt’s a whole month of bonding\, learning\, and playing\, all aimed at getting us all ready for anything that may come our way. Because when the going gets tough\, the tough get barking!\n\nBARK-kada! is made possible by our official partners\, UP Vanguard Inc. – Makati Chapter\, the Philippine Coast Guard\, and OCR Dogs Pinas; our animal welfare partner\, Animal Kingdom Foundation; our disaster preparedness partners\, Team Rescue 8 and Technical Rescue Assistance Unit & Medical Aid (TRAUMA); and our media partners\, The Manila Bulletin and Animal Scene.\n\nTo register for BARK-kada! and to learn more about volunteering for K9 training\, visit our website:\n\nhttps://upmvk9.org/upmvk9-anniversary\n\nAnd don’t forget to like and follow our Facebook page for updates:\n\nhttps://www.facebook.com/upmmdavanguardk9
URL:https://alum.up.edu.ph/event/aso-ni-juan-getting-ready-for-the-big-one-presents-bark-kada/
END:VEVENT
BEGIN:VEVENT
DTSTART;VALUE=DATE:20240923
DTEND;VALUE=DATE:20241008
DTSTAMP:20260424T152505
CREATED:20240918T180241Z
LAST-MODIFIED:20240918T180346Z
UID:17349-1727049600-1728345599@alum.up.edu.ph
SUMMARY:UP Manila's Institutional Animal Care and Use Committee Basic IACUC Training Online Course
DESCRIPTION:The UP Manila’s Institutional Animal Care and Use Committee invites the UP Manila community to join the Free Basic IACUC Online Training this upcoming September 23 to October 7\, 2024. This asynchronous and self-paced online course will discuss topics on animal welfare\, legal bases\, the institutional animal care and use committee\, and the fundamentals of animal use in research. A certificate of completion will be awarded to the participants who complete the online module and pass 70% of the assessment within the given timeframe.\n \nRegister through bit.ly/4gtUcKI or scan the QR code found in the poster.\n\nFor more information and other concerns\, kindly contact the IACUC Secretariat at iacuc.upmanila@up.edu.ph. The office hours are Monday to Friday\, from 8:00 a.m. to 5:00 p.m.\, or you can visit and follow their Facebook page at https://www.facebook.com/iacucupmnl for future activities and services.\n\nSource: University of the Philippines Manila Facebook
URL:https://alum.up.edu.ph/event/basic-iacuc-training-online-course/
END:VEVENT
BEGIN:VEVENT
DTSTART;TZID=UTC:20240926T090000
DTEND;TZID=UTC:20240926T100000
DTSTAMP:20260424T152505
CREATED:20240918T174607Z
LAST-MODIFIED:20240918T174607Z
UID:17345-1727341200-1727344800@alum.up.edu.ph
SUMMARY:Antiretroviral Therapy (ART) and Pre-exposure Prophylaxis (PrEP): New Drugs on the Horizon
DESCRIPTION:[INVITATION FOR ONLINE GRAND ROUNDS]\n\nPlease join our department via Zoom in our Special Grand Rounds with our speaker from Mount Sinai Hospital\, New York\, Dr. Carlos Salama. The Lecture topics and moderators are as follows:\n\n1) Emergency Preparedness: What we Learned from COVID and Future Considerations\nPresenter: Dr. Carlos Salama\nModerator: Dr. John Añonuevo\nPGH Science Hall\nSeptember 24\, Tuesday\, 9-10 AM\n\n2) Antiretroviral Therapy (ART) and Pre-exposure Prophylaxis (PrEP): New Drugs on the Horizon\nPresenter: Dr. Carlos Salama\nModerator: Dr. Edsel Maurice Salvaña\nPGH Science Hall\nSeptember 26\, Thursday\, 9-10 AM\n\nHere is the Webinar Link:\nWebinar link: https://tinyurl.com/confePGHIM\nWebinar ID: 927 2617 5235\nPasscode: 83365638\n\nSee you there!\n\nSource: UP PGH Department of Medicine Facebook
URL:https://alum.up.edu.ph/event/antiretroviral-therapy-art-and-pre-exposure-prophylaxis-prep-new-drugs-on-the-horizon/
END:VEVENT
BEGIN:VEVENT
DTSTART;TZID=UTC:20240926T120000
DTEND;TZID=UTC:20240926T133000
DTSTAMP:20260424T152505
CREATED:20240924T213547Z
LAST-MODIFIED:20240924T213547Z
UID:17437-1727352000-1727357400@alum.up.edu.ph
SUMMARY:SIHI Talks: Leveraging Digital Platforms to Improve Access to Mental Health Services
DESCRIPTION:Join us on 26 September 2024 for a special crossover episode of SIHI Talks and the Let’s Talk Social Innovation in Health webinar series by SIHI Malawi and SIHI Rwanda.\n\nTendai Machaya will highlight the success story of the Saint John of God College of Health Sciences in using telecounselling to support communities during climate-induced disasters and pandemics.\n\nSee you at 12 PM GMT | 2 PM CAT\nREGISTER NOW: https://bit.ly/STxLTIHS\n\nSource: University of the Philippines Manila Facebook
URL:https://alum.up.edu.ph/event/sihi-talks-leveraging-digital-platforms-to-improve-access-to-mental-health-services/
END:VEVENT
BEGIN:VEVENT
DTSTART;TZID=UTC:20240926T130000
DTEND;TZID=UTC:20240926T143000
DTSTAMP:20260424T152505
CREATED:20240918T173524Z
LAST-MODIFIED:20240918T173531Z
UID:17332-1727355600-1727361000@alum.up.edu.ph
SUMMARY:"When Lives Were as Cheap as Chickens': Dark Histories of the Barrio during the Japanese Occupation of the Philippines\, 1942-1945"
DESCRIPTION:The UP Department of History is pleased to invite everyone to the lecture of Prof. Greg Bankoff\, Ph.D. (Research Fellow\, Ateneo de Manila University) titled “When ‘Lives Were as Cheap as Chickens’: Dark Histories of the Barrio during the Japanese Occupation of the Philippines\, 1942-1945.”\n\nThe event will be held on 26 September 2024 (Thursday)\, 1:00-2:30 PM PST at Palma Hall 207\, CSSP\, UP Diliman. The event is free and open to the public. No registration is required. Walk-in participants are welcome.\n\nABSTRACT:\nThere are dark histories in every nation’s past\, stories that for one reason or another are best left out of official narratives. World War II is full of such “uncomfortable” histories. The political context in Southeast Asia\, however\, was more complicated than in Europe\, the only other major world region almost entirely under the control of an occupying power. Here collaboration involved “defecting” from one colonial power to another. In the Philippines\, there has been limited scholarship on the many individuals accused of “treason” during Japan’s occupation of that country between 1942 and 1945.\n\nOnly the activities of the national and regional elites have received serious consideration\, and only scant attention has been given to what life was like in rural areas\, to the people living in the thousands of villages or barrios across the archipelago.\n\nTheir lost stories\, however\, can still be recovered from the previously inaccessible records of the Historical Data Papers\, the village histories mandated by President Quirino in 1951. The 40\,000+ pages of this unique source offer a grassroots account of the Japanese Occupation told from the viewpoint of the barrio residents that challenges the previous wartime historiography of the islands.\n\nABOUT THE SPEAKER:\nGreg Bankoff is a social and environmental historian who focuses on the way societies interrelate with their environments over time\, especially the way people adapt to frequent crises and hazards in their lives. His research focuses primarily on Southeast Asia and the Pacific\, seeking to understand how societies\, both past and present\, have learnt to normalize risk and the way in which communities deal with misfortune through an interdisciplinary approach that combines archival analysis with fieldwork.\n\nHe is a Research Fellow at Ateneo de Manila University.\n\nSource: UP Departamento ng Kasaysayan Facebook page
URL:https://alum.up.edu.ph/event/when-lives-were-as-cheap-as-chickens-dark-histories-of-the-barrio-during-the-japanese-occupation-of-the-philippines-1942-1945/
END:VEVENT
BEGIN:VEVENT
DTSTART;TZID=UTC:20240926T130000
DTEND;TZID=UTC:20240926T170000
DTSTAMP:20260424T152505
CREATED:20240905T154744Z
LAST-MODIFIED:20240905T154744Z
UID:17217-1727355600-1727370000@alum.up.edu.ph
SUMMARY:"Basics of Newborn Screening: A Training Orientation"
DESCRIPTION:As part of the National Institutes of Health anniversary celebration\, the Newborn Screening Reference Center (NSRC) in partnership with the Institute of Human Genetics (IHG) will conduct the “Basics of Newborn Screening: A Training Orientation” on September 26\, 2024\, from 1:00 to 5:00 p.m. at the Henry Sy Sr. Medical Sciences Building\, UP College of Medicine.\n\nWe warmly invite members of the UP community to attend.\n\nThis event is also open to the public.\n\nDon’t miss this opportunity to learn and engage!\n\nSource: University of the Philippines Manila Facebook
URL:https://alum.up.edu.ph/event/basics-of-newborn-screening-a-training-orientation/
END:VEVENT
BEGIN:VEVENT
DTSTART;TZID=UTC:20240926T133000
DTEND;TZID=UTC:20240926T150000
DTSTAMP:20260424T152505
CREATED:20240908T174902Z
LAST-MODIFIED:20240908T174902Z
UID:17231-1727357400-1727362800@alum.up.edu.ph
SUMMARY:"How Elsevier Harnesses Generative AI for Deeper Insights in Academic Research"
DESCRIPTION:📢 𝐀𝐊𝐃𝐀 𝐀𝐓 𝐇𝐀𝐘𝐀𝐆 ✒️📣\n\nThe University Library through the Information Services and Instruction Section is inviting faculty of UP\, SUCs\, LUCs\, and private HEIs to attend Akda at Hayag’s fifth session led by Mr. Nicholas Pak on the topic “How Elsevier Harnesses Generative AI for Deeper Insights in Academic Research” on 26 September 2024\, 1:30 PM to 3:00 PM at the Institute of Environmental Science and Meteorology (IESM) Auditorium\, College of Science\, P. Velasquez Street\, UP Diliman.\n\nThis webinar seeks to equip faculty with the knowledge and resources needed for research publishing in their respective disciplines.\n\nInterested participants may register here:\nhttps://forms.gle/8bfqDry5sqvmALBN9\n\n—\n\nThis initiative is in partnership with leading academic research databases such as IEEE Xplore\, Web of Science\, SAGE Publishing\, Emerald Publishing\, Elsevier\, Taylor & Francis\, Cambridge Core\, and Springer Nature.\nVisit this link on our website to know more https://mainlib.upd.edu.ph/akda-at-hayag/ Details on upcoming sessions will be posted soon.\n\nStay tuned!\n\nSource: The University Library\, UP Diliman Facebook
URL:https://alum.up.edu.ph/event/how-elsevier-harnesses-generative-ai-for-deeper-insights-in-academic-research/
END:VEVENT
END:VCALENDAR