BEGIN:VCALENDAR
VERSION:2.0
PRODID:-//UP Alumni Website - ECPv6.15.16//NONSGML v1.0//EN
CALSCALE:GREGORIAN
METHOD:PUBLISH
X-WR-CALNAME:UP Alumni Website
X-ORIGINAL-URL:https://alum.up.edu.ph
X-WR-CALDESC:Events for UP Alumni Website
REFRESH-INTERVAL;VALUE=DURATION:PT1H
X-Robots-Tag:noindex
X-PUBLISHED-TTL:PT1H
BEGIN:VTIMEZONE
TZID:UTC
BEGIN:STANDARD
TZOFFSETFROM:+0000
TZOFFSETTO:+0000
TZNAME:UTC
DTSTART:20230101T000000
END:STANDARD
END:VTIMEZONE
BEGIN:VEVENT
DTSTART;VALUE=DATE:20240901
DTEND;VALUE=DATE:20241001
DTSTAMP:20260423T115153
CREATED:20240911T171233Z
LAST-MODIFIED:20240911T171259Z
UID:17282-1725148800-1727740799@alum.up.edu.ph
SUMMARY:SP Lopez: The Radical President
DESCRIPTION:The University Archives\, UP Diliman and Strategic Communication\, Research and Marketing Section\, in partnership with the President’s Committee on Culture and the Arts (PCCA) and the UP Diliman OICA\, invites you to SP Lopez: The Radical President\, an exhibition of the Salvador P. Lopez Papers in commemoration of the UP Day of Remembrance.\n\nThe exhibit will be officially launched on 10 September 2024 (Tuesday) at 9:30 AM in the Environmental and Energy Engineering Building lobby.\n\nThis exhibit aims to bring to the public the life and accomplishments of the former UP President. One of the most famous images of SP Lopez was him rallying with students on the steps of AS Hall against the presence of military in the campus. He was a firm supporter of UP’s autonomy and academic freedom and for that he earned the respect and admiration of students during the difficult times of Martial Law.\n\nSource: The University Library\, UP Diliman Facebook
URL:https://alum.up.edu.ph/event/sp-lopez-the-radical-president/
END:VEVENT
BEGIN:VEVENT
DTSTART;TZID=UTC:20240904T080000
DTEND;TZID=UTC:20240928T170000
DTSTAMP:20260423T115153
CREATED:20240908T175654Z
LAST-MODIFIED:20240908T175654Z
UID:17237-1725436800-1727542800@alum.up.edu.ph
SUMMARY:UP Diliman College of Music 108th Founding Anniversary
DESCRIPTION:Here is our new schedule for College Week! See you!\n\nSource: UP Kolehiyo ng Musika Facebook
URL:https://alum.up.edu.ph/event/up-diliman-college-of-music-108th-founding-anniversary/
END:VEVENT
BEGIN:VEVENT
DTSTART;VALUE=DATE:20240915
DTEND;VALUE=DATE:20241007
DTSTAMP:20260423T115153
CREATED:20240905T212541Z
LAST-MODIFIED:20240905T212541Z
UID:17220-1726358400-1728259199@alum.up.edu.ph
SUMMARY:"Aso ni Juan: Getting Ready for the Big One! Presents BARK-kada!"
DESCRIPTION:Have fun learning all about dog training and disaster preparedness with the UPMV K9 Corps!\n\nEstablished in 2017\, the University of the Philippines –Metro Manila Development Authority – UP Vanguard\, Inc. (UPMV) K9 Corps is a non-profit partnership aimed at training local communities and their pets in basic search-and-rescue and disaster response. To date\, there are already close to a hundred volunteers and K9s in the program\, with Batch 11 already in training.\n\nThis year\, we’re celebrating seven years of resilience and community spirit with “Aso ni Juan: Getting Ready for the Big One! Presents BARK-kada!”\, a four-week festival of fun and games aimed at helping everyone get ready for the unexpected with our family\, friends – and\, of course\, our fur babies – by our side.\n\nIt’s a whole month of bonding\, learning\, and playing\, all aimed at getting us all ready for anything that may come our way. Because when the going gets tough\, the tough get barking!\n\nBARK-kada! is made possible by our official partners\, UP Vanguard Inc. – Makati Chapter\, the Philippine Coast Guard\, and OCR Dogs Pinas; our animal welfare partner\, Animal Kingdom Foundation; our disaster preparedness partners\, Team Rescue 8 and Technical Rescue Assistance Unit & Medical Aid (TRAUMA); and our media partners\, The Manila Bulletin and Animal Scene.\n\nTo register for BARK-kada! and to learn more about volunteering for K9 training\, visit our website:\n\nhttps://upmvk9.org/upmvk9-anniversary\n\nAnd don’t forget to like and follow our Facebook page for updates:\n\nhttps://www.facebook.com/upmmdavanguardk9
URL:https://alum.up.edu.ph/event/aso-ni-juan-getting-ready-for-the-big-one-presents-bark-kada/
END:VEVENT
BEGIN:VEVENT
DTSTART;VALUE=DATE:20240923
DTEND;VALUE=DATE:20241008
DTSTAMP:20260423T115153
CREATED:20240918T180241Z
LAST-MODIFIED:20240918T180346Z
UID:17349-1727049600-1728345599@alum.up.edu.ph
SUMMARY:UP Manila's Institutional Animal Care and Use Committee Basic IACUC Training Online Course
DESCRIPTION:The UP Manila’s Institutional Animal Care and Use Committee invites the UP Manila community to join the Free Basic IACUC Online Training this upcoming September 23 to October 7\, 2024. This asynchronous and self-paced online course will discuss topics on animal welfare\, legal bases\, the institutional animal care and use committee\, and the fundamentals of animal use in research. A certificate of completion will be awarded to the participants who complete the online module and pass 70% of the assessment within the given timeframe.\n \nRegister through bit.ly/4gtUcKI or scan the QR code found in the poster.\n\nFor more information and other concerns\, kindly contact the IACUC Secretariat at iacuc.upmanila@up.edu.ph. The office hours are Monday to Friday\, from 8:00 a.m. to 5:00 p.m.\, or you can visit and follow their Facebook page at https://www.facebook.com/iacucupmnl for future activities and services.\n\nSource: University of the Philippines Manila Facebook
URL:https://alum.up.edu.ph/event/basic-iacuc-training-online-course/
END:VEVENT
BEGIN:VEVENT
DTSTART;TZID=UTC:20240928T080000
DTEND;TZID=UTC:20240929T170000
DTSTAMP:20260423T115153
CREATED:20240704T220109Z
LAST-MODIFIED:20240704T220109Z
UID:16892-1727510400-1727629200@alum.up.edu.ph
SUMMARY:"K Ca Na Mg Fluids and Electrolytes ulit?” Take 2 of our 4th Post-graduate Course on fluids and electrolytes
DESCRIPTION:Season 4 of our hit series is making a comeback this year!\n\nThe UP-PGH Division of Nephrology\, in partnership with the PSN Southern Tagalog Chapter\, invites everyone once again to Take 2 of our 4th Post-graduate Course on fluids and electrolytes.\n\nRevisit conventions and reinventions.\nCalculate corrections accurately.\nSail through algorithms with our experts.\nManage with confidence.\n\nJoin us on September 28 and 29\, 2024 at the Summit Ridge Hotel in Tagaytay City!\n\n“K Ca Na Mg Fluids and Electrolytes ulit?”\n\nRegistration details to follow.\n\nSource: UP PGH Department of Medicine Facebook
URL:https://alum.up.edu.ph/event/k-ca-na-mg-fluids-and-electrolytes-ulit-take-2-of-our-4th-post-graduate-course-on-fluids-and-electrolytes/
END:VEVENT
BEGIN:VEVENT
DTSTART;TZID=UTC:20240928T090000
DTEND;TZID=UTC:20240928T160000
DTSTAMP:20260423T115153
CREATED:20240924T165800Z
LAST-MODIFIED:20240924T165800Z
UID:17412-1727514000-1727539200@alum.up.edu.ph
SUMMARY:Pasinatì: Pagsasanay sa Wika\, Teorya\, at Metodolohiya na "Ekokritisismong Filipino"
DESCRIPTION:MAGPATALA NA!\n\nSa patuloy na pagsusulong sa Patakarang Pangwika ng UP para sa pagpapalaganap at pagpapaunlad ng wikang Filipino bilang midyum ng pagtuturo\, pananaliksik\, publikasyon\, at opisyal na komunikasyon\, binubuksan ng Sentro ng Wikang Filipino – UP Diliman (SWF-UPD) ang rehistrasyon para sa panibagong Pasinatì: Pagsasanay sa Wika\, Teorya\, at Metodolohiya na “Ekokritisismong Filipino.”\n\nGaganapin ito sa 28 Setyembre 2024 (Sabado) 9:00 nu – 4:00 nh sa pamamagitan ng Zoom. Nilalayon ng lektura-palihang ito na ipakilala ang mga batayang perspektiba at lapit sa ekokritisismong nakatuon sa kontekstong Filipino.\n\nPara sa mga interesadong lumahok sa pagsasanay\, magpatala lamang sa pamamagitan ng pag-scan sa QR Code o pag-akses sa link https://bit.ly/Pasinati7.\n\nLimitado lamang ang slot ng workshop para matiyak na produktibo ang palihan. Antabayanan ang paanyaya sa inyong email para sa mga mapipiling kalahok.\n\nSource: Sentro ng Wikang Filipino – UP Diliman Facebook
URL:https://alum.up.edu.ph/event/pasinati-pagsasanay-sa-wika-teorya-at-metodolohiya-na-ekokritisismong-filipino/
END:VEVENT
BEGIN:VEVENT
DTSTART;TZID=UTC:20240928T130000
DTEND;TZID=UTC:20240928T143000
DTSTAMP:20260423T115153
CREATED:20240911T164637Z
LAST-MODIFIED:20240911T164712Z
UID:17274-1727528400-1727533800@alum.up.edu.ph
SUMMARY:Roles and Rules: Decoding Architecture
DESCRIPTION:Join us for Roles and Rules – a CPD Applied Webinar hosted by the UP College of Architecture! The event will analyze RA 9266 vis-a-vis PD 1096 and RA 544\, and expound on the amended BP 344 with two insightful lectures.\n\n📅 Date: 28 September 2024\n⏰ Time: 1:00 PM\n📍 Mode: Online via Zoom\n\nDon’t miss out on this opportunity to boost your professional skills and stay ahead in the field! Register now and be part of the conversation at: bit.ly/roles-and-rules-PGSL \n\nSource: UP Diliman College of Architecture Facebook
URL:https://alum.up.edu.ph/event/roles-and-rules-decoding-architecture/
END:VEVENT
BEGIN:VEVENT
DTSTART;TZID=UTC:20240928T130000
DTEND;TZID=UTC:20240928T160000
DTSTAMP:20260423T115153
CREATED:20240925T180829Z
LAST-MODIFIED:20240925T180829Z
UID:17455-1727528400-1727539200@alum.up.edu.ph
SUMMARY:Opening the Gates: A Case for Philippine Englishes: A Roundtable
DESCRIPTION:Educators from Bicol\, Iloilo\, Baguio\, Quezon\, and Davao will be sharing their insights and practices on teaching and practicing English. Let’s advance a more inclusive understanding and practice of English in this roundtable.\n\nView details\, sign up: bit.ly/openthegates928\n\nSource: UP Center for Integrative and Development Studies Facebook
URL:https://alum.up.edu.ph/event/opening-the-gates-a-case-for-philippine-englishes-a-roundtable/
END:VEVENT
BEGIN:VEVENT
DTSTART;TZID=UTC:20240928T160000
DTEND;TZID=UTC:20240928T200000
DTSTAMP:20260423T115153
CREATED:20240926T155546Z
LAST-MODIFIED:20240926T155546Z
UID:17472-1727539200-1727553600@alum.up.edu.ph
SUMMARY:Abelardo Hall Auditorium Concert Series
DESCRIPTION:Check out our exciting lineup for the Abelardo Hall Auditorium Concert Series on the Move 2024 in celebration of the 61st establishment of the Abelardo Hall Auditorium!\n\nSource: UP Kolehiyo ng Musika Facebook
URL:https://alum.up.edu.ph/event/abelardo-hall-auditorium-concert-series/
END:VEVENT
END:VCALENDAR