BEGIN:VCALENDAR
VERSION:2.0
PRODID:-//UP Alumni Website - ECPv6.15.16//NONSGML v1.0//EN
CALSCALE:GREGORIAN
METHOD:PUBLISH
X-WR-CALNAME:UP Alumni Website
X-ORIGINAL-URL:https://alum.up.edu.ph
X-WR-CALDESC:Events for UP Alumni Website
REFRESH-INTERVAL;VALUE=DURATION:PT1H
X-Robots-Tag:noindex
X-PUBLISHED-TTL:PT1H
BEGIN:VTIMEZONE
TZID:UTC
BEGIN:STANDARD
TZOFFSETFROM:+0000
TZOFFSETTO:+0000
TZNAME:UTC
DTSTART:20230101T000000
END:STANDARD
END:VTIMEZONE
BEGIN:VEVENT
DTSTART;VALUE=DATE:20240901
DTEND;VALUE=DATE:20241001
DTSTAMP:20260424T015022
CREATED:20240911T171233Z
LAST-MODIFIED:20240911T171259Z
UID:17282-1725148800-1727740799@alum.up.edu.ph
SUMMARY:SP Lopez: The Radical President
DESCRIPTION:The University Archives\, UP Diliman and Strategic Communication\, Research and Marketing Section\, in partnership with the President’s Committee on Culture and the Arts (PCCA) and the UP Diliman OICA\, invites you to SP Lopez: The Radical President\, an exhibition of the Salvador P. Lopez Papers in commemoration of the UP Day of Remembrance.\n\nThe exhibit will be officially launched on 10 September 2024 (Tuesday) at 9:30 AM in the Environmental and Energy Engineering Building lobby.\n\nThis exhibit aims to bring to the public the life and accomplishments of the former UP President. One of the most famous images of SP Lopez was him rallying with students on the steps of AS Hall against the presence of military in the campus. He was a firm supporter of UP’s autonomy and academic freedom and for that he earned the respect and admiration of students during the difficult times of Martial Law.\n\nSource: The University Library\, UP Diliman Facebook
URL:https://alum.up.edu.ph/event/sp-lopez-the-radical-president/
END:VEVENT
BEGIN:VEVENT
DTSTART;VALUE=DATE:20240915
DTEND;VALUE=DATE:20241007
DTSTAMP:20260424T015022
CREATED:20240905T212541Z
LAST-MODIFIED:20240905T212541Z
UID:17220-1726358400-1728259199@alum.up.edu.ph
SUMMARY:"Aso ni Juan: Getting Ready for the Big One! Presents BARK-kada!"
DESCRIPTION:Have fun learning all about dog training and disaster preparedness with the UPMV K9 Corps!\n\nEstablished in 2017\, the University of the Philippines –Metro Manila Development Authority – UP Vanguard\, Inc. (UPMV) K9 Corps is a non-profit partnership aimed at training local communities and their pets in basic search-and-rescue and disaster response. To date\, there are already close to a hundred volunteers and K9s in the program\, with Batch 11 already in training.\n\nThis year\, we’re celebrating seven years of resilience and community spirit with “Aso ni Juan: Getting Ready for the Big One! Presents BARK-kada!”\, a four-week festival of fun and games aimed at helping everyone get ready for the unexpected with our family\, friends – and\, of course\, our fur babies – by our side.\n\nIt’s a whole month of bonding\, learning\, and playing\, all aimed at getting us all ready for anything that may come our way. Because when the going gets tough\, the tough get barking!\n\nBARK-kada! is made possible by our official partners\, UP Vanguard Inc. – Makati Chapter\, the Philippine Coast Guard\, and OCR Dogs Pinas; our animal welfare partner\, Animal Kingdom Foundation; our disaster preparedness partners\, Team Rescue 8 and Technical Rescue Assistance Unit & Medical Aid (TRAUMA); and our media partners\, The Manila Bulletin and Animal Scene.\n\nTo register for BARK-kada! and to learn more about volunteering for K9 training\, visit our website:\n\nhttps://upmvk9.org/upmvk9-anniversary\n\nAnd don’t forget to like and follow our Facebook page for updates:\n\nhttps://www.facebook.com/upmmdavanguardk9
URL:https://alum.up.edu.ph/event/aso-ni-juan-getting-ready-for-the-big-one-presents-bark-kada/
END:VEVENT
BEGIN:VEVENT
DTSTART;VALUE=DATE:20240923
DTEND;VALUE=DATE:20241008
DTSTAMP:20260424T015022
CREATED:20240918T180241Z
LAST-MODIFIED:20240918T180346Z
UID:17349-1727049600-1728345599@alum.up.edu.ph
SUMMARY:UP Manila's Institutional Animal Care and Use Committee Basic IACUC Training Online Course
DESCRIPTION:The UP Manila’s Institutional Animal Care and Use Committee invites the UP Manila community to join the Free Basic IACUC Online Training this upcoming September 23 to October 7\, 2024. This asynchronous and self-paced online course will discuss topics on animal welfare\, legal bases\, the institutional animal care and use committee\, and the fundamentals of animal use in research. A certificate of completion will be awarded to the participants who complete the online module and pass 70% of the assessment within the given timeframe.\n \nRegister through bit.ly/4gtUcKI or scan the QR code found in the poster.\n\nFor more information and other concerns\, kindly contact the IACUC Secretariat at iacuc.upmanila@up.edu.ph. The office hours are Monday to Friday\, from 8:00 a.m. to 5:00 p.m.\, or you can visit and follow their Facebook page at https://www.facebook.com/iacucupmnl for future activities and services.\n\nSource: University of the Philippines Manila Facebook
URL:https://alum.up.edu.ph/event/basic-iacuc-training-online-course/
END:VEVENT
BEGIN:VEVENT
DTSTART;TZID=UTC:20240930T090000
DTEND;TZID=UTC:20241014T120000
DTSTAMP:20260424T015022
CREATED:20240918T171439Z
LAST-MODIFIED:20240918T171439Z
UID:17325-1727686800-1728907200@alum.up.edu.ph
SUMMARY:Stata I (Introduction to Stata)
DESCRIPTION:Stata I (Introduction to Stata)\n\n• Stata interface • coding syntax • using do files • database management •graphs •tables\n\nSchedule This is a hybrid training; Mondays\, 9:00 AM – 12:00 NN.\n\n*September 30\, 2024 – via Zoom\n*October 7\, 2024 – Face-to-Face\n*October 14\, 2024 – via zoom\n\nTrainer: Ms. Marife Lou L. Bacate\, Development Economist\n\nThis is a hybrid training; Participants are expected to attend all sessions. Priority will be given to new econometrics students (e.g.\, Econ 131\, Econ 231\, DE 231) and new graduate students. Limited slots only. Other students and non-UPSE students may be accommodated depending on the available slots.\n\nRegister here: Stata1-AY 2024-2025 Registration\nhttps://bit.ly/stata1-2024\n\n** Closing date for Stata I registration is on September 20\, 2024. **\n\nFor more information\, please email: upsetraining.upd@up.edu.ph\n\nSource: UP School of Economics Facebook page
URL:https://alum.up.edu.ph/event/stata-i-introduction-to-stata/
END:VEVENT
BEGIN:VEVENT
DTSTART;TZID=UTC:20240930T100000
DTEND;TZID=UTC:20240930T113000
DTSTAMP:20260424T015022
CREATED:20240929T184501Z
LAST-MODIFIED:20240929T184501Z
UID:17515-1727690400-1727695800@alum.up.edu.ph
SUMMARY:Asian Center Faculty Salon: New Faculty Lectures
DESCRIPTION:✨Get to know our new faculty members and their research!📖\n\nThe UP Asian Center will hold a Faculty Salon Series featuring Lectures from New Asian Center Faculty at the Seminar Room\, UP Asian Center\, University of the Philippines Diliman on:\n\nDay 1: September 30\, 2024\, 10:00 AM\, PST (GMT+8)\nDay 2: October 9\, 2024\, 2:00 PM\, PST (GMT+8)\,\n\nThe event is free and open to the public. Online pre-registration is recommended due to limited seating. To pre-register\, go to bit.ly/facultysalon24\n\nSource: Asian Center\, UP Diliman Facebook
URL:https://alum.up.edu.ph/event/asian-center-faculty-salon-new-faculty-lectures/
END:VEVENT
BEGIN:VEVENT
DTSTART;TZID=UTC:20240930T120000
DTEND;TZID=UTC:20240930T130000
DTSTAMP:20260424T015022
CREATED:20240929T185430Z
LAST-MODIFIED:20240929T185440Z
UID:17524-1727697600-1727701200@alum.up.edu.ph
SUMMARY:UP MED WEBINAR "A Deep Dive into Dyslipidemia: Understanding Causes\, Effects\, and Solutions"
DESCRIPTION:Inviting everyone to watch the UP MED WEBINAR “A Deep Dive into Dyslipidemia: Understanding Causes\, Effects\, and Solutions” scheduled on Monday\, September 30\, 2024 at 12:00-1:00 p.m.\n\nOur speaker is Dr. Mia C. Fojas. Dr. Fojas is an associate professor at the UP College of Medicine and a past president of the Philippine College of Endocrinology\, Diabetes and Metabolism.\n\nThis activity is brought to you by the UP College of Medicine Class of 1999.\n\nPlease register and join us for this event.\n\nThank you!\n\nViewing platforms:\nvia ZOOM:\n[advance registration recommended]\nhttps://bit.ly/3XldslR\n\nvia UPM LIVESTREAM:\nhttps://livestream.upm.edu.ph\n\nVIA UP MED WEBINARS 2024 FACEBOOK: [membership required]\nhttps://www.facebook.com/groups/282159307396442\n\nSource: UP Med Webinars Facebook
URL:https://alum.up.edu.ph/event/up-med-webinar-a-deep-dive-into-dyslipidemia-understanding-causes-effects-and-solutions/
END:VEVENT
BEGIN:VEVENT
DTSTART;TZID=UTC:20240930T130000
DTEND;TZID=UTC:20240930T143000
DTSTAMP:20260424T015022
CREATED:20240924T164627Z
LAST-MODIFIED:20240924T164627Z
UID:17406-1727701200-1727706600@alum.up.edu.ph
SUMMARY:DSCTA Dialogues: Brown Bag Sessions
DESCRIPTION:Everyone is invited to watch and learn in the first installment of DSCTA Dialogues: Brown Bag Sessions with the topic of Youth and Politics featuring the talks of DSCTA faculty members\, Assoc. Prof. Jose Carlo de Pano and Asst. Prof. Charles Erize Ladia\, and moderated by Ms. Marielle Justine Sumilong.\n\n📅 Date: 30 September 2024\n⏰ Time: 1:00 PM [Manila Time]\n📍 Platform: via Zoom\n🔗 To register: https://forms.gle/gzQ81jvhcE7arKab8\n\n—–\n\nSocial Media\, Family\, and the Filipino Young Adults’ Political Views\nBy Assoc. Prof. Jose Carlo de Pano\n\nRecognizing the power of social media in politics and the crucial role of the family in shaping youths’ opinions about political events\, the current study explored the impacts of family conversations about political information from social media on Filipino young adults’ political views. It also examined their reasons for using social media in general and for political information\, the types of political information they got from various social media platforms\, and the ways they processed said information. There were 21 young adults aged 18 to 23 who participated in the study. The data gathered from semi-structured interviews and focus group discussions were analyzed using a qualitative content analysis\, guided by political socialization as a framework. Results showed that the participants used social media mainly for communication and interpersonal interactions\, entertainment\, information and updates\, and schoolwork. And although they were not actively looking for political information\, they were still exposed to related items on social media\, which often centered on government\, sociopolitical and socioeconomic issues\, politicians\, local and national politics\, and international relations and global politics. The participants processed political information in many ways\, including knowing more about it\, talking about it with other people\, discussing it with the family\, and avoiding online discussions on it. Although they seldom engaged in political discussions online\, they acknowledged social media as a great source of political information. The participants believed that family conversations about political information on social media were important and could impact not only their political views but even those of their family.\n\nWhich Relationships (Politically) Matter? Communicative and Relational Dimensions of Filipino Youth Political Participation\nBy Asst. Prof. Charles Erize Ladia\n\nCommunicative and relational variables remain to be salient factors and contexts in political participation research given the advent of online communication platforms and evolving sociopolitical contexts like highly polarized elections and the COVID-19 pandemic. Socializing agents like family\, peers\, school\, and the media\, and attitude towards the political system and its institutions shape political attitudes and behaviors of the younger demographic. This presentation reflects on the roles of pandemic fatigue\, political discontent\, and interpersonal (e.g.\, family socialization and social capital)\, and online (e.g.\, perceived incivility in online discourse) political socialization of Filipino university students in determining their participation in politics during the highly contested 2022 presidential elections. Pandemic fatigue and political discontent are strong predictors of online mode of engagement. Social capital strongly predicts all the three types of political participation – traditional\, interpersonal\, and online. Family socialization primarily affects interpersonal political talk while\, interestingly\, perceived incivility of social media did not influence the modes of participation. Understanding the pivotal roles of political attitudes\, relational dynamics\, and levels of political socialization on participation is essential for encouraging youth political engagement\, which has exhibited a downward trend in recent years. As the 2025 elections nears\, which political attitudes and relationships matter to/for the Filipino youth?\n\n——\n\nDSCTA Dialogues: Brown Bag Sessions is a lecture series of the UP Department of Speech Communication and Theatre Arts designed to provide an opportunity for its faculty members to present their ongoing research projects and creative works to the general public. Each program will highlight presenters that will talk about a specific topic within Speech Communication and Theatre Arts\, promoting interdisciplinary dialogues and fostering a deeper understanding of disciplines. These sessions aim to foster potential collaborations\, a culture of meaningful academic discourse\, and a platform for knowledge exchange.\n\nSource: UP Department of Speech Communication and Theatre Arts Facebook
URL:https://alum.up.edu.ph/event/dscta-dialogues-brown-bag-sessions/
END:VEVENT
BEGIN:VEVENT
DTSTART;TZID=UTC:20240930T133000
DTEND;TZID=UTC:20240930T163000
DTSTAMP:20260424T015022
CREATED:20240925T164717Z
LAST-MODIFIED:20240925T164717Z
UID:17443-1727703000-1727713800@alum.up.edu.ph
SUMMARY:"Navigating the Labyrinth: Bridging the Gap in R&D Procurement Challenges to Foster Innovation"
DESCRIPTION:UPCOMING WEBINAR | In celebration of the Development Policy Research Month\, the UP Mindanao Office of Research and the Development Innovations and Policy Laboratory (DIP Lab) of UP Los Baños\, will be hosting a webinar (via Zoom and FB Live) on “Navigating the Labyrinth: Bridging the Gap in R&D Procurement Challenges to Foster Innovation” on 30 September 2024\, 1:30-4:30 pm.\n\nOur speakers are Prof. Cleto L. Nañola Jr.\, PhD (UP Mindanao)\, Ms. Ronela Narag (UP Los Baños)\, and Prof. Nelson Jose Vincent B. Querijero (UP Los Baños) who will talk about the complexities and best practices in managing R&D procurement within the academic and research institution framework.\n\nBe part of the conversation!\n\nThis event is FREE and OPEN TO THE PUBLIC.\n\nREGISTER: https://tinyurl.com/DPRM-Webinar-ORxDIPLab\n\nSource: UPMin Office of Research Facebook
URL:https://alum.up.edu.ph/event/navigating-the-labyrinth-bridging-the-gap-in-rd-procurement-challenges-to-foster-innovation/
END:VEVENT
BEGIN:VEVENT
DTSTART;TZID=UTC:20240930T140000
DTEND;TZID=UTC:20240930T160000
DTSTAMP:20260424T015022
CREATED:20240924T165029Z
LAST-MODIFIED:20240924T165029Z
UID:17409-1727704800-1727712000@alum.up.edu.ph
SUMMARY:Publishing Workshop: The Peer-Review Process & Suggestions from an Editor Perspective
DESCRIPTION:The UP Resilience Institute would like to invite the UP Diliman research community to a Publishing Workshop this coming 30 September 2024\, 2:00 PM at the Melchor Hall Theatre.\n\nOur esteemed speaker and facilitator will be Dr. Bruce D. Malamud\, Director of the Durham University Institute of Hazard\, Risk and Resilience and an Executive Editor of the Natural Hazards and Earth System Sciences journal of the European Geosciences Union – EGU. This interactive workshop will look at the peer-review process and provide suggestions from an editor’s perspective for early career scientists and researchers\, and even experienced authors\, on getting through the review process.\n\nDr. Malamud will also cover the use of Artificial Intelligence and systematic critical literature reviews.\n\nRegistration is free and certificates will be issued to participants.\n\nSecure your spot now by signing up through the link below or scanning the QR code in the poster. https://qr.link/bUPOt8\n\nSource: UP Resilience Institute Facebook
URL:https://alum.up.edu.ph/event/publishing-workshop-the-peer-review-process-suggestions-from-an-editor-perspective/
END:VEVENT
END:VCALENDAR