BEGIN:VCALENDAR
VERSION:2.0
PRODID:-//UP Alumni Website - ECPv6.15.16//NONSGML v1.0//EN
CALSCALE:GREGORIAN
METHOD:PUBLISH
X-WR-CALNAME:UP Alumni Website
X-ORIGINAL-URL:https://alum.up.edu.ph
X-WR-CALDESC:Events for UP Alumni Website
REFRESH-INTERVAL;VALUE=DURATION:PT1H
X-Robots-Tag:noindex
X-PUBLISHED-TTL:PT1H
BEGIN:VTIMEZONE
TZID:UTC
BEGIN:STANDARD
TZOFFSETFROM:+0000
TZOFFSETTO:+0000
TZNAME:UTC
DTSTART:20230101T000000
END:STANDARD
END:VTIMEZONE
BEGIN:VEVENT
DTSTART;TZID=UTC:20240930T090000
DTEND;TZID=UTC:20241014T120000
DTSTAMP:20260424T094819
CREATED:20240918T171439Z
LAST-MODIFIED:20240918T171439Z
UID:17325-1727686800-1728907200@alum.up.edu.ph
SUMMARY:Stata I (Introduction to Stata)
DESCRIPTION:Stata I (Introduction to Stata)\n\n• Stata interface • coding syntax • using do files • database management •graphs •tables\n\nSchedule This is a hybrid training; Mondays\, 9:00 AM – 12:00 NN.\n\n*September 30\, 2024 – via Zoom\n*October 7\, 2024 – Face-to-Face\n*October 14\, 2024 – via zoom\n\nTrainer: Ms. Marife Lou L. Bacate\, Development Economist\n\nThis is a hybrid training; Participants are expected to attend all sessions. Priority will be given to new econometrics students (e.g.\, Econ 131\, Econ 231\, DE 231) and new graduate students. Limited slots only. Other students and non-UPSE students may be accommodated depending on the available slots.\n\nRegister here: Stata1-AY 2024-2025 Registration\nhttps://bit.ly/stata1-2024\n\n** Closing date for Stata I registration is on September 20\, 2024. **\n\nFor more information\, please email: upsetraining.upd@up.edu.ph\n\nSource: UP School of Economics Facebook page
URL:https://alum.up.edu.ph/event/stata-i-introduction-to-stata/
END:VEVENT
BEGIN:VEVENT
DTSTART;TZID=UTC:20241008T080000
DTEND;TZID=UTC:20241018T170000
DTSTAMP:20260424T094819
CREATED:20241008T181054Z
LAST-MODIFIED:20241008T181054Z
UID:17758-1728374400-1729270800@alum.up.edu.ph
SUMMARY:“Crossing Rivers: Indigenous Struggles and Cultural Collaborations”
DESCRIPTION:THIS OCTOBER AT PAROLA: CROSSING RIVERS 🛶\n​\nYou’re invited to Crossing Rivers: Indigenous Struggles and Cultural Collaborations!\n\nJoin us in celebrating Indigenous Peoples Month with an exhibition featuring the works of Cece Carpio\, Cian Dayrit\, Carel Mapanoo\, and Karilyo. This showcase highlights the evolution of the Adow ne Domaget (Dumagat Day) festival in Dingalan\, Aurora Province\, from 2018 to the present.\n​\n📅 When: 08-18 October 2024\n📍 Where: Gallery One\, PAROLA\, College of Fine Arts\, UP Diliman\n​\nDon’t miss out on our public programs:\nOpening Program on October 8\, 2024 at 5pm\nArtist Talk on October 15\, 2024 at 2:30-4pm\nClosing Program on October 18\, 2024 at 5pm\n​\nLet’s honour and uplift Indigenous voices together and continue their fight for ancestral land and self-determination! ​\n\nSource: UP Fine Arts Gallery Facebook\n​
URL:https://alum.up.edu.ph/event/crossing-rivers-indigenous-struggles-and-cultural-collaborations/
END:VEVENT
BEGIN:VEVENT
DTSTART;TZID=UTC:20241011T080000
DTEND;TZID=UTC:20241011T120000
DTSTAMP:20260424T094819
CREATED:20241009T165620Z
LAST-MODIFIED:20241009T165620Z
UID:17783-1728633600-1728648000@alum.up.edu.ph
SUMMARY:Urban Ecologies\, Sustainable Conservation & Innovative Governance in Baguio: A Forum
DESCRIPTION:The Local Regional Studies Network (LRSN) of UP CIDS and the Cordillera Studies Center\, UP Baguio are organizing a forum\, “Baguio City’s Biodiversity Greenprint: A Policy Review on Urban Ecologies for Sustainable Conservation and Innovative Governance\,” on 11 October 2024\, 8:00 am–12:00 nn\, via Zoom and the Audio Visual Room\, College of Social Sciences\, University of the Philippines Baguio. The forum is free and open to the public\, but seating is first-come\, first-served. Participants are encouraged to register.\n \nSIGN UP: YES\, I WILL ATTEND!\n\nConcept Note\n\nBaguio City\, known for its cool climate and unique biodiversity\, has long been a vital ecological zone in Northern Luzon. However\, the rapid urbanization and population growth over the last few decades have led to significant challenges to its ecological sustainability. Originally designed for a population of 25\,000–30\,000\, Baguio has surpassed this limit more than twelve times\, resulting in strain on its natural resources\, degradation of urban ecosystems\, and loss of biodiversity. The city’s expansion threatens not only its environment\, but also its potential as a model for sustainable urban living.\n\nThe Cordillera Administrative Region (CAR)\, which includes Baguio\, is home to several key biodiversity areas (KBAs) that serve as crucial ecological hotspots. Despite this\, biodiversity studies in the region are limited\, leaving significant gaps in conservation efforts and policy interventions. Without adequate biodiversity data\, informed strategies for ecological preservation and sustainable urban development remain difficult to develop.\n\nThe “Baguio Biodiversity Greenprint” project seeks to address these issues through a comprehensive policy review and stakeholder engagement to develop a blueprint for sustainable urban ecological governance. This will also serve as UP Baguio’s contribution to the 115th Baguio City Charter Anniversary celebrations.\n\nThe forum will consist of keynote speeches\, policy presentations\, and interactive discussions from key stakeholders: government officials\, environmental experts\, community leaders\, and academic representatives. This will hopefully initiate the conversation on sustainable urban ecologies and ensure a broad range of perspectives in crafting policy recommendations.\n\nForum Objectives\n\nThe forum aims to:\n\nIntroduce the Baguio Biodiversity Greenprint project and outline its objectives;\n\nExplore the impact of urbanization on Baguio’s biodiversity;\n\nSolicit feedback from stakeholders to shape policy recommendations; and\n\nPromote collaboration on innovative solutions for balancing urban development with ecological conservation.\n\nResource Speakers\n\nAttorney Rhenan G. Diwas will be sharing his expertise and plans for the city as the head of the Baguio City Environment and Parks Management Office.\n\nDr. Zenaida G. Baoanan\, Professor and UP Scientist of the University of the Philippines Baguio\, will discuss biodiversity conservation\, urban planning\, and sustainable governance.\n\nOrganizers and Queries\n\nFor queries\, please email lrsn.baguio@up.edu.ph.\n\nThis forum is organized by the Local Regional Studies Network (LRSN) of the Center for Integrative and Development Studies\, University of the Philippines\, the policy research unit\, and the Cordillera Studies Center\, University of the Philippines Baguio.\n\nLRSN is one of the Research Programs of UP CIDS\, and it currently involves\, among others\, faculty and staff of the University of the Philippines Baguio. Learn more about UP CIDS and download 1000+ policy papers for free.
URL:https://alum.up.edu.ph/event/urban-ecologies-sustainable-conservation-innovative-governance-in-baguio-a-forum/
END:VEVENT
BEGIN:VEVENT
DTSTART;TZID=UTC:20241011T120000
DTEND;TZID=UTC:20241011T130000
DTSTAMP:20260424T094819
CREATED:20240929T213941Z
LAST-MODIFIED:20241010T162151Z
UID:17533-1728648000-1728651600@alum.up.edu.ph
SUMMARY:Health Updates Webinar #213 "Mga Bagong Solusyon sa Hamon ng Cervical Cancer: Empowering Filipinas for Early Detection and Prevention"
DESCRIPTION:The University of the Philippines\,\nin partnership with the UP Manila – National Institutes of Health\,\nand in cooperation with UP Philippine General Hospital and UP College of Medicine\,\nwould like to invite you to attend this webinar! \n  \nRegistration slots are limited to this HEALTH UPDATES webinar\nSo sign up NOW:\nbit.ly/HealthUpdatesWebinar213 \n  \nWebinar #213\nOctober 11\, 2024 (Friday) 12nn\nMga Bagong Solusyon sa Hamon ng Cervical Cancer:\nEmpowering Filipinas for Early Detection and Prevention\n\nPresenter:\nDR. CECILIA LADINES-LLAVE\nTechnical Advisor\, Jhpiego Philippines (SUCCESS Affiliate of Johns Hopkins University)\nResearch Professor\, Institute of Child Health and Human Development\, National Institutes of Health\, UP Manila\nGynecologic oncologist and Cervical cancer elimination advocate\n\nReactor:\nDR. LILLI MAY C. TEODORO-COLE\nChief\, Section of Gynecologic Oncology\nDepartment of Obstetrics & Gynecology\nJose R. Reyes Memorial Medical Center\n\n———————————————————–\n\nWebinar #213\nOctober 11\, 2024 (Friday) 12nn\nMga Bagong Solusyon sa Hamon ng Cervical Cancer:\nEmpowering Filipinas for Early Detection and Prevention\n\nCervical cancer remains a significant public health concern in the Philippines\, despite advancements in healthcare. We will also discuss the latest research on cervical cancer epidemiology in the country\, highlighting the prevalence rates and socioeconomic disparities associated with the disease. In addition\, our panel of experts will discuss the role of human papillomavirus (HPV) infection as a primary cause of cervical cancer and explore the effectiveness of HPV vaccination programs in reducing the incidence of the disease.\n\nPrevention and early detection are crucial in mitigating the impact of cervical cancer. Hence\, we will cover the importance of regular cervical screening\, including Pap smears and HPV testing\, as well as the benefits of HPV vaccination for both women and men. We will also discuss the challenges and strategies for improving access to cervical screening services\, particularly in underserved communities.\n\nWe will explore treatment options for cervical cancer\, including the range of available approaches\, from surgery and radiation therapy to chemotherapy and targeted therapies. By understanding the disease’s distribution and risk factors\, we can put more emphasis on prevention\, early detection strategies\, and appropriate treatment in improving patient outcomes and reducing mortality rates.\n\nOur main presenter is Dr. Cecilia Ladines-Llavees\, who is a cervical cancer elimination advocate and serves as technical advisor to Jhpiego Philippines. Our reactor is Dr. Lilli May C. Teodoro-Cole\, who is the chief of the Section of Gynecologic Oncology\, Department of Obstetrics & Gynecology\, Jose R. Reyes Memorial Medical Center.\n\nJoin us in empowering everyone to contribute to the ongoing efforts to reduce the burden of cervical cancer and improve the health and well-being of the Filipino population. Together\, we can stop preventable deaths!
URL:https://alum.up.edu.ph/event/health-updates-webinar-213/
END:VEVENT
BEGIN:VEVENT
DTSTART;TZID=UTC:20241011T160000
DTEND;TZID=UTC:20241011T170000
DTSTAMP:20260424T094819
CREATED:20241010T181947Z
LAST-MODIFIED:20241010T181947Z
UID:17835-1728662400-1728666000@alum.up.edu.ph
SUMMARY:UPSE-PCED Friday Seminar Series "Impact Evaluation in 45 Minutes"
DESCRIPTION:HAPPENING THIS WEEK!\n\n[UPSE-PCED Friday Seminar Series]\n\nDon’t miss our UPSE-PCED Seminar on:\n“Impact Evaluation in 45 Minutes” by UPSE Visiting Professors Dr. Mead Over and Dr. Elizabeth M. King\, to be held on 11 October 2024 (Friday)\, 4:00 PM at Judith R. Duavit-Vasquez and Class of 1984 (Room 105) at the UP School of Economics and online through Zoom.\n\nPlease register using the links below or by scanning the QR codes:\nOnsite: https://tinyurl.com/mty2scjz\nZoom: https://tinyurl.com/f2hak46f\n\nWe’d love to see you there!\n\nSource: UP School of Economics Facebook
URL:https://alum.up.edu.ph/event/upse-pced-friday-seminar-series-impact-evaluation-in-45-minutes/
END:VEVENT
BEGIN:VEVENT
DTSTART;TZID=UTC:20241011T173000
DTEND;TZID=UTC:20241011T183000
DTSTAMP:20260424T094819
CREATED:20241008T182120Z
LAST-MODIFIED:20241008T182120Z
UID:17761-1728667800-1728671400@alum.up.edu.ph
SUMMARY:"Shields of the people’: Disaster Risk Reduction education for building up agents of resilience and responsibilised citizens"
DESCRIPTION:What comprises the right education for Disaster Risk Reduction (DRR)? This oft-asked question has long intrigued educators and field practitioners when viewing what builds a culture of safety and resilience among society’s vulnerable sectors.\n\nFor the latest paper presentation of the Heo/Geo Lecture Series for 2024\, DRR will be spotlit as a global policy initiative to build resilience in hazards-exposed communities. Sponsored jointly by the UPD Department of Geography and the Philippine Geographical Society (PGS) the Heo/Geo Lecture Series presents “‘Shields of the people’: Disaster Risk Reduction education for building up agents of resilience and responsibilised citizens” to be presented by Dr Liberty de Rivera on Friday\, 11 October 2024 at 5:30PM Philippine time UTC+8 / 7:30PM AEST UTC+10).\n\nFor this presentation\, Dr de Rivera interrogates the rhetoric of resilience building through education by investigating its contrasting features as an agentic concept and a responsibilising device. Through an ethnographic reading of DRR education programmes in Aparri town in the Philippines\, she will illustrate how resilience as a polyvalent construct creates a double-bind of creating spaces for education actors and learners; participation and empowerment while legitimising patterns of deflection of responsibilities. Dr de Rivera centres the analysis on the metaphorical reference of students as Salaknib Dagiti Tattao\, or shields of the people\, and the designation of teachers as disaster responders to demonstrate how emerging labels and expectations about resilient citizenship must be reflexively developed and critically enacted. Inherent within these programmes are features that might depoliticise disasters and overshadow the need to uphold accountability and responsibility.\n\nDr Liberty Pascua de Rivera is Vice-Chancellor Research Fellow at the Faculty of Education of Southern Cross University. Her research interests include analysing and evaluating policies and their implementation in the areas of education for sustainable development\, climate change\, and disaster risk reduction. Central to her research is the idea of cognitive justice—what\, or whose knowledge\, is emphasised\, neglected\, and minoritised in processes of policy cascade.\n\nLiberty obtained her BA in Communication Research degree from the UP College of Mass Communication and her Master of Development Studies and PhD from the University of Sydney. Liberty has taught\, conducted research\, and engaged in development work in Singapore\, the Philippines\, Vanuatu\, and Australia. She is the treasurer of the Oceania Comparative and International Education Society – OCIES where she also co-leads the New and Emerging Researchers of OCIES. Liberty is an Associate Editor of the International Research in Geographical and Environmental Education (IRGEE) journal. Liberty is from the province of Apayao. She is the mother to two-year-old Kappia and partner to Ryan.\n\nThe Heo/Geo Lecture Series is a space to share and exchange ideas on a wide variety of geographical topics that intersect methodologies\, discourses\, technologies\, pedagogies\, and practices. Faculty\, students\, alumni and local and foreign geography and geography-adjacent researchers delivered various presentations in previous academic years fulfilling one of the Department’s mission: to popularize geography as an academic discipline through research and practice.\n\nThis presentation is sponsored through Geographies of Disasters and Hazards (G-DASH)\, and the Human Geography (HuG) and Media\, Literary Geographies\, and Geohumanities (MELANGE) research groups of the UP Diliman Department of Geography and in line with the UN Sustainable Development Goal #3 (Good health and well-being) and #4 (Quality education).\n\nTo participate in the talk\, click this link to register: https://bit.ly/3zLBSMx\n\nSource: UP Department of Geography Facebook
URL:https://alum.up.edu.ph/event/shields-of-the-people-disaster-risk-reduction-education-for-building-up-agents-of-resilience-and-responsibilised-citizens/
END:VEVENT
END:VCALENDAR