BEGIN:VCALENDAR
VERSION:2.0
PRODID:-//UP Alumni Website - ECPv6.15.16//NONSGML v1.0//EN
CALSCALE:GREGORIAN
METHOD:PUBLISH
X-WR-CALNAME:UP Alumni Website
X-ORIGINAL-URL:https://alum.up.edu.ph
X-WR-CALDESC:Events for UP Alumni Website
REFRESH-INTERVAL;VALUE=DURATION:PT1H
X-Robots-Tag:noindex
X-PUBLISHED-TTL:PT1H
BEGIN:VTIMEZONE
TZID:UTC
BEGIN:STANDARD
TZOFFSETFROM:+0000
TZOFFSETTO:+0000
TZNAME:UTC
DTSTART:20230101T000000
END:STANDARD
END:VTIMEZONE
BEGIN:VEVENT
DTSTART;TZID=UTC:20241008T080000
DTEND;TZID=UTC:20241018T170000
DTSTAMP:20260423T040651
CREATED:20241008T181054Z
LAST-MODIFIED:20241008T181054Z
UID:17758-1728374400-1729270800@alum.up.edu.ph
SUMMARY:“Crossing Rivers: Indigenous Struggles and Cultural Collaborations”
DESCRIPTION:THIS OCTOBER AT PAROLA: CROSSING RIVERS 🛶\n​\nYou’re invited to Crossing Rivers: Indigenous Struggles and Cultural Collaborations!\n\nJoin us in celebrating Indigenous Peoples Month with an exhibition featuring the works of Cece Carpio\, Cian Dayrit\, Carel Mapanoo\, and Karilyo. This showcase highlights the evolution of the Adow ne Domaget (Dumagat Day) festival in Dingalan\, Aurora Province\, from 2018 to the present.\n​\n📅 When: 08-18 October 2024\n📍 Where: Gallery One\, PAROLA\, College of Fine Arts\, UP Diliman\n​\nDon’t miss out on our public programs:\nOpening Program on October 8\, 2024 at 5pm\nArtist Talk on October 15\, 2024 at 2:30-4pm\nClosing Program on October 18\, 2024 at 5pm\n​\nLet’s honour and uplift Indigenous voices together and continue their fight for ancestral land and self-determination! ​\n\nSource: UP Fine Arts Gallery Facebook\n​
URL:https://alum.up.edu.ph/event/crossing-rivers-indigenous-struggles-and-cultural-collaborations/
END:VEVENT
BEGIN:VEVENT
DTSTART;TZID=UTC:20241014T090000
DTEND;TZID=UTC:20241016T160000
DTSTAMP:20260423T040651
CREATED:20241010T180724Z
LAST-MODIFIED:20241010T180724Z
UID:17821-1728896400-1729094400@alum.up.edu.ph
SUMMARY:UP School of Statistics Training Seminars in Applied Statistics: Basic Statistics with Exploratory Data Analysis
DESCRIPTION:In celebration of the National Statistics Month this October\, the UP School of Statistics\, in collaboration with the University of the Philippines Statistical Center Research Foundation\, Inc. (UPSCRFI)\, is pleased to announce the School’s face-to-face training seminars in applied statistics this October 2024.\n\nBuilding survey forms and encoding templates using Open Data Kit (ODK) and KoboToolbox\n7-9 October 2024\n9:00 AM to 12:00 NN; 1:00 PM to 4:00 PM\n\nBasic Statistics with Exploratory Data Analysis\n14-16 October 2024\n9:00 AM to 12:00 NN; 1:00 PM to 4:00 PM\n\nIntroduction to R and Data Management Using the Tidyverse Ecosystem\n21-23 October 2024\n9:00 AM to 12:00 NN; 1:00 PM to 4:00 PM\n\nApplied Statistical Forecasting\n28-29 October 2024\n8:30 AM to 12:00 NN; 1:00 PM to 4:30 PM\n\nThe training seminar fee for each module per participant is Php 10\,000. Discounted rates are available for individuals who register for more than one module and for groups of at least 10 participants. Due to the limited slots\, registration will be on a first-come-first-served basis\, and an email will be sent to confirm your registration.\n\nRegister here: https://bit.ly/UPSS-2024B-Trainings.\nSee more details: https://bit.ly/UPSS-2024B-Trainings-Info.\n\nWe look forward to seeing you in one of our training seminars!\n\nFor questions or clarifications\, please reach out to us via email at statesel.upd@up.edu.ph.\n\nSource: UP School of Statistics Facebook
URL:https://alum.up.edu.ph/event/up-school-of-statistics-training-seminars-in-applied-statistics-basic-statistics-with-exploratory-data-analysis/
END:VEVENT
BEGIN:VEVENT
DTSTART;VALUE=DATE:20241015
DTEND;VALUE=DATE:20241016
DTSTAMP:20260423T040651
CREATED:20240925T213425Z
LAST-MODIFIED:20240925T213425Z
UID:17466-1728950400-1729036799@alum.up.edu.ph
SUMMARY:HALIKA ROADSHOW 2024 @ UP Open University
DESCRIPTION:[EVENTS: HALIKA ROADSHOW 2024 @ UP Open University]\n\nThe Office of International Linkages will hold its third iteration of its annual onsite roadshow entitled HALIKA: Harnessing Linkage Opportunities for Knowledge Advancement 2024.\n\nHALIKA 2024 is an in-person Internationalization Roadshow organized by OIL. In July 2022\, the first installment of the event was launched virtually in observance of the restrictions brought upon by the COVID-19 pandemic. This year\, we aim to hold the third iteration at the UP Open University on 15 October 2024 as a hybrid event.\n\nNote: the venue can only accommodate a maximum of 120 pax\, seats will be on a first-come-first-serve basis. The form will also close once 120 respondents have submitted their responses.\n\nEnrolled undergraduate\, graduate\, and postgraduate students are welcome to attend\, as well as faculty members\, REPS\, and Admin Staff.\nRegister here: bit.ly/HALIKA2024Registration\n\nSource: UP Office of International Linkages Facebook
URL:https://alum.up.edu.ph/event/halika-roadshow-2024-up-open-university/
END:VEVENT
BEGIN:VEVENT
DTSTART;TZID=UTC:20241015T110000
DTEND;TZID=UTC:20241015T120000
DTSTAMP:20260423T040651
CREATED:20241009T220707Z
LAST-MODIFIED:20241009T220707Z
UID:17798-1728990000-1728993600@alum.up.edu.ph
SUMMARY:The National Active Aging Learning Program in Taiwan: Developing Praxis of New Practitioners | A Lecture
DESCRIPTION:The Assessment\, Curriculum\, and Technology Research Program (ACTRP) of the UP Center for Integrative and Development Studies (UP CIDS) is organizing a lecture\, “Taiwan’s National Active Aging Learning Program: Developing Praxis of New Practitioners\,” featuring Dr. Pi-Chi Han. It will be held on 15 October 2024\, 11:00 am – 12:00 noon\, at the UP CIDS Conference Hall Open Space. The event is free and open to the public\, but seating is first-come\, first-served. Participants are encouraged to pre-register.\n \n\nSIGN UP: YES\, I WILL ATTEND!\n\nAbstract\n\nAs of 2024\, more than 20 percent of Taiwan’s population is aged 65 or older. This significant demographic shift places Taiwan among rapidly aging societies\, necessitating policies and programs that address the needs of its elderly population.\n\nTaiwan’s National Active Aging Learning Program (NAALP) promotes lifelong learning\, well-being\, and social engagement for its growing aging population.\n\nBy preparing skilled practitioners\, the NAALP helps them apply theoretical knowledge through reflective practice (praxis).\n\nSpeaker\nDr. Pi-Chi Han is Chair and Professor at the Graduate Institute of Adult Education at the National Kaohsiung Normal University in Taiwan\, where she leads initiatives in adult learning\, aging\, and well-being projects. She conducts research\, teaching\, and consulting that help public\, private\, and NGO organizations develop global talents. She also serves as a senior advisor for the Asia-Pacific Economic Cooperation (APEC) in the HRD Working Group (HRDWG) and the Policy Partnership on Women and the Economy (PPWE).\n\nShe taught at the University of Missouri\, St. Louis\, USA\, and was a visiting scholar at the Chinese Academy of Social Sciences\, China. Her research interests include intercultural effectiveness competencies\, female marriage migrants and leadership development\, cross-cultural mentoring\, and Confucian leadership.\n\nOrganizer and Queries\nFor queries\, please email: actrp.cids@up.edu.ph\n\nThe lecture is organized by the Assessment\, Curriculum\, and Technology Research Program (ACTRP) of the Center of Integrative and Development Studies (CIDS)\, the policy research unit of the University of the Philippines (UP).
URL:https://alum.up.edu.ph/event/the-national-active-aging-learning-program-in-taiwan-developing-praxis-of-new-practitioners-a-lecture/
END:VEVENT
BEGIN:VEVENT
DTSTART;TZID=UTC:20241015T110000
DTEND;TZID=UTC:20241015T120000
DTSTAMP:20260423T040651
CREATED:20241010T175630Z
LAST-MODIFIED:20241010T175630Z
UID:17813-1728990000-1728993600@alum.up.edu.ph
SUMMARY:TSEK UP program! UP Health Education Discussion: "Kagat\, Kalmot\, Ano ang Dapat na Gamot?"
DESCRIPTION:Inaanyayahan ang lahat na pakinggan ang programang TSEK UP! Talakayan sa Edukasyong Pangkalusugan sa UP. Ito’y gaganapin sa Oktubre 15\, 2024 (Martes)\, 11:00 n.u. hanggang 12:00 n.t.\n\nPara sa mga gustong lumahok at makinig\, tumungo lamang sa https://dzup.org/. Ito’y mapapanood rin sa Facebook Page at YouTube Channel ng DZUP.\n\nAng ating unang episode ay pinamagatang “Kagat\, Kalmot\, Ano ang Dapat na Gamot?”\, kung saan magbabahagi ng mahahalagang impormasyon ukol sa rabies at pati na rin sa first aid para sa animal bites.\n\nMakakasama natin sa programa sina Dr. Myrissa Melinda Alip\, Direktor ng UP Health Service; Dr. Ann Celestyn Uichangco\, isang Infectious Disease Specialist; at si Dr. Raphael Abacan\, primary care physician ng UP Health Service.\n\nAng programang ito ay hatid ng UP Diliman Office of the Vice Chancellor for Community Affairs\, PET Advocates\, at UP Health Service.\n\nSource: UP Diliman Health Service Facebook
URL:https://alum.up.edu.ph/event/tsek-up-program-up-health-education-discussion-kagat-kalmot-ano-ang-dapat-na-gamot/
END:VEVENT
END:VCALENDAR