BEGIN:VCALENDAR
VERSION:2.0
PRODID:-//UP Alumni Website - ECPv6.15.16//NONSGML v1.0//EN
CALSCALE:GREGORIAN
METHOD:PUBLISH
X-WR-CALNAME:UP Alumni Website
X-ORIGINAL-URL:https://alum.up.edu.ph
X-WR-CALDESC:Events for UP Alumni Website
REFRESH-INTERVAL;VALUE=DURATION:PT1H
X-Robots-Tag:noindex
X-PUBLISHED-TTL:PT1H
BEGIN:VTIMEZONE
TZID:UTC
BEGIN:STANDARD
TZOFFSETFROM:+0000
TZOFFSETTO:+0000
TZNAME:UTC
DTSTART:20230101T000000
END:STANDARD
END:VTIMEZONE
BEGIN:VEVENT
DTSTART;VALUE=DATE:20241019
DTEND;VALUE=DATE:20241020
DTSTAMP:20260422T150050
CREATED:20240904T173742Z
LAST-MODIFIED:20240904T173742Z
UID:17208-1729296000-1729382399@alum.up.edu.ph
SUMMARY:UP Manila Alumni Association Grand Alumni Homecoming
DESCRIPTION:Visit their Facebook page for more info.
URL:https://alum.up.edu.ph/event/up-manila-alumni-association-grand-alumni-homecoming/
END:VEVENT
BEGIN:VEVENT
DTSTART;TZID=UTC:20241019T080000
DTEND;TZID=UTC:20241019T170000
DTSTAMP:20260422T150050
CREATED:20240918T174227Z
LAST-MODIFIED:20240918T174227Z
UID:17340-1729324800-1729357200@alum.up.edu.ph
SUMMARY:UP Occupational Therapy Task-Oriented Approach (TOA) to improve arm function in both adult and pediatric clients
DESCRIPTION:🚨📢 Upcoming Workshop Alert! 🧠💪\n\nJoin us for a full-day course on the Task-Oriented Approach (TOA)—an evidence-based intervention designed to improve arm function in both adult and pediatric clients. This workshop is perfect for practitioners of all levels\, from beginner to advanced\, looking to deepen their understanding and clinical skills.\n\n✨ What to Expect:\n– Learn the neuroscience behind TOA and explore the latest evidence supporting its practice.\n– Engage in hands-on learning\n– Develop and refine intervention plans through case studies you can apply to your own practice\n– Earn 6.0 CPD units!\n\nSharpen your clinical reasoning and critical thinking skills!\n📅 Date: October 19\, 2024\n📍 Location: UP College of Allied Medical Professions Building\n💡 Don’t miss out on this opportunity to elevate your practice!\n\n🔗 Register now: https://bit.ly/TOAWorkshopReg\n\nSource: UP Occupational Therapy Facebook
URL:https://alum.up.edu.ph/event/up-occupational-therapy-task-oriented-approach-toa-to-improve-arm-function-in-both-adult-and-pediatric-clients/
END:VEVENT
BEGIN:VEVENT
DTSTART;TZID=UTC:20241019T080000
DTEND;TZID=UTC:20241019T170000
DTSTAMP:20260422T150050
CREATED:20240918T181618Z
LAST-MODIFIED:20240918T181618Z
UID:17368-1729324800-1729357200@alum.up.edu.ph
SUMMARY:"Functional Foods and Probiotic Microbes: Up Close and Personal"
DESCRIPTION:REGISTER NOW! https://forms.gle/5jeeNmQqMrJBp1eu7\n\nWe are delighted to invite you to the hybrid symposium\, with the theme “Functional Foods and Probiotic Microbes: Up Close and Personal\,” hosted by the Philippine Society for Probiotics and Functional Foods\, Inc.\, in collaboration with the UP-CM Department of Biochemistry and Molecular Biology.\n\nIt will take place on October 19\, 2024\, at the Ramon S. Ang Auditorium\, Henry Sy Sr. Building\, UP Manila and via Zoom.\n\nWe are pleased to feature four distinguished speakers:\n– Dr. Massalin Nakphaichit (Kasetsart University)\n– Dr. Myra O. Villareal (Balik Scientist on Functional Food Research\, DOST-PCHRD)\n– Dr. Lotis Escobin-Mopera (University of the Philippines Los Baños)\n– Ms. Jocelyn Pamplona-Manipon (Yakult Philippines)\n\nPlease see the attached files for more details and registration rates. Don’t miss out on our early-bird registration fees\, available until September 30!\n\nWe look forward to your participation in this enriching event!\n\nSource: University of the Philippines Manila Facebook
URL:https://alum.up.edu.ph/event/functional-foods-and-probiotic-microbes-up-close-and-personal/
END:VEVENT
BEGIN:VEVENT
DTSTART;TZID=UTC:20241019T090000
DTEND;TZID=UTC:20241019T110000
DTSTAMP:20260422T150050
CREATED:20241017T191857Z
LAST-MODIFIED:20241017T191857Z
UID:18014-1729328400-1729335600@alum.up.edu.ph
SUMMARY:SABADO SA SULOK BATIBOT
DESCRIPTION:Magandang linggo\, mga ka-Batibot! 🌤️\n\nApat na araw na lang bago ang ating susunod na pagkikita! Kita-kits muli sa Sabado\, ika-19 ng Oktubre\, alas-9 ng umaga. Sama-sama nating talakayin ang usapin ng nutrisyon\, hindi lang ng mga bata\, kundi pati na rin ng mga magulang at kasama sa komunidad. 🍛\n\nKaya’t halina at mag-rehistro sa link na ito: https://bit.ly/SulokBatibotNutrisyon.\n\nAbangan ang special reminders na ipopost namin sa Huwebes para sa aktibidad na gagawin ng mga bata sa Sabado.\n\nPara sa mga katanungan\, maaaring imessage kami sa aming FB Page (@UPDilimanGenderOffice) o mag-email sa updgo@up.edu.ph.\n\nSee you there! 🥰\n\nSource: UP Diliman Gender Office Facebook
URL:https://alum.up.edu.ph/event/sabado-sa-sulok-batibot-2/
END:VEVENT
BEGIN:VEVENT
DTSTART;TZID=UTC:20241019T100000
DTEND;TZID=UTC:20241019T120000
DTSTAMP:20260422T150050
CREATED:20241016T162521Z
LAST-MODIFIED:20241016T162521Z
UID:17913-1729332000-1729339200@alum.up.edu.ph
SUMMARY:“Navigating the Pharmaceutical Industry in the Philippines”
DESCRIPTION:Hey there\, aspiring scientist-entrepreneurs! Are you ready to navigate? Well\, worry no more\, let us be your guide!! 🤩\nAs we venture through the corridors of UP Manila\, bask in the glory of generations of pharmacists that contributed to the fountain of excellence. There is no doubt that the journey of a pharmacist is no smooth ride and we need all the help we can get.\n\nCome join us this coming October 19\, 2024 with our esteemed speaker\, Mr. John Lester Gonzaga\, for his talk titled “Navigating the Pharmaceutical Industry in the Philippines”. Let us set our hearts ablaze with honor and excellence in service of the people in this once in a lifetime talk.\n\nRegister through the link https://forms.gle/umwfsuRgx1G6esQ69 or email Ms. Hanael Zuri Dagpin at hvdagpin@up.edu.ph.\n\nSource: UP College of Pharmacy Facebook
URL:https://alum.up.edu.ph/event/navigating-the-pharmaceutical-industry-in-the-philippines/
END:VEVENT
BEGIN:VEVENT
DTSTART;TZID=UTC:20241019T130000
DTEND;TZID=UTC:20241019T180000
DTSTAMP:20260422T150050
CREATED:20241001T215511Z
LAST-MODIFIED:20241001T215535Z
UID:17542-1729342800-1729360800@alum.up.edu.ph
SUMMARY:Batch 99 Talks: United Architects of the Philippines QC Central Chapter with UP College of Architecture Alumni Foundation\, Inc.
DESCRIPTION:The United Architects of the Philippines QC Central Chapter\, in cooperation with UP College of Architecture Alumni Foundation\, Inc. (CAAFI) present BATCH ’99 TALKS CPD Talks.\n\nThe event will be held at the University of the Philippines College of Architecture on October 19\, 2024\, at 1-6pm.\nInterested attendees may register thru: https://bit.ly/batch99talks1\n\nSource: UP Diliman College of Architecture Facebook
URL:https://alum.up.edu.ph/event/batch-99-talks/
END:VEVENT
BEGIN:VEVENT
DTSTART;TZID=UTC:20241019T180000
DTEND;TZID=UTC:20241019T220000
DTSTAMP:20260422T150050
CREATED:20241003T175317Z
LAST-MODIFIED:20241003T175317Z
UID:17585-1729360800-1729375200@alum.up.edu.ph
SUMMARY:UP Manila Alumni Association Grand Alumni Homecoming
DESCRIPTION:We invite ALL UP MANILA ALUMNI to our 31st Homecoming.\n\n📆 Oct 19\, 2024\, Saturday\n🕕 6 PM\n📍Plenary Hall\, Henry Sy Building\n\nFor Tickets\, please inquire from your local alumni associations and from the UPM OAR.\n\nThis year’s festivities will be hosted by UPDAA and UPCPAA.\n\nSee you all! 🎊🍾🪅\n\nSource: UP Manila Alumni Association Facebook
URL:https://alum.up.edu.ph/event/up-manila-alumni-association-grand-alumni-homecoming-2/
END:VEVENT
END:VCALENDAR