BEGIN:VCALENDAR
VERSION:2.0
PRODID:-//UP Alumni Website - ECPv6.15.16//NONSGML v1.0//EN
CALSCALE:GREGORIAN
METHOD:PUBLISH
X-WR-CALNAME:UP Alumni Website
X-ORIGINAL-URL:https://alum.up.edu.ph
X-WR-CALDESC:Events for UP Alumni Website
REFRESH-INTERVAL;VALUE=DURATION:PT1H
X-Robots-Tag:noindex
X-PUBLISHED-TTL:PT1H
BEGIN:VTIMEZONE
TZID:UTC
BEGIN:STANDARD
TZOFFSETFROM:+0000
TZOFFSETTO:+0000
TZNAME:UTC
DTSTART:20230101T000000
END:STANDARD
END:VTIMEZONE
BEGIN:VEVENT
DTSTART;TZID=UTC:20241020T060000
DTEND;TZID=UTC:20241020T090000
DTSTAMP:20260422T185955
CREATED:20241016T220216Z
LAST-MODIFIED:20241016T220216Z
UID:17931-1729404000-1729414800@alum.up.edu.ph
SUMMARY:Los Baños Science Community Foundation\, Inc. Fun Run
DESCRIPTION:LBSCFI Fun Run 🏃 is Back and in its 2nd ✌️ Year!\n\nIf you are looking for a fun run activity\, a health advocate\, or you just want to bond with your family or friends excitingly\, then this is for you! ☝️\n\nWe are offering a 3k (P550) or 5k (650) race category in this event that will take place on October 20 (Sunday)\, 06:00 am at IRRI-HQ. 🌾\nFor additional details and enlistment\, kindly scan the QR code in the attached poster or key in rb.gy/1ft6m6\n\nProceeds of this project will be used for the Los Baños Science Community Foundation Inc. (LBSCFI) 🔬🧪 projects that contribute to advancing science and technology education in our local communities. All proceeds from the Fun Run will support these important initiatives.\n\nWhat are you waiting for? Register 📝 now\, have fun\, and be part of this momentous event for the Los Baños Community!\n\nSource: Los Baños Science Community Foundation\, Inc. Facebook
URL:https://alum.up.edu.ph/event/los-banos-science-community-foundation-inc-fun-run/
END:VEVENT
END:VCALENDAR