BEGIN:VCALENDAR
VERSION:2.0
PRODID:-//UP Alumni Website - ECPv6.15.16//NONSGML v1.0//EN
CALSCALE:GREGORIAN
METHOD:PUBLISH
X-WR-CALNAME:UP Alumni Website
X-ORIGINAL-URL:https://alum.up.edu.ph
X-WR-CALDESC:Events for UP Alumni Website
REFRESH-INTERVAL;VALUE=DURATION:PT1H
X-Robots-Tag:noindex
X-PUBLISHED-TTL:PT1H
BEGIN:VTIMEZONE
TZID:UTC
BEGIN:STANDARD
TZOFFSETFROM:+0000
TZOFFSETTO:+0000
TZNAME:UTC
DTSTART:20230101T000000
END:STANDARD
END:VTIMEZONE
BEGIN:VEVENT
DTSTART;TZID=UTC:20241022T100000
DTEND;TZID=UTC:20241025T170000
DTSTAMP:20260422T224133
CREATED:20241017T191532Z
LAST-MODIFIED:20241017T191532Z
UID:18009-1729591200-1729875600@alum.up.edu.ph
SUMMARY:“Rafael V. Palma: Isang Exhibit”
DESCRIPTION:In celebration of Rafael Palma’s 150th birth anniversary and the Linggo ng KAPP\, the college will be holding an exhibit showcasing photos of Rafael S. Palma from 22-25 October 2024 at the Palma Hall first floor lobby. The photos will highlight Rafael S. Palma as a journalist\, government official\, scholar\, and teacher. The exhibit will be inaugurated this coming 22 October 2024 (Tuesday) at 10:00 AM.\n\nJoin us as we get to know the namesake of Palma Hall and celebrate his 150th birth anniversary.\n\nSee you there!\n\n————————\n\nSources:\nGeorge Grantham Bain Collection\, U.S. Library of Congress. Rafael Palma (ca. 1915 – ca. 1920) [Image]. https://lccn.loc.gov/2014703409\nJacinto\, P.\, Jr. (1960). Life of Rafael Palma. The Cable Tow\, 11(3)\, 91-95.\nPalma\, R. (1953). My Autobiography. Capitol Publishing House\, Inc.\nTavenner\, C. Philippine Cabinet [Image]. In a Scrapbook by Clyde Tavenner. Pambansang Aklatan ng Pilipinas.\nTavenner\, C. The Philippine Mission to the United States [Image]. In a Scrapbook by Clyde Tavenner. Pambansang Aklatan ng Pilipinas.\nU.S. Library of Congress. Twelve Members of the Staff of the Philippine Newspaper La Independencia Posed (ca. 1898). https://lccn.loc.gov/91705028\nU.S. National Archives and Records Administration. U.S. Philippine Commission [Image].\nU.S. National Archives and Records Administration (1928). Administrative Building of the University of the Philippines\, Manila [Image].\nVon Eickstedt\, E. (via Tewell\, J.). University of the Philippines\, Manila\, 1937-1939 [Image]. German East Asia Expedition (1937/1939)\, Dresden State Art Collections\, Museum of Ethnology\, Dresden Germany. https://www.flickr.com/photos/johntewell/29721722614\n\nSource: UP College of Social Sciences and Philosophy Facebook
URL:https://alum.up.edu.ph/event/rafael-v-palma-isang-exhibit/
END:VEVENT
BEGIN:VEVENT
DTSTART;VALUE=DATE:20241025
DTEND;VALUE=DATE:20241028
DTSTAMP:20260422T224133
CREATED:20241001T215153Z
LAST-MODIFIED:20241001T215153Z
UID:17539-1729814400-1730073599@alum.up.edu.ph
SUMMARY:2024 Philippine Queer Studies Conference
DESCRIPTION:We are now a month away from the 2024 Philippine Queer Studies Conference! Don’t forget to register before October 15\, 2024. Kindly visit: bit.ly/2024PQSCRegistration\n\nThe 2024 Philippine Queer Studies Conference will be held on 25–27 October 2024 in the School of Statistics\, University of the Philippines Diliman\, Quezon City\, Philippines.\n\nFor more updates\, follow us on our socials (phqueerstudies)\, and UP CWGS website (cws.up.edu.ph). You may also e-mail us at pqsc@up.edu.ph.\nThe 2nd Philippine Queer Studies Conference (PQSC 2024) carries the theme “Bridging queer knowledges and desires”. The objective is not only to highlight queer work and scholarship in the country\, but also to facilitate stronger connections between LGBTQI scholars\, policy makers\, and advocates.\n\nSource: Philippine Queer Studies Conference Facebook
URL:https://alum.up.edu.ph/event/2024-philippine-queer-studies-conference/
END:VEVENT
BEGIN:VEVENT
DTSTART;TZID=UTC:20241025T080000
DTEND;TZID=UTC:20241026T170000
DTSTAMP:20260422T224133
CREATED:20240918T182444Z
LAST-MODIFIED:20240918T182444Z
UID:17372-1729843200-1729962000@alum.up.edu.ph
SUMMARY:PSBMB Mindanao - PGC Mindanao Conference
DESCRIPTION:Let’s make history together! 💡\n\n🌟Excitement is building up for the PSBMB Mindanao Chapter & PGC Mindanao Conference! 🌟\nJoin us on October 25-26 at UP Mindanao\, Mintal\, Davao City for DASIG: Driving Advancement and Sustainability Through Innovation and Growth.\n\nDive into hands-on training\, hear from top experts\, explore cutting-edge research\, and celebrate PGC Mindanao’s 5th Anniversary! 🎉\nDon’t miss this opportunity to connect with the brightest minds in biotechnology and molecular biology.\n\nREGISTER HERE: https://bit.ly/PSBMB-PGCConference \n\nLet’s innovate and grow together! 💡🌱\n\nSource: Philippine Genome Center Mindanao Facebook
URL:https://alum.up.edu.ph/event/psbmb-mindanao-pgc-mindanao-conference/
END:VEVENT
BEGIN:VEVENT
DTSTART;TZID=UTC:20241025T100000
DTEND;TZID=UTC:20241025T120000
DTSTAMP:20260422T224133
CREATED:20241020T215813Z
LAST-MODIFIED:20241020T215813Z
UID:18032-1729850400-1729857600@alum.up.edu.ph
SUMMARY:“Beyond the Binary: A Spotlight on the Risk Behaviors and Well-being of Gender and Sexual Minority Youth”
DESCRIPTION:In celebration of Linggo ng KAPP 2024 and the 150th birth anniversary of Rafael V. Palma\, the UPPI invites you to a lecture by Dr. C Joy P. Cruz\, focusing on the risk behaviors and well-being of gender and sexual minority youth. 🌈\n\nThis event is part of UPPI’s 60th anniversary and a preconference activity for the National Conference on Family Planning\, co-hosted with the Department of Health.\n\nEveryone is welcome! Join us for this vital conversation\, either in person or online!\n\nSource: University of the Philippines Population Institute (UPPI) Facebook
URL:https://alum.up.edu.ph/event/beyond-the-binary-a-spotlight-on-the-risk-behaviors-and-well-being-of-gender-and-sexual-minority-youth/
END:VEVENT
BEGIN:VEVENT
DTSTART;TZID=UTC:20241025T100000
DTEND;TZID=UTC:20241025T160000
DTSTAMP:20260422T224133
CREATED:20240929T185052Z
LAST-MODIFIED:20240929T185052Z
UID:17520-1729850400-1729872000@alum.up.edu.ph
SUMMARY:This Event Sucks: Blood Donation Drive
DESCRIPTION:Join us this October 25\, 2024 at the UP Diliman Institute of Biology 2nd Floor for a blood donation drive entitled “This Event Sucks” organized by the UP Premedical Honor Society\, UP Association of Biology Majors\, and UP Zoological Society.\n\nAll blood donations will be directed to the Diabetic Extremity Care Team (DECT) patients.\n\nRegister using the QR code attached or via the link here: https://forms.gle/YxRvFkTUjM3KNZoG8\n\nSpread the word and see you there! 🧛🦇🩸\n\nSource: Up-Pgh Division of Endocrinology\, Diabetes\, & Metabolism Facebook
URL:https://alum.up.edu.ph/event/this-event-sucks-blood-donation-drive/
END:VEVENT
BEGIN:VEVENT
DTSTART;TZID=UTC:20241025T120000
DTEND;TZID=UTC:20241025T130000
DTSTAMP:20260422T224133
CREATED:20240929T214054Z
LAST-MODIFIED:20240929T214054Z
UID:17536-1729857600-1729861200@alum.up.edu.ph
SUMMARY:Health Updates Webinar #215
DESCRIPTION:Register at bit.ly/HealthUpdatesWebinar21
URL:https://alum.up.edu.ph/event/health-updates-webinar-215/
END:VEVENT
BEGIN:VEVENT
DTSTART;TZID=UTC:20241025T130000
DTEND;TZID=UTC:20241025T170000
DTSTAMP:20260422T224133
CREATED:20241003T182802Z
LAST-MODIFIED:20241003T182802Z
UID:17588-1729861200-1729875600@alum.up.edu.ph
SUMMARY:The End of World Order or the Birth of a New One? | A Lecture by Amitav Acharya\, PhD
DESCRIPTION:Everyone is invited to a lecture\, “The “End of World Order?” Or the Birth of a New One?\,” featuring Dr. Amitav Acharya. The lecture will take place on two dates and venues.\n\nThe first will be held on 25 October 2024\, 1:00 pm – 5:00 pm\, at the Performing Arts Hall\, UP Cebu\, Cebu City.\n\nThe second is scheduled for 29 October 2024\, 10:00 A.M. – 12:00 N.N\, at the Malcolm Hall Theater\, UP College of Law\, Diliman\, Quezon City.\n\nThe event is free and open to the public\, but seating is first-come\, first-served. Participants are encouraged to pre-register. \nSIGN UP: YES\, I WILL ATTEND!\n\nABSTRACT\n\nCreating and managing world order is not the monopoly of any nation or civilization. The present world order is no exception.\n\nIt is the creation of many societies and states over a long period of time\, during which non-Western elements or contributions have been embedded but often obscured by Western colonialism and dominance for the past few hundred years. Some of the most progressive principles of world order today—such as republican government\, diplomacy\, peace-making\, inter-state cooperation\, sustainable ecology\, human rights\, humanitarian warfare\, economic interdependence\, and freedom of seas—are not unique products of the West but have parallel or prior non-Western origins.\n\nThe relative decline of the West and the return/rise of “Rest” are leading to renegotiation of approaches to world order\, in which some of the distinctive contributions and preferences of non-Western nations are coming into greater play. The result is not “the end of world order” as Western leaders and pundits lament\, but the birth of a more inclusive and multi-civilizational form\, which Dr. Acharya has called a multiplex world.\n\nSPEAKER\n\nAmitav Acharya\, Ph.D. is the UNESCO Chair in Transnational Challenges and Governance and Distinguished Professor at the School of International Service\, American University\, Washington\, DC. He previously was a Professor at York University\, Toronto and the University of Bristol\, U.K.\, Fellow of Harvard University’s Asia Center\, a Research Fellow of Harvard’s John F. Kennedy School of Government\, and a Christensen Fellow at St Catherine’s College\, Oxford.\n\nHis forthcoming book is The Once and Future World Order: Why Global Civilization will Survive the Decline of the West (New York and London: Basic Books)\, a 5000-year history of world order building across multiple civilizations around the globe.\n\nQUERIES AND ORGANIZER INFO\n\nFor queries\, please email ssp.cids@up.edu.ph\n\nThe lecture is organized by the Strategic Studies Program of the UP Center of Integrative and Development Studies (CIDS)\, the University’s policy unit. Visit the UP CIDS Database and download 1000+ policy papers.\n\nThis event is also co-presented by the Decolonial Studies Program (DSP) and the Urban Studies Program (USP)\, both of UP CIDS\, along with the Department of Political Science\, UP Cebu College of Social Sciences; the UP Cebu Political Science Society; Office of International Linkages\, University of the Philippines; and the Department of Political Science\, UP Diliman.
URL:https://alum.up.edu.ph/event/the-end-of-world-order-or-the-birth-of-a-new-one-a-lecture-by-amitav-acharya-phd/
END:VEVENT
BEGIN:VEVENT
DTSTART;TZID=UTC:20241025T150000
DTEND;TZID=UTC:20241025T160000
DTSTAMP:20260422T224133
CREATED:20241017T190332Z
LAST-MODIFIED:20241017T190332Z
UID:18003-1729868400-1729872000@alum.up.edu.ph
SUMMARY:Online Philippine Launch of the Asia-Pacific Journal of International Humanitarian Law 2024 Edition
DESCRIPTION:Register now at bit.ly/APJIHLLaunch2024\n\nJoin us as we launch the 2024 Edition of the Asia Pacific Journal of International Humanitarian Law this October 25 (Friday)\, 3 PM Manila Time (GMT+8)!\n\nThe Asia-Pacific Journal of International Humanitarian Law (APJIHL) is an annual publication of the Institute of International Legal Studies-University of the Philippines Law Center (UP-IILS).\n\nThe Journal has a special focus on the Asia-Pacific region\, and publishes peer-reviewed scholarly articles\, book reviews\, and commentary on significant developments in international humanitarian law (IHL) and related fields.\n\nCatch Dr. Ai Kihara-Hunt\, Dr. Deepika Udagama\, and Dr. He Tiantian as they share their reflections and insights on the latest developments in International Humanitarian Law and the challenges and trends emerging across the Asia-Pacific region.\n\nSource: University of the Philippines College of Law Facebook
URL:https://alum.up.edu.ph/event/online-philippine-launch-of-the-asia-pacific-journal-of-international-humanitarian-law-2024-edition/
END:VEVENT
BEGIN:VEVENT
DTSTART;TZID=UTC:20241025T150000
DTEND;TZID=UTC:20241025T170000
DTSTAMP:20260422T224133
CREATED:20241016T173947Z
LAST-MODIFIED:20241016T173954Z
UID:17918-1729868400-1729875600@alum.up.edu.ph
SUMMARY:UPAA Cebu Book Launch of Teacher Talk: Reflections from the Frontlines
DESCRIPTION:You’re invited! 📚✨\n\nJoin us for the UP Alumni Association Cebu Chapter’s book launch of Teacher Talk: Reflections from the Frontlines—featuring 17 inspiring authors who share their insights from the world of teaching.\n\n🗓️ Date: October 25\, Friday\n🕒 Time: 3:00 PM\n📍 Venue: Arts and Science Hall\, University of the Philippines Cebu\n\nRSVP at https://forms.gle/wjULQuUN45PBGDTN7.\n\nInterested buyers may contact 09177003494.\n\nSee you there!\n\nSource: UP Alumni Association – Cebu Chapter Facebook
URL:https://alum.up.edu.ph/event/upaa-cebu-book-launch-of-teacher-talk-reflections-from-the-frontlines/
END:VEVENT
BEGIN:VEVENT
DTSTART;TZID=UTC:20241025T160000
DTEND;TZID=UTC:20241025T200000
DTSTAMP:20260422T224133
CREATED:20241015T213754Z
LAST-MODIFIED:20241028T155355Z
UID:17891-1729872000-1729886400@alum.up.edu.ph
SUMMARY:AMBIENT IMAGES II Day 4
DESCRIPTION:NEW DATES FOR DAY 3 AND 4!\n\nDAY 3 – Nov 8 2024\nDay 4 – Nov 11 2024\n\nWhere are the VIDEOTHEQUE\, ISHMAEL BERNAL GALLERY and the PERFUMED GARDEN?\nThey are all inside the UPFI Film Center Complex\, along the Academic Oval\, beside the tennis courts.\n\nGoogle Maps\nhttps://maps.app.goo.gl/TdDMoTvLxzPiHKWv6\n\nWaze\nhttps://www.waze.com/…/ph/ncr/qc/upfi-film-center…\n\nAMBIENT IMAGES 2\nStories of People and Sonic Experiences Told Through Film\n\nOctober 21\, 22\, 24 and 25\, 2024\nSee our schedule of films and events for this 4-day festival of sonic stories through film.\nhttps://www.facebook.com/upethnom/posts/pfbid0ftJWhSsEUjuZ3oPXwr8xCSCNojpt7QbENryVaJtYTKxaxhPy9QPFBYDxnjccLCLl\n\nFREE ADMISSION\nRegister here: bit.ly/ambientimages2\n\nLearn more about the program at our website:\nhttps://upethnom.com/ambientimages2\n\nSend your inquiries to:\nambientimages.upd@up.edu.ph\n\nAmbient Images II is presented by the UP Center for Ethnomusicology in partnership with the UP Film Institute\, through the University of the Philippines Diliman Office of the Chancellor\, in celebration of Indigenous People’s Month.\n\nSource: UP Center for Ethnomusicology Facebook
URL:https://alum.up.edu.ph/event/ambient-images-ii-4/
END:VEVENT
END:VCALENDAR