BEGIN:VCALENDAR
VERSION:2.0
PRODID:-//UP Alumni Website - ECPv6.15.16//NONSGML v1.0//EN
CALSCALE:GREGORIAN
METHOD:PUBLISH
X-WR-CALNAME:UP Alumni Website
X-ORIGINAL-URL:https://alum.up.edu.ph
X-WR-CALDESC:Events for UP Alumni Website
REFRESH-INTERVAL;VALUE=DURATION:PT1H
X-Robots-Tag:noindex
X-PUBLISHED-TTL:PT1H
BEGIN:VTIMEZONE
TZID:UTC
BEGIN:STANDARD
TZOFFSETFROM:+0000
TZOFFSETTO:+0000
TZNAME:UTC
DTSTART:20230101T000000
END:STANDARD
END:VTIMEZONE
BEGIN:VEVENT
DTSTART;VALUE=DATE:20241028
DTEND;VALUE=DATE:20241030
DTSTAMP:20260423T041111
CREATED:20240918T180830Z
LAST-MODIFIED:20240918T180830Z
UID:17357-1730073600-1730246399@alum.up.edu.ph
SUMMARY:Basic Course on Mental Health and Psychiatric Nursing (MHPN)
DESCRIPTION:🚨 Calling All Nurses in the Cordillera Administrative Region! 🚨\n\nAre you ready to enhance your skills in Mental Health and Psychiatric Nursing?\nJoin us for a Basic Course on Mental Health and Psychiatric Nursing (MHPN)—a two-day basic course designed specifically for registered nurses like you! This is your chance to gain essential knowledge and strategies to improve the quality of care for individuals with mental health conditions in various settings.\n\n🗓 When: October 28-29\, 2024\n📍 Where: Conner District Hospital Training Hall\, Conner\, Apayao\n\nDon’t miss this opportunity to elevate your practice and connect with fellow nurses. Register now and be part of this vital learning experience!\n\nThis is organized by UP College of Nursing in partnership with the Philippine Nurses Association-Cordillera Administrative Region.\n\nYou may register through this link: https://forms.gle/E5VyGDwEXbGS2ZVU8\n\nRegistration fee applies\n\nSource: UP College of Nursing Facebook
URL:https://alum.up.edu.ph/event/basic-course-on-mental-health-and-psychiatric-nursing-mhpn/
END:VEVENT
BEGIN:VEVENT
DTSTART;TZID=UTC:20241028T083000
DTEND;TZID=UTC:20241029T163000
DTSTAMP:20260423T041111
CREATED:20241010T181610Z
LAST-MODIFIED:20241010T181610Z
UID:17833-1730104200-1730219400@alum.up.edu.ph
SUMMARY:UP School of Statistics Training Seminars in Applied Statistics: Applied Statistical Forecasting
DESCRIPTION:In celebration of the National Statistics Month this October\, the UP School of Statistics\, in collaboration with the University of the Philippines Statistical Center Research Foundation\, Inc. (UPSCRFI)\, is pleased to announce the School’s face-to-face training seminars in applied statistics this October 2024.\n\nBuilding survey forms and encoding templates using Open Data Kit (ODK) and KoboToolbox\n7-9 October 2024\n9:00 AM to 12:00 NN; 1:00 PM to 4:00 PM\n\nBasic Statistics with Exploratory Data Analysis\n14-16 October 2024\n9:00 AM to 12:00 NN; 1:00 PM to 4:00 PM\n\nIntroduction to R and Data Management Using the Tidyverse Ecosystem\n21-23 October 2024\n9:00 AM to 12:00 NN; 1:00 PM to 4:00 PM\n\nApplied Statistical Forecasting\n28-29 October 2024\n8:30 AM to 12:00 NN; 1:00 PM to 4:30 PM\n\nThe training seminar fee for each module per participant is Php 10\,000. Discounted rates are available for individuals who register for more than one module and for groups of at least 10 participants. Due to the limited slots\, registration will be on a first-come-first-served basis\, and an email will be sent to confirm your registration.\n\nRegister here: https://bit.ly/UPSS-2024B-Trainings.\nSee more details: https://bit.ly/UPSS-2024B-Trainings-Info.\n\nWe look forward to seeing you in one of our training seminars!\n\nFor questions or clarifications\, please reach out to us via email at statesel.upd@up.edu.ph.\n\nSource: UP School of Statistics Facebook
URL:https://alum.up.edu.ph/event/up-school-of-statistics-training-seminars-in-applied-statistics-applied-statistical-forecasting/
END:VEVENT
END:VCALENDAR