BEGIN:VCALENDAR
VERSION:2.0
PRODID:-//UP Alumni Website - ECPv6.15.16//NONSGML v1.0//EN
CALSCALE:GREGORIAN
METHOD:PUBLISH
X-WR-CALNAME:UP Alumni Website
X-ORIGINAL-URL:https://alum.up.edu.ph
X-WR-CALDESC:Events for UP Alumni Website
REFRESH-INTERVAL;VALUE=DURATION:PT1H
X-Robots-Tag:noindex
X-PUBLISHED-TTL:PT1H
BEGIN:VTIMEZONE
TZID:UTC
BEGIN:STANDARD
TZOFFSETFROM:+0000
TZOFFSETTO:+0000
TZNAME:UTC
DTSTART:20230101T000000
END:STANDARD
END:VTIMEZONE
BEGIN:VEVENT
DTSTART;VALUE=DATE:20241111
DTEND;VALUE=DATE:20241116
DTSTAMP:20260423T215833
CREATED:20241008T214057Z
LAST-MODIFIED:20241008T214057Z
UID:17768-1731283200-1731715199@alum.up.edu.ph
SUMMARY:40th Clinical Epidemiology Anniversary
DESCRIPTION:We are excited to invite you to a milestone event on November 15\, 2024\, as we celebrate the 40th Anniversary of Clinical Epidemiology in the Philippines. This year’s theme\, ‘Advancing Equity in the Evolving Health Landscape\,’ will be highlighted by the Department of Clinical Epidemiology\, College of Medicine\, and the Institute of Clinical Epidemiology\, National Institutes of Health\, University of the Philippines Manila.\n\nJoin us for this special occasion at Citadines Bay City Manila\, as we reflect on four decades of progress and look ahead to a future of equitable health for all Filipinos.\n\nScan the QR code or sign up here to join in for the main scientific conference: https://bit.ly/40thceanniversary\n\nSource: University of the Philippines Manila Facebook
URL:https://alum.up.edu.ph/event/40th-clinical-epidemiology-anniversary/
END:VEVENT
BEGIN:VEVENT
DTSTART;TZID=UTC:20241111T093000
DTEND;TZID=UTC:20241111T113000
DTSTAMP:20260423T215833
CREATED:20241106T152849Z
LAST-MODIFIED:20241106T152849Z
UID:18136-1731317400-1731324600@alum.up.edu.ph
SUMMARY:"Current status of biotechnology in the Philippines and the applications of gene editing"
DESCRIPTION:You are invited to Forum 2 of #GeneTalks: From Edit to Innovation on November 11\, 2024 (9:30 AM – 11:30 AM) via Zoom — a webinar that will discuss gene editing technologies\, their potential across various fields\, and their broader implications.\n\nThe first speaker\, Dr. Reynante L. Ordonio (Senior Science Research Specialist\, Philippine Rice Research Institute)\, will give a talk on the topic of “Current status of biotechnology in the Philippines and the applications of gene editing”\n\nThe second speaker\, Dr. Ron Leonard V. Dy (Associate Professor\, NIMBB College of Science\, UP Diliman) will discuss the topic of “Application of gene editing in molecular diagnostics”\n\nInterested? Register through the link below: https://bit.ly/GeneTalks_RegForm\n\nSource: UP Diliman College of Science Facebook
URL:https://alum.up.edu.ph/event/current-status-of-biotechnology-in-the-philippines-and-the-applications-of-gene-editing/
END:VEVENT
BEGIN:VEVENT
DTSTART;TZID=UTC:20241111T120000
DTEND;TZID=UTC:20241111T170000
DTSTAMP:20260423T215833
CREATED:20241106T170221Z
LAST-MODIFIED:20241106T170221Z
UID:18166-1731326400-1731344400@alum.up.edu.ph
SUMMARY:QUEERAPATAN: Rights\, Roles and Rainbow Goals
DESCRIPTION:Let’s meet up! We need to talk…\nabout QUEERAPATAN: Rights\, Roles and Rainbow Goals! The time has been moved to 12 NOON\, on the same day\, November 11\, 2024.\n\nDetails below:\nTime: 12nn – 5pm\nVenue: Bulwagang Tandang Sora\, CSWCD\, UP Diliman\n\nJoin us by scanning the QR code in the original post!\n\nMakibahagi\, Makipamuhay\, Magpahinungód!\n\nSource: UPD Ugnayan ng Pahinungod Facebook
URL:https://alum.up.edu.ph/event/queerapatan-rights-roles-and-rainbow-goals/
END:VEVENT
END:VCALENDAR