BEGIN:VCALENDAR
VERSION:2.0
PRODID:-//UP Alumni Website - ECPv6.15.16//NONSGML v1.0//EN
CALSCALE:GREGORIAN
METHOD:PUBLISH
X-WR-CALNAME:UP Alumni Website
X-ORIGINAL-URL:https://alum.up.edu.ph
X-WR-CALDESC:Events for UP Alumni Website
REFRESH-INTERVAL;VALUE=DURATION:PT1H
X-Robots-Tag:noindex
X-PUBLISHED-TTL:PT1H
BEGIN:VTIMEZONE
TZID:UTC
BEGIN:STANDARD
TZOFFSETFROM:+0000
TZOFFSETTO:+0000
TZNAME:UTC
DTSTART:20230101T000000
END:STANDARD
END:VTIMEZONE
BEGIN:VEVENT
DTSTART;TZID=UTC:20241116T070000
DTEND;TZID=UTC:20241116T160000
DTSTAMP:20260424T073915
CREATED:20241028T191949Z
LAST-MODIFIED:20241028T191949Z
UID:18100-1731740400-1731772800@alum.up.edu.ph
SUMMARY:DUGONG BOMBO: A BLOOD DONATION DRIVE
DESCRIPTION:One small act\, a giant lifesaving impact! 🌟❤️\n\nBombo Radyo Philippines\, in partnership with the University of the Philippines Visayas through the UP Visayas Ugnayan ng Pahinungód/Oblation Corps\, invites you to make a meaningful difference. Join us in the blood donation drive “Dugong Bombo\, A Little Pain\, A Life to Gain” on 🗓️November 16\, 2024\, from 🕖7:00 AM to 4:00 PM at 🏫Iloilo Science and Technology University (ISAT-U)\, Burgos St.\, Lapaz\, Iloilo City. 🩸\n\nYour small act of kindness can mean a lifetime for someone else. Will you be the hero someone is waiting for? Sign up by completing the form below: 👇\n\n👉 https://forms.gle/qmk2Cu5crC1joYRY7\n\nTransportation will be provided for blood donors coming from UPV Miagao Campus\, with details to follow soon. 🚌\n\nThe deadline for registration is on November 8\, 2024\, at 5:00 PM.\n\nWe look forward to seeing you there! 🌸\n\nCaption: Vivian F. Bravo\nPubmat: Ron Paolo Q. Molejona\n\nSource: UPV Ugnayan ng Pahinungod/Oblation Corps Facebook
URL:https://alum.up.edu.ph/event/dugong-bombo-a-blood-donation-drive/
END:VEVENT
BEGIN:VEVENT
DTSTART;TZID=UTC:20241116T180000
DTEND;TZID=UTC:20241116T200000
DTSTAMP:20260424T073915
CREATED:20241110T162954Z
LAST-MODIFIED:20241110T162954Z
UID:18227-1731780000-1731787200@alum.up.edu.ph
SUMMARY:UPAA British Columbia Christmas Bash 2024
DESCRIPTION:🎄Get ready to sleigh at UPAABC’s Christmas bash of 2024! 🎄\n\nIT IS THAT TIME AGAIN. Yes\, Pasko na muli! 🙂\n\nWe’re raising the roof to celebrate 45 years of UPAABC’s awesomeness! Let us all be together again at the 2024 Christmas Party and our traditional Annual General Meeting on November 16\, 2024!\n\nEnjoy the warm embrace of our alum community\, cheer\, and create more delightful memories than you can shake a candy cane at. It’s time to jingle and mingle\, share laughter\, spread joy\, and create magical memories that last longer than fruitcake. Get ready in your best Aurora dresses as we light the way into the new year with love and celebration!\n\nRegistration Steps:\n1. Please finish your registration through https://bit.ly/UPAABC-ChristmasParty2024\nOR scan the QR code on the attached poster for quicker access to the registration page.\n2. After registering through our Eventbrite link\, please send your payment of CAD80.00 (Regular Member Fee) or CAD65.00 (Student Fee) to upaabc1979@gmail.com. Memo: Christmas Party and AGM 2024\n3. Please email bod@upaabc.org a screenshot of the receipt to let us know about your completed payment.\n\n*For those who prefer manual registration\, please email us your payment (Interac) receipt\, complete information\, and request to bod@upaabc.org so we can fill out the Master Data for you.\n\nSalamat po\, at magkita-kita tayong muli! 🙂\n(Our super pretty poster is the work of our kapwa Isko Joey Palarca Anatalio. Thank you!)\n\nLubos na gumagalang\,\nBoard of Directors\, 2023 & 2024\n\nSource: UP Alumni Association in BC Facebook
URL:https://alum.up.edu.ph/event/upaa-british-columbia-christmas-bash-2024/
END:VEVENT
END:VCALENDAR