BEGIN:VCALENDAR
VERSION:2.0
PRODID:-//UP Alumni Website - ECPv6.15.16//NONSGML v1.0//EN
CALSCALE:GREGORIAN
METHOD:PUBLISH
X-WR-CALNAME:UP Alumni Website
X-ORIGINAL-URL:https://alum.up.edu.ph
X-WR-CALDESC:Events for UP Alumni Website
REFRESH-INTERVAL;VALUE=DURATION:PT1H
X-Robots-Tag:noindex
X-PUBLISHED-TTL:PT1H
BEGIN:VTIMEZONE
TZID:UTC
BEGIN:STANDARD
TZOFFSETFROM:+0000
TZOFFSETTO:+0000
TZNAME:UTC
DTSTART:20230101T000000
END:STANDARD
END:VTIMEZONE
BEGIN:VEVENT
DTSTART;VALUE=DATE:20241118
DTEND;VALUE=DATE:20241123
DTSTAMP:20260426T031621
CREATED:20241106T220827Z
LAST-MODIFIED:20241106T220827Z
UID:18180-1731888000-1732319999@alum.up.edu.ph
SUMMARY:UP Manila Science & Technology Week 2024
DESCRIPTION:The University of the Philippines Manila will hold its 20th Science and Technology Week from November 18 to November 22\, 2024\, with the theme:\n“Siyensya\, Teknolohiya at Inobasyon: Kabalikat sa Kalusugang Pangkalahatan.”\n\nThe primary objective of this week-long event is to showcase the latest advancements and research in science\, technology\, and innovation that directly contribute to the improvement of public health.\n\nRegister now to secure your slots: bit.ly/UPMSTW2024\n\nSource: University of the Philippines Manila Facebook
URL:https://alum.up.edu.ph/event/up-manila-science-technology-week-2024-2/
END:VEVENT
BEGIN:VEVENT
DTSTART;TZID=UTC:20241118T080000
DTEND;TZID=UTC:20241122T170000
DTSTAMP:20260426T031621
CREATED:20241020T221924Z
LAST-MODIFIED:20241020T221924Z
UID:18044-1731916800-1732294800@alum.up.edu.ph
SUMMARY:UP Manila Science & Technology Week 2024
DESCRIPTION:The University of the Philippines Manila will hold its 20th Science and Technology Week from November 18 to November 22\, 2024\, with the theme:\n\n“Siyensya\, Teknolohiya at Inobasyon: Kabalikat sa Kalusugang Pangkalahatan.”\n\nThe primary objective of this week-long event is to showcase the latest advancements and research in science\, technology\, and innovation that directly contribute to the improvement of public health.\n\nRegister now to secure your slots: bit.ly/UPMSTW2024\n\nSource: University of the Philippines Manila Facebook
URL:https://alum.up.edu.ph/event/up-manila-science-technology-week-2024/
END:VEVENT
BEGIN:VEVENT
DTSTART;TZID=UTC:20241118T080000
DTEND;TZID=UTC:20241213T170000
DTSTAMP:20260426T031621
CREATED:20241118T170445Z
LAST-MODIFIED:20241118T170445Z
UID:18470-1731916800-1734109200@alum.up.edu.ph
SUMMARY:Asian Center 69th Founding Anniversary
DESCRIPTION:🎉 IT’S OUR ANNIVERSARY🎉\n\nLet’s Celebrate 69 Years of Excellence!\n\nJoin us as we commemorate our 69th founding anniversary this November 2024! We have an exciting series of activities lined up to celebrate this milestone. From insightful seminars and workshops to fun-filled events and gatherings\, there’s something for everyone! View the details and sign up: bit.ly/acanniv69\n\n📅 Date: 18 November – 13 December 2024\n📍 Venue: Online and Onsite\n\nView the details and sign up: bit.ly/acanniv69\n\nLet’s come together to honor our rich history\, celebrate our achievements\, and look forward to a bright future. Mark your calendars and Stay tuned for more details! View the details and sign up: bit.ly/acanniv69\n\nSource: UP Diliman Facebook
URL:https://alum.up.edu.ph/event/asian-center-69th-founding-anniversary/
END:VEVENT
BEGIN:VEVENT
DTSTART;TZID=UTC:20241119T080000
DTEND;TZID=UTC:20241122T170000
DTSTAMP:20260426T031621
CREATED:20241020T222427Z
LAST-MODIFIED:20241020T222427Z
UID:18048-1732003200-1732294800@alum.up.edu.ph
SUMMARY:UP Manila College of Public Health Post Graduate Course on Basic Health Promotion
DESCRIPTION:The Department of Health Promotion and Education of UP Manila College of Public Health invites you to the Post Graduate Course on Basic Health Promotion on 19-22 & 25 November 2024. This five-day short course will cover the essential concepts and strategies in health promotion and education.\n\nFor more info and early registration\, go to https://bit.ly/HealthPromotion-Nov2024\n\nSource: College of Public Health\, University of the Philippines Facebook
URL:https://alum.up.edu.ph/event/up-manila-college-of-public-health-post-graduate-course-on-basic-health-promotion/
END:VEVENT
BEGIN:VEVENT
DTSTART;TZID=UTC:20241119T090000
DTEND;TZID=UTC:20241206T160000
DTSTAMP:20260426T031621
CREATED:20241114T170413Z
LAST-MODIFIED:20241114T170413Z
UID:18366-1732006800-1733500800@alum.up.edu.ph
SUMMARY:“Doon po sa amin” Marco Ruben T. Malto II Art Exhibit
DESCRIPTION:Filipino gymnast Carlos Yulo’s twin gold medal-win in the 2024 Paris Olympics will long be remembered as a historic feat for the Philippines. But what was a truly magical moment for a hard-earned victory quickly turned into an emotional trigger to a deep cultural divide\, in a society where social media has the power to polarize people.\n\nHyperactive netizens\, at first glued to the curious case of Alice Guo and her links to illegal Philippine Offshore Gambling Operations or POGOs\, shifted their short attention span to the Yulo Family saga and found themselves torn between euphoria and disappointment. Once national obsession over the new golden boy’s family drama waned\, the spotlight turned to Vice President Sara being a “shining example of a bad public servant” amid the deepening political rift between Marcos and Duterte. A fanfare of arrests also took the limelight– those of fake Filipino Guō Huápíng and her cohorts\, and the fake “son of god” Apollo Quiboloy and his “angels of death”. Massive manhunts for the country’s most wanted criminals and their coddlers kept most Filipinos on alert\, and distracted from their own adversities.\n\nFor months on end\, media feeds feasted on the evasive POGO fugitives Alice Guo and Harry Roque\, Quiboloy’s sex crimes\, VP Sara on “Duterte mode”\, and the looming International Criminal Court arrest of her father Digong and their allies for extrajudicial killings. But just as incessant and infuriating in the news are the Chinese forces and their monstrous vessels ramming the Philippine Coast Guard and threatening local fishers with their intrusive patrolling in the Philippine waters.\n\nWhereas news followers fought over binge-worthy livestreamed Senate and House committee hearings\, Filipinos are united in taking a stand against China’s illegal activities in the West Philippine Sea (WPS) — even when the previous “popular” administration went the unpopular route. Former President Rodrigo Duterte downplayed Philippine’s victory in a 2016 ruling by an international tribunal at the Hague\, refuting Beijing’s extensive claims of sovereignty and historic rights over the WPS. Seeking economic benefits from China while loosening ties with the U.S.\, Duterte’s China-friendly stance was just one of his bloody regime’s endless list of epic failures. China’s bullying did not stop\, while their high-interest loans and defective infrastructure projects continue to drown Filipino taxpayers in debts until today. In place of promised economic gains\, transnational thugs operating gambling hubs as front for financial frauds\, human and drug trafficking\, and money laundering thrived to abuse thousands of desperate jobseekers in the region.\n\nNearly three years into office\, President Bongbong Marcos still fails to bring down the price of rice to P20 per kilo\, as he bans POGOs and commits to de-escalate tensions in the WPS by strengthening strategic alliance with the U.S.; prompting China’s intensified hostilities against the Philippine vessels. The escalating maritime dispute between the Philippines and China goes back to the geopolitical competition between Beijing and Washington\, with the Filipinos on the receiving end of Chinese harassment.\n\nInternational affairs paint a ruthless world as geopolitical tensions and armed conflicts continue to intensify\, taking thousands of lives and affecting millions more. The Philippine Navy logging the largest presence of Chinese ships in WPS to date\, along with China’s military moves in the region\, makes the Philippines a constant target. As the nation fights for its rightful territories\, resources and livelihoods amid false narratives in this AI age of deepfake\, political polarization due to disunity in the UniTeam further deters the country’s economic progress. And as influencers\, traditional politicians and dynasties dominate the battle for next year’s national and local elections\, poor Filipinos become poorer\, suffering from worsening living conditions and deadlier environmental disasters due to power struggles and human greed.\n\nUP professor and painter Marco Ruben T. Malto II offers his yearly recap of the country’s big events through his solo art exhibition titled\, “Doon Po Sa Amin”.  Malto’s narrative art comments on current socio-political conditions while remembering history\, as he explores cultural references from thematic beliefs and practices that are distinctly Filipino. Doon Po Sa Amin is open for viewing at Gallery Two\, Art & Design West Hall at UP Diliman’s College of Fine Arts from Nov 19- Dec 6\, 2024. Gallery hours are from 9AM-4PM\, Tue-Sat. The public is invited to the Artist’s Reception on Nov. 22\, Fri\, 5PM.\n\nAbout the Artist:\n\nMarco Ruben T. Malto II (b. 1972\, Manila) is a graduate of University of the Philippines Diliman-College of Fine Arts (UPCFA) completing his Bachelor of Fine Arts Major in Painting degree in 1993\, and his Master of Fine Arts degree in 2002.\nFor more than a decade\, Malto’s annual solo exhibitions embody themes capturing the country’s current concerns and how they interplay with Philippine history and cultural nuances. The history enthusiast in the artist chronicles\, as the professor educates by engaging his public in important national discourses through his art exhibits.\n\nMalto has been teaching at UPCFA-Department of Studio Arts since 2002\, and has been a recipient of the University Artist Award (for cycles 2018-2020 & 2021-2023)\, and the UP Diliman Centennial Professorial Chair Award for his annual solo exhibits from 2012 to 2023: Colors of Black\, 2012; Bayang Magiting\, 2013; Siete Estaciones\, 2014; Ang Petroglyphs ng Angono\, 2015; Susmaryosep!\, 2016; Peksman!\, 2017; Kahimanawari\, 2018; Kalendaryo 20/20\, 2019; Faith\, Hope and Charity: Conquest of the Philippines\, 2021; Sulat: Retelling Rizal through Philately\, 2022; and Bisa\, 2023.
URL:https://alum.up.edu.ph/event/doon-po-sa-amin-marco-ruben-t-malto-ii-art-exhibit/
END:VEVENT
BEGIN:VEVENT
DTSTART;TZID=UTC:20241121T083000
DTEND;TZID=UTC:20241122T120000
DTSTAMP:20260426T031621
CREATED:20241008T213543Z
LAST-MODIFIED:20241008T213543Z
UID:17767-1732177800-1732276800@alum.up.edu.ph
SUMMARY:7th EOH Forum sponsored by the Department of Environmental and Occupational Health
DESCRIPTION:Mark your calendars for the 7th EOH Forum sponsored by the Department of Environmental and Occupational Health\, UP Manila on November 21-22\, 2024\, from 8:30 AM to 12:00 PM\, via Zoom platform and YouTube livestream.\n\nThis forum will feature insightful discussions on fostering resilient futures through the enhancement of health and safety in communities and workplaces amid climate challenges. This event is open to the public and registration is free.\n\nSee you there!\n\nSource: University of the Philippines Manila Facebook
URL:https://alum.up.edu.ph/event/7th-eoh-forum-sponsored-by-the-department-of-environmental-and-occupational-health/
END:VEVENT
BEGIN:VEVENT
DTSTART;TZID=UTC:20241121T100000
DTEND;TZID=UTC:20241121T120000
DTSTAMP:20260426T031621
CREATED:20241114T220209Z
LAST-MODIFIED:20241114T220209Z
UID:18409-1732183200-1732190400@alum.up.edu.ph
SUMMARY:The Role of AI in Healthcare Research
DESCRIPTION:Are you ready to revolutionize healthcare research? Join us for a groundbreaking webinar where we’ll delve into the transformative power of Artificial Intelligence. Discover how AI is reshaping the future of healthcare research.\n\nNovember 21\, 2024\, 10 am-12 pm\,\nhttps://docs.google.com/…/1FAIpQLSfZ0tsP6Wxqcn…/viewform\n\nDon’t miss this opportunity to gain valuable insights from our experts:\n\nJohn Robert Bautista\, PhD\, RN\nAssistant Professor\, Sinclair School of Nursing\nUniversity of Missouri-Columbia\n\nApril Joy Gascon\, MAN\, RN\nDirector\, Education Technology Center\nUniversity of Santo Tomas\n\nRegister now and save your seat!\n\nRegistration will be closed on November 19\, 2024\, 11:00pm.\n\nSource: Sigma Nursing Alpha Alpha Phi Chapter Facebook
URL:https://alum.up.edu.ph/event/the-role-of-ai-in-healthcare-research/
END:VEVENT
BEGIN:VEVENT
DTSTART;TZID=UTC:20241121T130000
DTEND;TZID=UTC:20241121T140000
DTSTAMP:20260426T031621
CREATED:20241107T215238Z
LAST-MODIFIED:20241107T215238Z
UID:18216-1732194000-1732197600@alum.up.edu.ph
SUMMARY:ISDATalk 2024: A Conversation on Conservation
DESCRIPTION:The ocean’s call is echoing louder than ever\, are you ready to answer?🌊\n\nThe UP Ichthyophilic Society is thrilled to announce the ISDATalk 2024: A Conversation on Conservation!\n\nIn its sixth year\, the event aims to spread awareness and encourage interaction on the issues concerning the aquatic environment and the fisheries sector and to promote and foster appreciation for the fisheries profession with its theme\, “The science we need for the ocean we want for a climate-resilient fisheries.”\n\nJoin us on November 21\, 2024\, at 1:00 PM via Zoom\, as we gather experts\, advocates\, and passionate individuals to discuss the crucial role of science in safeguarding our oceans and ensuring a sustainable future for fisheries.\nThis activity is FREE of charge. No registration fee is needed.\n\nYou may register by scanning the QR code in the post or by clicking this link:\nhttps://up-edu.zoom.us/…/regi…/WN_EqQGvvxPSyuJB_X9VqonEg\n\nTogether\, let’s navigate the tides of change and create a brighter future for our oceans and the communities that depend on them.\n\nISee you soon!💚💛🐠\n\nSource: UP Ichthyophilic Society Facebook
URL:https://alum.up.edu.ph/event/isdatalk-2024-a-conversation-on-conservation/
END:VEVENT
BEGIN:VEVENT
DTSTART;TZID=UTC:20241121T160000
DTEND;TZID=UTC:20241121T170000
DTSTAMP:20260426T031621
CREATED:20241106T231336Z
LAST-MODIFIED:20241106T231336Z
UID:18181-1732204800-1732208400@alum.up.edu.ph
SUMMARY:“Behind AI: The Role of High-Performance Computing”
DESCRIPTION:LOOK | Curious about what powers today’s AI advancements?\n\nJoin the UP Intelligent Systems Center (UP ISC) for a lecture on “Behind AI: The Role of High-Performance Computing” on November 21\, 2024\, at 4:00 PM PHT.\n\nOur speaker\, Mr. Jazz Urog\, will discuss how high-performance computing (HPC) is essential to building today’s complex AI systems and explore how HPC is driving the future of intelligent systems.\n\n🔗 Register now to save your spot: bit.ly/UPISCWebinarQ4-4\n💻 Zoom access details will be provided after registration.\n\nThis is free and open to all. For any questions\, you may reach out to comm.isc@up.edu.ph.\n\nSee you there!\n\nSource: University of the Philippines Mindanao Facebook
URL:https://alum.up.edu.ph/event/behind-ai-the-role-of-high-performance-computing/
END:VEVENT
BEGIN:VEVENT
DTSTART;TZID=UTC:20241121T160000
DTEND;TZID=UTC:20241121T170000
DTSTAMP:20260426T031621
CREATED:20241107T173653Z
LAST-MODIFIED:20241107T173708Z
UID:18208-1732204800-1732208400@alum.up.edu.ph
SUMMARY:UP Intelligent Systems Center Webinars (Behind AI: The Role of High-Performance Computing)
DESCRIPTION:The UP Intelligent Systems Center (UP ISC) invites you to a series of webinars this November\, featuring expert speakers and interesting topics in complex systems\, AI\, and high-performance computing.\n\nWebinar Schedule:\n\nChaos and Emergence: Catalysts in Art and Science\nSpeaker: Dr. Angelo Vermeulen\n📅 5 November 2024 | 🕒 3:00 PM PHT\n\nCreative AI Tools: A Critical Survey\nSpeaker: Dr. Philippe Pasquier\n📅 12 November 2024 | 🕘 9:30 AM PHT\n\nBehind AI: The Role of High-Performance Computing\nSpeaker: Mr. Jazz Urog\n📅 21 November 2024 | 🕞 4:00 PM PHT\n\nRegister here to attend one or all of these sessions: https://bit.ly/UPISCWebinarNov2024.\n\nZoom access details will be sent after completing your registration!\n\nThis is free and open to all. To view more details\, go to https://isc.up.edu.ph/home/events\n\nIf you have questions or concerns\, feel free to send an email to comm.isc@up.edu.ph\n\nSource: University of the Philippines Intelligent Systems Center Facebook
URL:https://alum.up.edu.ph/event/behind-ai-the-role-of-high-performance-computing-2/
END:VEVENT
END:VCALENDAR