BEGIN:VCALENDAR
VERSION:2.0
PRODID:-//UP Alumni Website - ECPv6.15.16//NONSGML v1.0//EN
CALSCALE:GREGORIAN
METHOD:PUBLISH
X-WR-CALNAME:UP Alumni Website
X-ORIGINAL-URL:https://alum.up.edu.ph
X-WR-CALDESC:Events for UP Alumni Website
REFRESH-INTERVAL;VALUE=DURATION:PT1H
X-Robots-Tag:noindex
X-PUBLISHED-TTL:PT1H
BEGIN:VTIMEZONE
TZID:UTC
BEGIN:STANDARD
TZOFFSETFROM:+0000
TZOFFSETTO:+0000
TZNAME:UTC
DTSTART:20230101T000000
END:STANDARD
END:VTIMEZONE
BEGIN:VEVENT
DTSTART;TZID=UTC:20241118T080000
DTEND;TZID=UTC:20241213T170000
DTSTAMP:20260424T090101
CREATED:20241118T170445Z
LAST-MODIFIED:20241118T170445Z
UID:18470-1731916800-1734109200@alum.up.edu.ph
SUMMARY:Asian Center 69th Founding Anniversary
DESCRIPTION:🎉 IT’S OUR ANNIVERSARY🎉\n\nLet’s Celebrate 69 Years of Excellence!\n\nJoin us as we commemorate our 69th founding anniversary this November 2024! We have an exciting series of activities lined up to celebrate this milestone. From insightful seminars and workshops to fun-filled events and gatherings\, there’s something for everyone! View the details and sign up: bit.ly/acanniv69\n\n📅 Date: 18 November – 13 December 2024\n📍 Venue: Online and Onsite\n\nView the details and sign up: bit.ly/acanniv69\n\nLet’s come together to honor our rich history\, celebrate our achievements\, and look forward to a bright future. Mark your calendars and Stay tuned for more details! View the details and sign up: bit.ly/acanniv69\n\nSource: UP Diliman Facebook
URL:https://alum.up.edu.ph/event/asian-center-69th-founding-anniversary/
END:VEVENT
BEGIN:VEVENT
DTSTART;TZID=UTC:20241119T090000
DTEND;TZID=UTC:20241206T160000
DTSTAMP:20260424T090101
CREATED:20241114T170413Z
LAST-MODIFIED:20241114T170413Z
UID:18366-1732006800-1733500800@alum.up.edu.ph
SUMMARY:“Doon po sa amin” Marco Ruben T. Malto II Art Exhibit
DESCRIPTION:Filipino gymnast Carlos Yulo’s twin gold medal-win in the 2024 Paris Olympics will long be remembered as a historic feat for the Philippines. But what was a truly magical moment for a hard-earned victory quickly turned into an emotional trigger to a deep cultural divide\, in a society where social media has the power to polarize people.\n\nHyperactive netizens\, at first glued to the curious case of Alice Guo and her links to illegal Philippine Offshore Gambling Operations or POGOs\, shifted their short attention span to the Yulo Family saga and found themselves torn between euphoria and disappointment. Once national obsession over the new golden boy’s family drama waned\, the spotlight turned to Vice President Sara being a “shining example of a bad public servant” amid the deepening political rift between Marcos and Duterte. A fanfare of arrests also took the limelight– those of fake Filipino Guō Huápíng and her cohorts\, and the fake “son of god” Apollo Quiboloy and his “angels of death”. Massive manhunts for the country’s most wanted criminals and their coddlers kept most Filipinos on alert\, and distracted from their own adversities.\n\nFor months on end\, media feeds feasted on the evasive POGO fugitives Alice Guo and Harry Roque\, Quiboloy’s sex crimes\, VP Sara on “Duterte mode”\, and the looming International Criminal Court arrest of her father Digong and their allies for extrajudicial killings. But just as incessant and infuriating in the news are the Chinese forces and their monstrous vessels ramming the Philippine Coast Guard and threatening local fishers with their intrusive patrolling in the Philippine waters.\n\nWhereas news followers fought over binge-worthy livestreamed Senate and House committee hearings\, Filipinos are united in taking a stand against China’s illegal activities in the West Philippine Sea (WPS) — even when the previous “popular” administration went the unpopular route. Former President Rodrigo Duterte downplayed Philippine’s victory in a 2016 ruling by an international tribunal at the Hague\, refuting Beijing’s extensive claims of sovereignty and historic rights over the WPS. Seeking economic benefits from China while loosening ties with the U.S.\, Duterte’s China-friendly stance was just one of his bloody regime’s endless list of epic failures. China’s bullying did not stop\, while their high-interest loans and defective infrastructure projects continue to drown Filipino taxpayers in debts until today. In place of promised economic gains\, transnational thugs operating gambling hubs as front for financial frauds\, human and drug trafficking\, and money laundering thrived to abuse thousands of desperate jobseekers in the region.\n\nNearly three years into office\, President Bongbong Marcos still fails to bring down the price of rice to P20 per kilo\, as he bans POGOs and commits to de-escalate tensions in the WPS by strengthening strategic alliance with the U.S.; prompting China’s intensified hostilities against the Philippine vessels. The escalating maritime dispute between the Philippines and China goes back to the geopolitical competition between Beijing and Washington\, with the Filipinos on the receiving end of Chinese harassment.\n\nInternational affairs paint a ruthless world as geopolitical tensions and armed conflicts continue to intensify\, taking thousands of lives and affecting millions more. The Philippine Navy logging the largest presence of Chinese ships in WPS to date\, along with China’s military moves in the region\, makes the Philippines a constant target. As the nation fights for its rightful territories\, resources and livelihoods amid false narratives in this AI age of deepfake\, political polarization due to disunity in the UniTeam further deters the country’s economic progress. And as influencers\, traditional politicians and dynasties dominate the battle for next year’s national and local elections\, poor Filipinos become poorer\, suffering from worsening living conditions and deadlier environmental disasters due to power struggles and human greed.\n\nUP professor and painter Marco Ruben T. Malto II offers his yearly recap of the country’s big events through his solo art exhibition titled\, “Doon Po Sa Amin”.  Malto’s narrative art comments on current socio-political conditions while remembering history\, as he explores cultural references from thematic beliefs and practices that are distinctly Filipino. Doon Po Sa Amin is open for viewing at Gallery Two\, Art & Design West Hall at UP Diliman’s College of Fine Arts from Nov 19- Dec 6\, 2024. Gallery hours are from 9AM-4PM\, Tue-Sat. The public is invited to the Artist’s Reception on Nov. 22\, Fri\, 5PM.\n\nAbout the Artist:\n\nMarco Ruben T. Malto II (b. 1972\, Manila) is a graduate of University of the Philippines Diliman-College of Fine Arts (UPCFA) completing his Bachelor of Fine Arts Major in Painting degree in 1993\, and his Master of Fine Arts degree in 2002.\nFor more than a decade\, Malto’s annual solo exhibitions embody themes capturing the country’s current concerns and how they interplay with Philippine history and cultural nuances. The history enthusiast in the artist chronicles\, as the professor educates by engaging his public in important national discourses through his art exhibits.\n\nMalto has been teaching at UPCFA-Department of Studio Arts since 2002\, and has been a recipient of the University Artist Award (for cycles 2018-2020 & 2021-2023)\, and the UP Diliman Centennial Professorial Chair Award for his annual solo exhibits from 2012 to 2023: Colors of Black\, 2012; Bayang Magiting\, 2013; Siete Estaciones\, 2014; Ang Petroglyphs ng Angono\, 2015; Susmaryosep!\, 2016; Peksman!\, 2017; Kahimanawari\, 2018; Kalendaryo 20/20\, 2019; Faith\, Hope and Charity: Conquest of the Philippines\, 2021; Sulat: Retelling Rizal through Philately\, 2022; and Bisa\, 2023.
URL:https://alum.up.edu.ph/event/doon-po-sa-amin-marco-ruben-t-malto-ii-art-exhibit/
END:VEVENT
BEGIN:VEVENT
DTSTART;TZID=UTC:20241122T080000
DTEND;TZID=UTC:20241123T170000
DTSTAMP:20260424T090101
CREATED:20241114T173013Z
LAST-MODIFIED:20241114T173027Z
UID:18371-1732262400-1732381200@alum.up.edu.ph
SUMMARY:International Conference on STEM Education (ICSTEM) 2024
DESCRIPTION:🌟 MEET THE ESTEEMED KEYNOTE AND PLENARY SPEAKERS OF ICSTEM 2024! 🌟\nWe are honored to introduce the distinguished panel of experts who will join us at this year’s International Conference on STEM Education (ICSTEM) 2024\, happening on 22-23 November 2024. They will be sharing their expertise and perspectives\, highlighting emerging technologies\, innovative pedagogies\, and responsive curricula that are shaping the future of STEM education.\\n\nHere are our inspiring keynote speakers:\nUniv-Prof. Dr. Zsolt Lavicza\nProfessor in STEM Education Research Methods\nLinz School of Education – STEAM Education Centre\nJohannes Kepler University (JKU)\nLinz\, Austria\n\nProf. Jan van Driel\nProfessor of Science Education\nLeader of Mathematics\, Science and Technology Education Group\nFaculty of Education\nUniversity of Melbourne\nMelbourne\, Australia\n\nHere are our remarkable plenary speakers:\nDr. Katie Wade-Jaimes\nAssistant Professor of STEM Education\nDepartment of Teaching and Learning\nCollege of Education\nUniversity of Nevada\, Las Vegas\, USA\n\nDr. Ong Eng Tek\nProfessor of Education\nUCSI University\nKuala Lumpur\, Malaysia\n\nDr. Maitree Imprasitha\nAssistant Professor and Dean\nFaculty of Education;\nDirector\nCenter for Research in Mathematics Education\nKhon Kaen University\, Thailand\n\nDr. Masami Isoda\nProfessor\nFaculty of Human Science;\nDirector\nCenter for Research on International Cooperation in Educational Development\nUniversity of Tsukuba\, Japan\n\nDr. Kritsachai Somsaman\nDirector\nSoutheast Asian Ministers of Education Organization (SEAMEO) Regional Centre for STEM Education\n\nDr. Sheryl Lyn Monterola\nProfessor\nCollege of Education;\nFormer Director\nUP National Institute for Science and Mathematics Development\nUniversity of the Philippines\, Diliman\n\nJoin us in this gathering of educators\, researchers\, and experts from around the world as we foster dynamic discussions and collaborations that drive the advancement of STEM education. Registration is still ongoing at icstem2024.site/registration/\n\nTo stay updated and find more information\, follow us on Facebook at fb.com/icstem2024 and visit our website at https://icstem2024.site/\n\nSource: ICSTEM 2024 Facebook
URL:https://alum.up.edu.ph/event/icstem-2024/
END:VEVENT
BEGIN:VEVENT
DTSTART;TZID=UTC:20241123T080000
DTEND;TZID=UTC:20241123T170000
DTSTAMP:20260424T090101
CREATED:20241120T221401Z
LAST-MODIFIED:20241120T221437Z
UID:18515-1732348800-1732381200@alum.up.edu.ph
SUMMARY:UPD Ugnayan ng Pahinungod Tutorial Service Program Orientation
DESCRIPTION:Do you have what it takes to shape minds?\n\nSince the previous announcement on the Tutorial Service Program\, we have proudly gathered 145 enthusiastic volunteers ready to teach elementary students! A heartfelt thank you to all our aspiring Volunteer Tutors for stepping up to make a difference!\n\nHere are the details for the TSP Orientation:\nVenue: Bulwagang Tandang Sora\, CSWCD\, UP Diliman\nDate & Time: November 23\, 2024\, 8am – 5pm\n\nTo register\, scan the QR code or click the link below:\nhttps://forms.gle/MJjtCF6EeJXPwG1t9\n\nMakibahagi\, Makipamuhay\, Magpahinungód!\n\nSource: UPD Ugnayan ng Pahinungod Facebook
URL:https://alum.up.edu.ph/event/upd-ugnayan-ng-pahinungod-tutorial-service-program-orientation/
END:VEVENT
BEGIN:VEVENT
DTSTART;TZID=UTC:20241123T120000
DTEND;TZID=UTC:20241123T133000
DTSTAMP:20260424T090101
CREATED:20241120T220952Z
LAST-MODIFIED:20241120T221006Z
UID:18509-1732363200-1732368600@alum.up.edu.ph
SUMMARY:"German Law on Due Diligence and its Implications on Local Supply Chains of German Firms in the Philippines"
DESCRIPTION:📢 Join us at UP SOLAIR’s 10th Research Dissemination Forum! 🌐\n\nExplore the “German Law on Due Diligence and its Implications on Local Supply Chains of German Firms in the Philippines.” This forum provides a unique opportunity to delve into how German due diligence laws affect local industries and supply chains.\n\n🗓 Date: November 23\, 2024 (Saturday)\n⏰ Time: 12:00 PM\n📍 Venue: SOLAIR Lobby\, Bonifacio Hall\, UP Diliman\n\nOpen to all—no registration required!\n\nSource: UP School of Labor and Industrial Relations Facebook
URL:https://alum.up.edu.ph/event/german-law-on-due-diligence-and-its-implications-on-local-supply-chains-of-german-firms-in-the-philippines/
END:VEVENT
BEGIN:VEVENT
DTSTART;TZID=UTC:20241123T160000
DTEND;TZID=UTC:20241123T180000
DTSTAMP:20260424T090101
CREATED:20240929T183335Z
LAST-MODIFIED:20240929T183335Z
UID:17509-1732377600-1732384800@alum.up.edu.ph
SUMMARY:UPD-Oxford Philosophy Lecture Series
DESCRIPTION:Last April\, the UP Diliman Department of Philosophy brought you the UPD-Cambridge Lecture Series. We are back and bigger than ever before!\nThe department cordially invites everyone to attend the UPD-Oxford Philosophy Lecture Series to be hosted online via Zoom on November 9\, 18\, and 23\, 2024 from 4 PM to 6 PM on all days. Renowned philosophers from the University of Oxford will be sharing their expertise on novel and exciting topics.\n\nOn Saturday\, November 9\, Prof. Julia Weckend\, PhD will be speaking on “Can AI-Driven Machines Think and Feel?”\, a lecture on the latest research in metaphysics and the philosophy of mind.\n\nOn Monday\, November 18\, Prof. Stephen Law\, DPhil (Oxon.) will be speaking on “The Evil God Challenge”\, a lecture on a famous thought experiment in the philosophy of religion.\n\nOn Saturday\, November 23\, Prof. Doug Bamford\, PhD will be speaking on “Rawls and Nozick on Justice and Taxation”\, a classic debate in political and moral philosophy that continues to be relevant in our current social environment.\n\nEach lecture will be followed by a Q&A session which will give attendees an opportunity to share their own insights and raise their own questions about the lectures. The event is open to the public\, but UP Diliman philosophy graduate and undergraduate students will receive prioritized slots should the registration cap be exceeded. The Zoom link will be sent via e-mail to registrants before the lecture series. For any questions or clarifications\, please e-mail Asst. Prof. Enrique Benjamin R. Fernando III\, MA at erfernando1@up.edu.ph or philosophy.upd@up.edu.ph.\n\nThose interested in attending the lecture may register on the link below:\nhttps://forms.gle/4Q2RyKggzeFhVBMm6\n\nPlease stay tuned for more announcements. We look forward to seeing you there!\n\nSource: UP Department of Philosophy Facebook
URL:https://alum.up.edu.ph/event/upd-oxford-philosophy-lecture-series-3/
END:VEVENT
END:VCALENDAR