BEGIN:VCALENDAR
VERSION:2.0
PRODID:-//UP Alumni Website - ECPv6.15.16//NONSGML v1.0//EN
CALSCALE:GREGORIAN
METHOD:PUBLISH
X-WR-CALNAME:UP Alumni Website
X-ORIGINAL-URL:https://alum.up.edu.ph
X-WR-CALDESC:Events for UP Alumni Website
REFRESH-INTERVAL;VALUE=DURATION:PT1H
X-Robots-Tag:noindex
X-PUBLISHED-TTL:PT1H
BEGIN:VTIMEZONE
TZID:UTC
BEGIN:STANDARD
TZOFFSETFROM:+0000
TZOFFSETTO:+0000
TZNAME:UTC
DTSTART:20230101T000000
END:STANDARD
END:VTIMEZONE
BEGIN:VEVENT
DTSTART;TZID=UTC:20241118T080000
DTEND;TZID=UTC:20241213T170000
DTSTAMP:20260424T134613
CREATED:20241118T170445Z
LAST-MODIFIED:20241118T170445Z
UID:18470-1731916800-1734109200@alum.up.edu.ph
SUMMARY:Asian Center 69th Founding Anniversary
DESCRIPTION:🎉 IT’S OUR ANNIVERSARY🎉\n\nLet’s Celebrate 69 Years of Excellence!\n\nJoin us as we commemorate our 69th founding anniversary this November 2024! We have an exciting series of activities lined up to celebrate this milestone. From insightful seminars and workshops to fun-filled events and gatherings\, there’s something for everyone! View the details and sign up: bit.ly/acanniv69\n\n📅 Date: 18 November – 13 December 2024\n📍 Venue: Online and Onsite\n\nView the details and sign up: bit.ly/acanniv69\n\nLet’s come together to honor our rich history\, celebrate our achievements\, and look forward to a bright future. Mark your calendars and Stay tuned for more details! View the details and sign up: bit.ly/acanniv69\n\nSource: UP Diliman Facebook
URL:https://alum.up.edu.ph/event/asian-center-69th-founding-anniversary/
END:VEVENT
BEGIN:VEVENT
DTSTART;TZID=UTC:20241119T090000
DTEND;TZID=UTC:20241206T160000
DTSTAMP:20260424T134613
CREATED:20241114T170413Z
LAST-MODIFIED:20241114T170413Z
UID:18366-1732006800-1733500800@alum.up.edu.ph
SUMMARY:“Doon po sa amin” Marco Ruben T. Malto II Art Exhibit
DESCRIPTION:Filipino gymnast Carlos Yulo’s twin gold medal-win in the 2024 Paris Olympics will long be remembered as a historic feat for the Philippines. But what was a truly magical moment for a hard-earned victory quickly turned into an emotional trigger to a deep cultural divide\, in a society where social media has the power to polarize people.\n\nHyperactive netizens\, at first glued to the curious case of Alice Guo and her links to illegal Philippine Offshore Gambling Operations or POGOs\, shifted their short attention span to the Yulo Family saga and found themselves torn between euphoria and disappointment. Once national obsession over the new golden boy’s family drama waned\, the spotlight turned to Vice President Sara being a “shining example of a bad public servant” amid the deepening political rift between Marcos and Duterte. A fanfare of arrests also took the limelight– those of fake Filipino Guō Huápíng and her cohorts\, and the fake “son of god” Apollo Quiboloy and his “angels of death”. Massive manhunts for the country’s most wanted criminals and their coddlers kept most Filipinos on alert\, and distracted from their own adversities.\n\nFor months on end\, media feeds feasted on the evasive POGO fugitives Alice Guo and Harry Roque\, Quiboloy’s sex crimes\, VP Sara on “Duterte mode”\, and the looming International Criminal Court arrest of her father Digong and their allies for extrajudicial killings. But just as incessant and infuriating in the news are the Chinese forces and their monstrous vessels ramming the Philippine Coast Guard and threatening local fishers with their intrusive patrolling in the Philippine waters.\n\nWhereas news followers fought over binge-worthy livestreamed Senate and House committee hearings\, Filipinos are united in taking a stand against China’s illegal activities in the West Philippine Sea (WPS) — even when the previous “popular” administration went the unpopular route. Former President Rodrigo Duterte downplayed Philippine’s victory in a 2016 ruling by an international tribunal at the Hague\, refuting Beijing’s extensive claims of sovereignty and historic rights over the WPS. Seeking economic benefits from China while loosening ties with the U.S.\, Duterte’s China-friendly stance was just one of his bloody regime’s endless list of epic failures. China’s bullying did not stop\, while their high-interest loans and defective infrastructure projects continue to drown Filipino taxpayers in debts until today. In place of promised economic gains\, transnational thugs operating gambling hubs as front for financial frauds\, human and drug trafficking\, and money laundering thrived to abuse thousands of desperate jobseekers in the region.\n\nNearly three years into office\, President Bongbong Marcos still fails to bring down the price of rice to P20 per kilo\, as he bans POGOs and commits to de-escalate tensions in the WPS by strengthening strategic alliance with the U.S.; prompting China’s intensified hostilities against the Philippine vessels. The escalating maritime dispute between the Philippines and China goes back to the geopolitical competition between Beijing and Washington\, with the Filipinos on the receiving end of Chinese harassment.\n\nInternational affairs paint a ruthless world as geopolitical tensions and armed conflicts continue to intensify\, taking thousands of lives and affecting millions more. The Philippine Navy logging the largest presence of Chinese ships in WPS to date\, along with China’s military moves in the region\, makes the Philippines a constant target. As the nation fights for its rightful territories\, resources and livelihoods amid false narratives in this AI age of deepfake\, political polarization due to disunity in the UniTeam further deters the country’s economic progress. And as influencers\, traditional politicians and dynasties dominate the battle for next year’s national and local elections\, poor Filipinos become poorer\, suffering from worsening living conditions and deadlier environmental disasters due to power struggles and human greed.\n\nUP professor and painter Marco Ruben T. Malto II offers his yearly recap of the country’s big events through his solo art exhibition titled\, “Doon Po Sa Amin”.  Malto’s narrative art comments on current socio-political conditions while remembering history\, as he explores cultural references from thematic beliefs and practices that are distinctly Filipino. Doon Po Sa Amin is open for viewing at Gallery Two\, Art & Design West Hall at UP Diliman’s College of Fine Arts from Nov 19- Dec 6\, 2024. Gallery hours are from 9AM-4PM\, Tue-Sat. The public is invited to the Artist’s Reception on Nov. 22\, Fri\, 5PM.\n\nAbout the Artist:\n\nMarco Ruben T. Malto II (b. 1972\, Manila) is a graduate of University of the Philippines Diliman-College of Fine Arts (UPCFA) completing his Bachelor of Fine Arts Major in Painting degree in 1993\, and his Master of Fine Arts degree in 2002.\nFor more than a decade\, Malto’s annual solo exhibitions embody themes capturing the country’s current concerns and how they interplay with Philippine history and cultural nuances. The history enthusiast in the artist chronicles\, as the professor educates by engaging his public in important national discourses through his art exhibits.\n\nMalto has been teaching at UPCFA-Department of Studio Arts since 2002\, and has been a recipient of the University Artist Award (for cycles 2018-2020 & 2021-2023)\, and the UP Diliman Centennial Professorial Chair Award for his annual solo exhibits from 2012 to 2023: Colors of Black\, 2012; Bayang Magiting\, 2013; Siete Estaciones\, 2014; Ang Petroglyphs ng Angono\, 2015; Susmaryosep!\, 2016; Peksman!\, 2017; Kahimanawari\, 2018; Kalendaryo 20/20\, 2019; Faith\, Hope and Charity: Conquest of the Philippines\, 2021; Sulat: Retelling Rizal through Philately\, 2022; and Bisa\, 2023.
URL:https://alum.up.edu.ph/event/doon-po-sa-amin-marco-ruben-t-malto-ii-art-exhibit/
END:VEVENT
BEGIN:VEVENT
DTSTART;TZID=UTC:20241125T080000
DTEND;TZID=UTC:20241125T170000
DTSTAMP:20260424T134613
CREATED:20241020T222446Z
LAST-MODIFIED:20241020T222446Z
UID:18051-1732521600-1732554000@alum.up.edu.ph
SUMMARY:UP Manila College of Public Health Post Graduate Course on Basic Health Promotion
DESCRIPTION:The Department of Health Promotion and Education of UP Manila College of Public Health invites you to the Post Graduate Course on Basic Health Promotion on 19-22 & 25 November 2024. This five-day short course will cover the essential concepts and strategies in health promotion and education.\n\nFor more info and early registration\, go to https://bit.ly/HealthPromotion-Nov2024\n\nSource: College of Public Health\, University of the Philippines Facebook
URL:https://alum.up.edu.ph/event/up-manila-college-of-public-health-post-graduate-course-on-basic-health-promotion-2/
END:VEVENT
BEGIN:VEVENT
DTSTART;TZID=UTC:20241125T080000
DTEND;TZID=UTC:20241125T170000
DTSTAMP:20260424T134613
CREATED:20241113T172943Z
LAST-MODIFIED:20241113T172943Z
UID:18334-1732521600-1732554000@alum.up.edu.ph
SUMMARY:2024 UP College of Engineering Professorial Chair Awards (PCA) Colloquium
DESCRIPTION:[2024 UP College of Engineering Professorial Chair Awards (PCA) Colloquium]\n\nThe UPD College of Engineering\, in collaboration with the UP Engineering Research and Development Foundation\, Inc (UPERDFI) and the UP National Engineering Center\, proudly presents the 2024-2025 Professorial Chair Colloquium!\n\nTheme: FAST TRACK: Engineering Research Towards Achieving Philippine Sustainable Development Goals (SDGs)\n\n📅 Date: November 25\, 2024\, Monday\n📍 Venue: UP Institute of Civil Engineering\nUnder the theme FAST TRACK: (Filipino Engineers for the Advancement of Science and Technology Through Research and Collaborative Knowledge-Sharing) Engineering Research Towards Achieving Philippine Sustainable Development Goals\, this year’s colloquium will highlight the remarkable research and contributions of our Professorial Chair Awardees towards achieving the Philippine SDGs.\n\nJoin Us!\n\n🔍 Learn from groundbreaking engineering research across multiple fields.\n🤝 Engage in discussions with industry leaders\, government policymakers\, and fellow researchers.\n🌐 Explore potential interdisciplinary collaborations and policy impacts that will shape the future of Philippine engineering and beyond.\n\nEvent Objectives:\n– Disseminate the impactful research of our esteemed faculty.\n– Foster dialogue with industry\, government\, and academia to drive innovation and sustainable development.\n– Promote collaborative opportunities across various disciplines and institutions for maximum societal impact.\n\nThis event is open to the public with free admission!\n\nStay tuned for program details\, speaker announcements\, and more on our official website and social media pages.\nWe extend our heartfelt gratitude to all donors and benefactors who make this endeavor possible. Your unwavering support drives innovation and excellence in the UPD College of Engineering!\n\nAbout the PCA:\nThe Professorial Chair Award (PCA)\, supported by UPERDFI\, recognizes faculty with outstanding achievements in teaching\, research\, and service. This prestigious award honors those who make significant contributions to the University and society at large.\n\nSource: UPD College of Engineering Facebook
URL:https://alum.up.edu.ph/event/2024-up-college-of-engineering-professorial-chair-awards-pca-colloquium/
END:VEVENT
BEGIN:VEVENT
DTSTART;TZID=UTC:20241125T090000
DTEND;TZID=UTC:20241125T120000
DTSTAMP:20260424T134613
CREATED:20241120T214550Z
LAST-MODIFIED:20241120T214550Z
UID:18497-1732525200-1732536000@alum.up.edu.ph
SUMMARY:Climate Change x Sustainable Development: Reflections to Move Forward
DESCRIPTION:MEET THE SPEAKERS FOR THE 8TH LINANGAN WEBINAR! 📣\n\nWe have six days to go before the Eighth LINANGAN 2024 Webinar “Climate Change x Sustainable Development: Reflections to Move Forward” this Monday\, 25 November 2024\, from 9:00AM to 12:00NN via Zoom and our YouTube Channel (youtube.com/@gecdiliman)!\n\nTara\, register na! Paki-click lamang ang sumusunod na link: 🔗 bit.ly/3JsZ6br\n\nWe are joined by our esteemed panel of resource speakers for this webinar! First to share her pedagogy in teaching the GE course STS 1 will be Asst. Prof. Likha Minimo from the Science and Society Program of the College of Science\, followed by Asst. Prof. Fernand Francis Hermoso from the Department of Geography of the College of Social Sciences and Philosophy who will be detailing his experiences and best practices in teaching Geog 1. Moderating the webinar session will be Mx. Deidre Morales from the Department of Filipino and Philippine Literature of the College of Arts and Letters.\n\nInterested about the webinar?\n\nLINANGAN’s next webinar on disaster risk management will feature the pedagogy of GE courses STS 1: Science\, Technology\, and Society and Geog 1: Places and Landscapes in a Changing World. The webinar aims to highlight how these two GE courses nurture environmental consciousness and introduce sustainable development among students in the advent of climate change that is social and political as much as it is natural. Participants are expected to gain knowledge and insights on how they can encourage students to rediscover their relationship with nature\, develop critical stances on how and why disasters happen\, and craft innovative ways to take care of the environment.\n\n✨ Kitakits! ✨\n\nSource: General Education Center Diliman Facebook
URL:https://alum.up.edu.ph/event/climate-change-x-sustainable-development-reflections-to-move-forward/
END:VEVENT
BEGIN:VEVENT
DTSTART;TZID=UTC:20241125T100000
DTEND;TZID=UTC:20241125T110000
DTSTAMP:20260424T134613
CREATED:20241120T214100Z
LAST-MODIFIED:20241120T214100Z
UID:18496-1732528800-1732532400@alum.up.edu.ph
SUMMARY:IB Seminar: “Mechanistic and Biological Insights of the T6SS-Mediated Bacterial Warfare”
DESCRIPTION:The UP Diliman Institute of Biology (IB) invites everyone to the seminar “Mechanistic and Biological Insights of the T6SS-Mediated Bacterial Warfare” on Nov. 25\, Monday\, 10 a.m.\, at the IB Room 250 and via Zoom.\n\nThe resource speaker is Erh-Min Lai\, PhD\, a research fellow and professor at the Institute of Plant and Microbial Biology\, Academia Sinica\, Taiwan.\n\nSource: UP Diliman Facebook
URL:https://alum.up.edu.ph/event/ib-seminar-mechanistic-and-biological-insights-of-the-t6ss-mediated-bacterial-warfare/
END:VEVENT
BEGIN:VEVENT
DTSTART;TZID=UTC:20241125T100000
DTEND;TZID=UTC:20241125T150000
DTSTAMP:20260424T134613
CREATED:20241114T181630Z
LAST-MODIFIED:20241114T181630Z
UID:18392-1732528800-1732546800@alum.up.edu.ph
SUMMARY:HAPON AND ON AND ON: 100 Taon ng Pagtuturo ng Nihongo sa UP Diliman
DESCRIPTION:HAPON AND ON AND ON\n100 Taon ng Pagtuturo ng Nihongo sa UP Diliman\n25 November | Monday | 10AM to 3PM\nPalma Hall 2F Lobby\n\nAs part of the Department’s celebration of 100 years of Japanese language teaching in the University\, join us in different booths and presentations on Japanese language and culture!\n\nSource: UP Department of Linguistics Facebook
URL:https://alum.up.edu.ph/event/hapon-and-on-and-on-100-taon-ng-pagtuturo-ng-nihongo-sa-up-diliman/
END:VEVENT
BEGIN:VEVENT
DTSTART;TZID=UTC:20241125T130000
DTEND;TZID=UTC:20241125T150000
DTSTAMP:20260424T134613
CREATED:20241114T214751Z
LAST-MODIFIED:20241114T214813Z
UID:18399-1732539600-1732546800@alum.up.edu.ph
SUMMARY:"Balik-Tanaw: A Celebration of Local Independent Cinema"
DESCRIPTION:The Upsilon Sigma Phi gladly invites everyone to attend the Upsilon Movie Festival with the title: “Balik-Tanaw: A Celebration of Local Indenpendent Cinema”. This year’s movie screening is part of the 106th Upsilon Month themed\, “KAPWA: Sama-samang nagseserbisyo para sa bayan”.\n\nThe screening will feature two films\, and will be attended by the directors for a talk-back session. This will be held at the UP Manila Theatre on November 25-26. The films that will be featured are:\n\nDining Sana Kita (2009) by Mike Sandejas\nBalikbayan #1: Memories of Overdevelopment Redux III (2015) by Kidlat Tahimik\n\nThis event is FREE ENTRY. Those who are interested may register thru this link: bit.ly/Balik-Tanaw2024\n\nTogether let’s celebrate the significance of local art and cultural heritage of our nation!\n\nSource: College of Arts and Sciences\, UP Manila Facebook
URL:https://alum.up.edu.ph/event/balik-tanaw-a-celebration-of-local-indenpendent-cinema/
END:VEVENT
BEGIN:VEVENT
DTSTART;TZID=UTC:20241125T130000
DTEND;TZID=UTC:20241125T160000
DTSTAMP:20260424T134613
CREATED:20241120T220551Z
LAST-MODIFIED:20241120T220551Z
UID:18510-1732539600-1732550400@alum.up.edu.ph
SUMMARY:KALINANGAN CULTURAL FESTIVAL
DESCRIPTION:Adventure awaits you here at KALINANGAN CULTURAL FESTIVAL! 🔭🌅\n\nThe Katuwang sa UPD\, in collaboration with University of the Philippines Office of International Linkages Diliman\, in the pursuit of Quality Education and Partnerships for the Goals\, invites you to embark on a journey to new and beautiful lands on November 25\, 2024 from 1:00 to 4:00 PM! ✨\n\nPre-register now and get the chance to explore the marvel of different cultures through engaging activities 🎊\, nourishing delicacies 🥘\, dazzling performances 💃\, and meaningful conversations 💭.\n\nbit.ly/KalinanganCulturalFest\n\nSo\, are you ready to trek the world? 🌐 See you at Kalinangan Cultural Festival\, voyager! 🫡\n\nSource: Kalinangan: Cultural Fest Facebook
URL:https://alum.up.edu.ph/event/kalinangan-cultural-festival/
END:VEVENT
BEGIN:VEVENT
DTSTART;TZID=UTC:20241125T133000
DTEND;TZID=UTC:20241125T143000
DTSTAMP:20260424T134613
CREATED:20241114T181133Z
LAST-MODIFIED:20241114T181133Z
UID:18387-1732541400-1732545000@alum.up.edu.ph
SUMMARY:“Usapang Luad: A Series of Talks on Ceramic Practices in the Philippines”
DESCRIPTION:🌟 Introducing ‘Usapang Luad’ 🌟\n​\nAs part of Amidst Curiosities\, we invite you to Usapang Luad: A Series of Talks on Ceramic Practices in the Philippines. Discover diverse perspectives on ceramics through insightful discussions led by passionate ceramic artists and practitioners. Save the dates and join us for these inspiring conversations!\n​\n​November 15\, 2024\, Friday | 1:30 PM\nTopic: Practitioners & Sustainability\nSpeakers: Marco Rosario\, Ness Sheen Aban\, Ella Mendoza\, and Krista Nogueras\n​​\nNovember 22\, 2024\, Friday | 1:30 PM\nTopic: Setting Up Studio and Teaching Workshops\nSpeakers: Catherine Choachuy\, Alfred Trajeco\, Rosa Mirasol\, and Aly Kangleon\n​​\nNovember 25\, 2024\, Monday | 1:30 PM\nTopic: Moving Forward: Past and Current Studio Practices\nSpeakers: Jon Pettyjohn\, Tessy Pettyjohn\, Joey de Castro\, and Pablo Capati III\n​​\nDecember 6\, 2024\, Friday | 1:30 PM\nTopic: Luad Across Borders\nSpeaker: Rita Badilla-Gudiño\n​​\n🗓️ Mark your calendars and come be part of the conversation!\nWant to know more? Connect with us through our official social media accounts! We’d love to hear from you.\nFacebook: @amidstcuriosities\nInstagram: @amidst_curiosities\n​​\nGraphics by Miggy Alcala and Clara Montenejo\n​\nSource: UP Fine Arts Gallery Facebook
URL:https://alum.up.edu.ph/event/usapang-luad-a-series-of-talks-on-ceramic-practices-in-the-philippines-3/
END:VEVENT
BEGIN:VEVENT
DTSTART;TZID=UTC:20241125T133000
DTEND;TZID=UTC:20241125T153000
DTSTAMP:20260424T134613
CREATED:20241114T215918Z
LAST-MODIFIED:20241114T215918Z
UID:18406-1732541400-1732548600@alum.up.edu.ph
SUMMARY:"Fostering Resilience: Strategies to Support Health Sciences Students' Mental Wellbeing"
DESCRIPTION:Join us for an engaging and insightful webinar focused on “Fostering Resilience: Strategies to Support Health Sciences Students’ Mental Wellbeing.” Date: Nov 25\, 2024 \, Time: 1:30 – 3:30PM via Zoom\n\nregistration link: https://bit.ly/WebinarFosteringResilience\n\nRegister now!\n\nSource: NTTCHP UP Manila Facebook
URL:https://alum.up.edu.ph/event/fostering-resilience-strategies-to-support-health-sciences-students-mental-wellbeing/
END:VEVENT
BEGIN:VEVENT
DTSTART;TZID=UTC:20241125T140000
DTEND;TZID=UTC:20241125T160000
DTSTAMP:20260424T134613
CREATED:20241112T175732Z
LAST-MODIFIED:20241112T175732Z
UID:18273-1732543200-1732550400@alum.up.edu.ph
SUMMARY:Cellular Agriculture Seminar
DESCRIPTION:Learn the new exciting research path of cellular agriculture. 🌾\n\nThis research is a collaborative endeavor of faculty from the Institute of Biology and National Institute of Physics of the College of Science and Department of Food Science and Nutrition of the College of Home Economics.\n\nUndergraduate and graduate students are welcome to join the seminar and workshop. Please register through this link https://docs.google.com/…/1FAIpQLScdj5D6r3plx4…/viewform\nor scan the QR code in the poster.\n\nDate: Nov. 18 and 25 (Mondays) 2:00 – 4:00 PM\nVenue: Institute of Biology\, Rm.117\n\nSource: UP Diliman College of Science Facebook
URL:https://alum.up.edu.ph/event/cellular-agriculture-seminar-2/
END:VEVENT
END:VCALENDAR