BEGIN:VCALENDAR
VERSION:2.0
PRODID:-//UP Alumni Website - ECPv6.15.16//NONSGML v1.0//EN
CALSCALE:GREGORIAN
METHOD:PUBLISH
X-WR-CALNAME:UP Alumni Website
X-ORIGINAL-URL:https://alum.up.edu.ph
X-WR-CALDESC:Events for UP Alumni Website
REFRESH-INTERVAL;VALUE=DURATION:PT1H
X-Robots-Tag:noindex
X-PUBLISHED-TTL:PT1H
BEGIN:VTIMEZONE
TZID:UTC
BEGIN:STANDARD
TZOFFSETFROM:+0000
TZOFFSETTO:+0000
TZNAME:UTC
DTSTART:20230101T000000
END:STANDARD
END:VTIMEZONE
BEGIN:VEVENT
DTSTART;TZID=UTC:20241118T080000
DTEND;TZID=UTC:20241213T170000
DTSTAMP:20260422T132600
CREATED:20241118T170445Z
LAST-MODIFIED:20241118T170445Z
UID:18470-1731916800-1734109200@alum.up.edu.ph
SUMMARY:Asian Center 69th Founding Anniversary
DESCRIPTION:🎉 IT’S OUR ANNIVERSARY🎉\n\nLet’s Celebrate 69 Years of Excellence!\n\nJoin us as we commemorate our 69th founding anniversary this November 2024! We have an exciting series of activities lined up to celebrate this milestone. From insightful seminars and workshops to fun-filled events and gatherings\, there’s something for everyone! View the details and sign up: bit.ly/acanniv69\n\n📅 Date: 18 November – 13 December 2024\n📍 Venue: Online and Onsite\n\nView the details and sign up: bit.ly/acanniv69\n\nLet’s come together to honor our rich history\, celebrate our achievements\, and look forward to a bright future. Mark your calendars and Stay tuned for more details! View the details and sign up: bit.ly/acanniv69\n\nSource: UP Diliman Facebook
URL:https://alum.up.edu.ph/event/asian-center-69th-founding-anniversary/
END:VEVENT
BEGIN:VEVENT
DTSTART;TZID=UTC:20241119T090000
DTEND;TZID=UTC:20241206T160000
DTSTAMP:20260422T132600
CREATED:20241114T170413Z
LAST-MODIFIED:20241114T170413Z
UID:18366-1732006800-1733500800@alum.up.edu.ph
SUMMARY:“Doon po sa amin” Marco Ruben T. Malto II Art Exhibit
DESCRIPTION:Filipino gymnast Carlos Yulo’s twin gold medal-win in the 2024 Paris Olympics will long be remembered as a historic feat for the Philippines. But what was a truly magical moment for a hard-earned victory quickly turned into an emotional trigger to a deep cultural divide\, in a society where social media has the power to polarize people.\n\nHyperactive netizens\, at first glued to the curious case of Alice Guo and her links to illegal Philippine Offshore Gambling Operations or POGOs\, shifted their short attention span to the Yulo Family saga and found themselves torn between euphoria and disappointment. Once national obsession over the new golden boy’s family drama waned\, the spotlight turned to Vice President Sara being a “shining example of a bad public servant” amid the deepening political rift between Marcos and Duterte. A fanfare of arrests also took the limelight– those of fake Filipino Guō Huápíng and her cohorts\, and the fake “son of god” Apollo Quiboloy and his “angels of death”. Massive manhunts for the country’s most wanted criminals and their coddlers kept most Filipinos on alert\, and distracted from their own adversities.\n\nFor months on end\, media feeds feasted on the evasive POGO fugitives Alice Guo and Harry Roque\, Quiboloy’s sex crimes\, VP Sara on “Duterte mode”\, and the looming International Criminal Court arrest of her father Digong and their allies for extrajudicial killings. But just as incessant and infuriating in the news are the Chinese forces and their monstrous vessels ramming the Philippine Coast Guard and threatening local fishers with their intrusive patrolling in the Philippine waters.\n\nWhereas news followers fought over binge-worthy livestreamed Senate and House committee hearings\, Filipinos are united in taking a stand against China’s illegal activities in the West Philippine Sea (WPS) — even when the previous “popular” administration went the unpopular route. Former President Rodrigo Duterte downplayed Philippine’s victory in a 2016 ruling by an international tribunal at the Hague\, refuting Beijing’s extensive claims of sovereignty and historic rights over the WPS. Seeking economic benefits from China while loosening ties with the U.S.\, Duterte’s China-friendly stance was just one of his bloody regime’s endless list of epic failures. China’s bullying did not stop\, while their high-interest loans and defective infrastructure projects continue to drown Filipino taxpayers in debts until today. In place of promised economic gains\, transnational thugs operating gambling hubs as front for financial frauds\, human and drug trafficking\, and money laundering thrived to abuse thousands of desperate jobseekers in the region.\n\nNearly three years into office\, President Bongbong Marcos still fails to bring down the price of rice to P20 per kilo\, as he bans POGOs and commits to de-escalate tensions in the WPS by strengthening strategic alliance with the U.S.; prompting China’s intensified hostilities against the Philippine vessels. The escalating maritime dispute between the Philippines and China goes back to the geopolitical competition between Beijing and Washington\, with the Filipinos on the receiving end of Chinese harassment.\n\nInternational affairs paint a ruthless world as geopolitical tensions and armed conflicts continue to intensify\, taking thousands of lives and affecting millions more. The Philippine Navy logging the largest presence of Chinese ships in WPS to date\, along with China’s military moves in the region\, makes the Philippines a constant target. As the nation fights for its rightful territories\, resources and livelihoods amid false narratives in this AI age of deepfake\, political polarization due to disunity in the UniTeam further deters the country’s economic progress. And as influencers\, traditional politicians and dynasties dominate the battle for next year’s national and local elections\, poor Filipinos become poorer\, suffering from worsening living conditions and deadlier environmental disasters due to power struggles and human greed.\n\nUP professor and painter Marco Ruben T. Malto II offers his yearly recap of the country’s big events through his solo art exhibition titled\, “Doon Po Sa Amin”.  Malto’s narrative art comments on current socio-political conditions while remembering history\, as he explores cultural references from thematic beliefs and practices that are distinctly Filipino. Doon Po Sa Amin is open for viewing at Gallery Two\, Art & Design West Hall at UP Diliman’s College of Fine Arts from Nov 19- Dec 6\, 2024. Gallery hours are from 9AM-4PM\, Tue-Sat. The public is invited to the Artist’s Reception on Nov. 22\, Fri\, 5PM.\n\nAbout the Artist:\n\nMarco Ruben T. Malto II (b. 1972\, Manila) is a graduate of University of the Philippines Diliman-College of Fine Arts (UPCFA) completing his Bachelor of Fine Arts Major in Painting degree in 1993\, and his Master of Fine Arts degree in 2002.\nFor more than a decade\, Malto’s annual solo exhibitions embody themes capturing the country’s current concerns and how they interplay with Philippine history and cultural nuances. The history enthusiast in the artist chronicles\, as the professor educates by engaging his public in important national discourses through his art exhibits.\n\nMalto has been teaching at UPCFA-Department of Studio Arts since 2002\, and has been a recipient of the University Artist Award (for cycles 2018-2020 & 2021-2023)\, and the UP Diliman Centennial Professorial Chair Award for his annual solo exhibits from 2012 to 2023: Colors of Black\, 2012; Bayang Magiting\, 2013; Siete Estaciones\, 2014; Ang Petroglyphs ng Angono\, 2015; Susmaryosep!\, 2016; Peksman!\, 2017; Kahimanawari\, 2018; Kalendaryo 20/20\, 2019; Faith\, Hope and Charity: Conquest of the Philippines\, 2021; Sulat: Retelling Rizal through Philately\, 2022; and Bisa\, 2023.
URL:https://alum.up.edu.ph/event/doon-po-sa-amin-marco-ruben-t-malto-ii-art-exhibit/
END:VEVENT
BEGIN:VEVENT
DTSTART;VALUE=DATE:20241128
DTEND;VALUE=DATE:20241201
DTSTAMP:20260422T132600
CREATED:20241002T170643Z
LAST-MODIFIED:20241002T170643Z
UID:17573-1732752000-1733011199@alum.up.edu.ph
SUMMARY:“Gumuntang: Mga Kalakaran sa Kasaysayan at Kalinangang Pilipino Noong Ika-19 na Siglo”
DESCRIPTION:IKA-35 PAMBANSANG KUMPERENSIYA NG ADHIKA\n\n“Gumuntang: Mga Kalakaran sa Kasaysayan at Kalinangang Pilipino Noong Ika-19 na Siglo”\n\nUniversity of the Philippines Cebu | 28-30 Nobyembre 2024\nPara sa mga interesadong dumalo\, narito ang halaga ng rehistrasyon:\nUndergraduate Students: P 2\,000.00\nEarly Bird/ADHIKA Members: P 3\,600.00 (hanggang Nobyembre 15\, 2024)\nRegular Participants: P 4\,000.00\n\nMagpa-rehistro sa Kumperensiya: http://tiny.cc/ADHIKACebu\nMaging kasapi ng ADHIKA: http://tiny.cc/ADHIKAMembership\n\nPara sa mga nais humiling ng pormal na paanyaya\, mangyaring magpadala ng email kay Dr. Kristoffer R. Esquejo (Pangulo ng ADHIKA) sa kresquejo@up.edu.ph at banggitin kung kanino at saan ipapadala ang liham.\n\nMaraming salamat po! Kita-kits sa Cebu sa Nobyembre 2024!\n\nSource: University of the Philippines Cebu Facebook
URL:https://alum.up.edu.ph/event/gumuntang-mga-kalakaran-sa-kasaysayan-at-kalinangang-pilipino-noong-ika-19-na-siglo/
END:VEVENT
BEGIN:VEVENT
DTSTART;TZID=UTC:20241128T090000
DTEND;TZID=UTC:20241201T180000
DTSTAMP:20260422T132600
CREATED:20241107T173046Z
LAST-MODIFIED:20241107T173046Z
UID:18201-1732784400-1733076000@alum.up.edu.ph
SUMMARY:Mandëko Kito: Immersive Craft Fair
DESCRIPTION:Here comes Mandëko Kito’s 8th Edition!\n\nJoin us at UP Baguio’s Museo Kordilyera Grounds from November 28 – December 1\, 2024\, 9 AM – 6 PM\, for an immersive craft fair experience! Discover handcrafted treasures\, connect with local artisans\, and enjoy workshops that bring the heart of Baguio’s creative spirit to life.\n\n🗓️ Mark your calendars\, bring your friends\, let’s celebrate local craftsmanship together!\n\nSource: Mandëko Kito Facebook
URL:https://alum.up.edu.ph/event/mandeko-kito-immersive-craft-fair/
END:VEVENT
BEGIN:VEVENT
DTSTART;TZID=UTC:20241128T190000
DTEND;TZID=UTC:20241130T210000
DTSTAMP:20260422T132600
CREATED:20240926T155713Z
LAST-MODIFIED:20240926T155713Z
UID:17478-1732820400-1733000400@alum.up.edu.ph
SUMMARY:Abelardo Hall Auditorium Concert Series
DESCRIPTION:Check out our exciting lineup for the Abelardo Hall Auditorium Concert Series on the Move 2024 in celebration of the 61st establishment of the Abelardo Hall Auditorium!\n\nSource: UP Kolehiyo ng Musika Facebook
URL:https://alum.up.edu.ph/event/abelardo-hall-auditorium-concert-series-3/
END:VEVENT
BEGIN:VEVENT
DTSTART;TZID=UTC:20241129T100000
DTEND;TZID=UTC:20241129T110000
DTSTAMP:20260422T132600
CREATED:20241127T171738Z
LAST-MODIFIED:20241127T171738Z
UID:18599-1732874400-1732878000@alum.up.edu.ph
SUMMARY:"Mapping Floods Across the Globe: Using a Bayesian Algorithm\, High-Performance Computing\, and SAR Data Cubes"
DESCRIPTION:We invite you to the 50th Department Seminar of the Department of Geodetic Engineering\, titled “Mapping Floods Across the Globe: Using a Bayesian Algorithm\, High-Performance Computing\, and SAR Data Cubes.”\n\nAsst. Prof. Mark Edwin Tupas will share groundbreaking methods for global flood mapping\, highlighting the integration of Bayesian algorithms\, high-performance computing\, and SAR data cubes in disaster analysis.\n\nThe seminar will be held on 29 November 2024\, at 10:00 AM\, in the GE Theater\, Melchor Hall\, UP Diliman.\n\nJoin us to explore the latest advancements in geospatial technology and their applications in flood monitoring and management.\n\nSource: UP Department of Geodetic Engineering Facebook
URL:https://alum.up.edu.ph/event/mapping-floods-across-the-globe-using-a-bayesian-algorithm-high-performance-computing-and-sar-data-cubes/
END:VEVENT
BEGIN:VEVENT
DTSTART;TZID=UTC:20241129T100000
DTEND;TZID=UTC:20241129T180000
DTSTAMP:20260422T132600
CREATED:20241127T171557Z
LAST-MODIFIED:20241127T171611Z
UID:18598-1732874400-1732903200@alum.up.edu.ph
SUMMARY:ANAK: A Day of Solidarity with the Palestinian People
DESCRIPTION:FROM THE RIVER TO THE SEA\, PALESTINE SHALL BE FREE!\n\nThe UP Center for International Studies\, with the GS 197 WFY class\, brings you ANAK: A Day of Solidarity with the Palestinian People at UP CIS\, Benton Hall\, UP Diliman.\n\nIn celebration of November 29\, the International Day of Solidarity with the Palestinian People\, join us in witnessing the strength\, hope\, and enduring spirit of the Palestinian people in their resistance against imperialism\, and struggle for freedom and self-determination.\n\nIn partnership with:\nUP Anthropology Society (UP AnthroSoc)\n\nSpecial thanks to:\nAlay Sining KAL\nUP Writers Club\n\nDive into a day filled with Palestinian culture and resilience through our scrumptious food bazaar\, our inspiring art exhibit featuring works by Palestinian children of Little Gaza Kitchen\, and an empowering solidarity night with cultural performances\, dialogue\, and more.\nDate: November 29\, 2024\n\nTime: 10 AM-7 PM\nLocation: UP Center for International Studies\, Benton Hall\, UP Diliman\nJoin us in celebrating Palestinian culture\, art\, resilience\, and let’s rekindle action for a Free Palestine.\n\nSee you there!\n\nSource: UP Center for International Studies Facebook
URL:https://alum.up.edu.ph/event/anak-a-day-of-solidarity-with-the-palestinian-people/
END:VEVENT
BEGIN:VEVENT
DTSTART;TZID=UTC:20241129T120000
DTEND;TZID=UTC:20241129T130000
DTSTAMP:20260422T132600
CREATED:20241107T145348Z
LAST-MODIFIED:20241128T161857Z
UID:18194-1732881600-1732885200@alum.up.edu.ph
SUMMARY:Health UPdates Webinar #219 "Pangangamba at Takot sa mga Relasyon?": Attachment Styles and Mental Health Illness
DESCRIPTION:The University of the Philippines\,\nin partnership with the UP Manila – National Institutes of Health\,\nand in cooperation with UP Philippine General Hospital and UP College of Medicine\,\nwould like to invite you to attend this webinar! \n  \nRegistration slots are limited to this HEALTH UPDATES webinar\nSo sign up NOW:\nbit.ly/HealthUpdatesWebinar219 \n  \nWebinar #219\nNovember 29\, 2024 (Friday) 12nn\nPangangamba at Takot sa mga Relasyon?\nAttachment Styles and Mental Health Illness\n\nPresenter:\nDR. CONSTANTINE DAVID DELLA\nHead\, Division of Consultation-Liaison Psychiatry\, Department of Psychiatry and Behavioral Medicine\nUP College of Medicine and Philippine General Hospital\nAssociate Professor\, UP College of Medicine\nChair\, Psychotherapy Section\, World Psychiatric Association\nCouncil Member\, World Federation for Psychotherapy\nVice Chair\, Board of Certification\, Specialty Board of Philippine Psychiatry\nPresident\, Philippine Psychiatric Association (2011-2012)\n\nReactor:\nDR. MICHAEL P. SIONZON\nChief Resident\, Department of Psychiatry and Behavioral Medicine\nUP – Philippine General Hospital\n\n———————————————————–\n\nWebinar #219\nNovember 29\, 2024 (Friday) 12nn\nPangangamba at Takot sa mga Relasyon?\nAttachment Styles and Mental Health Illness\n\nThe tapestry of adolescent and young adult mental health is often intricately woven with the threads of early life experiences. One such crucial thread is attachment style\, a psychological construct that profoundly influences how individuals relate to themselves and others. In this week’s episode\, we will discuss the intricate relationship between attachment styles and mental health outcomes in this critical developmental period.\n\nOur esteemed panel of speaker-experts will unravel the complexities of attachment theory\, exploring the four primary attachment styles: secure\, anxious-preoccupied\, dismissive-avoidant\, and fearful-avoidant. We will learn how these styles develop and how they manifest in adolescent and young adult behavior. We will look into the far-reaching impact of attachment styles on various mental health conditions\, including anxiety\, depression\, substance abuse\, and relationship difficulties.\n\nWe will discuss the practical strategies for fostering healthy attachment relationships and promoting mental well-being in adolescents and young adults. These strategies may include therapeutic interventions\, communication techniques\, and supportive parenting practices.\n\nOur main presenter is Dr. Constantine David Della\, who is a past president of the Philippine Psychiatric Association and is the current head of the Division of Consultation-Liaison Psychiatry at the UP-PGH Department of Psychiatry and Behavioral Medicine. Our reactor is Dr. Michael P. Sionzon\, who is the chief resident from the same department.\n\nJoin us as we explore the power of attachment in shaping the mental health trajectories of our youth. By the end of the webinar\, we hope the audience will be better equipped to recognize the signs of distress\, provide compassionate support\, and guide individuals toward a path of healing and resilience. So that together\, we can stop preventable deaths!
URL:https://alum.up.edu.ph/event/health-updates-webinar-219/
END:VEVENT
BEGIN:VEVENT
DTSTART;TZID=UTC:20241129T160000
DTEND;TZID=UTC:20241129T190000
DTSTAMP:20260422T132600
CREATED:20241127T174022Z
LAST-MODIFIED:20241127T174022Z
UID:18607-1732896000-1732906800@alum.up.edu.ph
SUMMARY:“Fireside Chat on Public Procurement (FCPP): Government Science and Technology Acquisition Insights”
DESCRIPTION:Join the live discussion “Fireside Chat on Public Procurement (FCPP): Government Science and Technology Acquisition Insights” on Friday\, Nov. 29\, 4–7 p.m.\, at the UP Diliman (UPD) Institute of Biology Auditorium.\n\nThe guest speakers are Deo Florence L. Onda\, PhD\, an associate professor and associate dean of research innovation development and enterprise at the UPD College of Science\, and Heidi L. Mendoza\, former commissioner at the Commission on Audit.\n\nRegister at https://bit.ly/4eGNsHm or scan the QR code on the poster.\n\nThe event is organized by the UPD Technology Management Center.\n\nFor more details\, visit the FCPP Facebook page (https://www.facebook.com/profile.php?id=61568504761686).\n\n(Image from the UP Diliman Technology Management Center)\n\nSource: UP Diliman Facebook
URL:https://alum.up.edu.ph/event/fireside-chat-on-public-procurement-fcpp-government-science-and-technology-acquisition-insights/
END:VEVENT
END:VCALENDAR