BEGIN:VCALENDAR
VERSION:2.0
PRODID:-//UP Alumni Website - ECPv6.15.16//NONSGML v1.0//EN
CALSCALE:GREGORIAN
METHOD:PUBLISH
X-WR-CALNAME:UP Alumni Website
X-ORIGINAL-URL:https://alum.up.edu.ph
X-WR-CALDESC:Events for UP Alumni Website
REFRESH-INTERVAL;VALUE=DURATION:PT1H
X-Robots-Tag:noindex
X-PUBLISHED-TTL:PT1H
BEGIN:VTIMEZONE
TZID:UTC
BEGIN:STANDARD
TZOFFSETFROM:+0000
TZOFFSETTO:+0000
TZNAME:UTC
DTSTART:20230101T000000
END:STANDARD
END:VTIMEZONE
BEGIN:VEVENT
DTSTART;TZID=UTC:20241118T080000
DTEND;TZID=UTC:20241213T170000
DTSTAMP:20260423T090758
CREATED:20241118T170445Z
LAST-MODIFIED:20241118T170445Z
UID:18470-1731916800-1734109200@alum.up.edu.ph
SUMMARY:Asian Center 69th Founding Anniversary
DESCRIPTION:🎉 IT’S OUR ANNIVERSARY🎉\n\nLet’s Celebrate 69 Years of Excellence!\n\nJoin us as we commemorate our 69th founding anniversary this November 2024! We have an exciting series of activities lined up to celebrate this milestone. From insightful seminars and workshops to fun-filled events and gatherings\, there’s something for everyone! View the details and sign up: bit.ly/acanniv69\n\n📅 Date: 18 November – 13 December 2024\n📍 Venue: Online and Onsite\n\nView the details and sign up: bit.ly/acanniv69\n\nLet’s come together to honor our rich history\, celebrate our achievements\, and look forward to a bright future. Mark your calendars and Stay tuned for more details! View the details and sign up: bit.ly/acanniv69\n\nSource: UP Diliman Facebook
URL:https://alum.up.edu.ph/event/asian-center-69th-founding-anniversary/
END:VEVENT
BEGIN:VEVENT
DTSTART;TZID=UTC:20241119T090000
DTEND;TZID=UTC:20241206T160000
DTSTAMP:20260423T090758
CREATED:20241114T170413Z
LAST-MODIFIED:20241114T170413Z
UID:18366-1732006800-1733500800@alum.up.edu.ph
SUMMARY:“Doon po sa amin” Marco Ruben T. Malto II Art Exhibit
DESCRIPTION:Filipino gymnast Carlos Yulo’s twin gold medal-win in the 2024 Paris Olympics will long be remembered as a historic feat for the Philippines. But what was a truly magical moment for a hard-earned victory quickly turned into an emotional trigger to a deep cultural divide\, in a society where social media has the power to polarize people.\n\nHyperactive netizens\, at first glued to the curious case of Alice Guo and her links to illegal Philippine Offshore Gambling Operations or POGOs\, shifted their short attention span to the Yulo Family saga and found themselves torn between euphoria and disappointment. Once national obsession over the new golden boy’s family drama waned\, the spotlight turned to Vice President Sara being a “shining example of a bad public servant” amid the deepening political rift between Marcos and Duterte. A fanfare of arrests also took the limelight– those of fake Filipino Guō Huápíng and her cohorts\, and the fake “son of god” Apollo Quiboloy and his “angels of death”. Massive manhunts for the country’s most wanted criminals and their coddlers kept most Filipinos on alert\, and distracted from their own adversities.\n\nFor months on end\, media feeds feasted on the evasive POGO fugitives Alice Guo and Harry Roque\, Quiboloy’s sex crimes\, VP Sara on “Duterte mode”\, and the looming International Criminal Court arrest of her father Digong and their allies for extrajudicial killings. But just as incessant and infuriating in the news are the Chinese forces and their monstrous vessels ramming the Philippine Coast Guard and threatening local fishers with their intrusive patrolling in the Philippine waters.\n\nWhereas news followers fought over binge-worthy livestreamed Senate and House committee hearings\, Filipinos are united in taking a stand against China’s illegal activities in the West Philippine Sea (WPS) — even when the previous “popular” administration went the unpopular route. Former President Rodrigo Duterte downplayed Philippine’s victory in a 2016 ruling by an international tribunal at the Hague\, refuting Beijing’s extensive claims of sovereignty and historic rights over the WPS. Seeking economic benefits from China while loosening ties with the U.S.\, Duterte’s China-friendly stance was just one of his bloody regime’s endless list of epic failures. China’s bullying did not stop\, while their high-interest loans and defective infrastructure projects continue to drown Filipino taxpayers in debts until today. In place of promised economic gains\, transnational thugs operating gambling hubs as front for financial frauds\, human and drug trafficking\, and money laundering thrived to abuse thousands of desperate jobseekers in the region.\n\nNearly three years into office\, President Bongbong Marcos still fails to bring down the price of rice to P20 per kilo\, as he bans POGOs and commits to de-escalate tensions in the WPS by strengthening strategic alliance with the U.S.; prompting China’s intensified hostilities against the Philippine vessels. The escalating maritime dispute between the Philippines and China goes back to the geopolitical competition between Beijing and Washington\, with the Filipinos on the receiving end of Chinese harassment.\n\nInternational affairs paint a ruthless world as geopolitical tensions and armed conflicts continue to intensify\, taking thousands of lives and affecting millions more. The Philippine Navy logging the largest presence of Chinese ships in WPS to date\, along with China’s military moves in the region\, makes the Philippines a constant target. As the nation fights for its rightful territories\, resources and livelihoods amid false narratives in this AI age of deepfake\, political polarization due to disunity in the UniTeam further deters the country’s economic progress. And as influencers\, traditional politicians and dynasties dominate the battle for next year’s national and local elections\, poor Filipinos become poorer\, suffering from worsening living conditions and deadlier environmental disasters due to power struggles and human greed.\n\nUP professor and painter Marco Ruben T. Malto II offers his yearly recap of the country’s big events through his solo art exhibition titled\, “Doon Po Sa Amin”.  Malto’s narrative art comments on current socio-political conditions while remembering history\, as he explores cultural references from thematic beliefs and practices that are distinctly Filipino. Doon Po Sa Amin is open for viewing at Gallery Two\, Art & Design West Hall at UP Diliman’s College of Fine Arts from Nov 19- Dec 6\, 2024. Gallery hours are from 9AM-4PM\, Tue-Sat. The public is invited to the Artist’s Reception on Nov. 22\, Fri\, 5PM.\n\nAbout the Artist:\n\nMarco Ruben T. Malto II (b. 1972\, Manila) is a graduate of University of the Philippines Diliman-College of Fine Arts (UPCFA) completing his Bachelor of Fine Arts Major in Painting degree in 1993\, and his Master of Fine Arts degree in 2002.\nFor more than a decade\, Malto’s annual solo exhibitions embody themes capturing the country’s current concerns and how they interplay with Philippine history and cultural nuances. The history enthusiast in the artist chronicles\, as the professor educates by engaging his public in important national discourses through his art exhibits.\n\nMalto has been teaching at UPCFA-Department of Studio Arts since 2002\, and has been a recipient of the University Artist Award (for cycles 2018-2020 & 2021-2023)\, and the UP Diliman Centennial Professorial Chair Award for his annual solo exhibits from 2012 to 2023: Colors of Black\, 2012; Bayang Magiting\, 2013; Siete Estaciones\, 2014; Ang Petroglyphs ng Angono\, 2015; Susmaryosep!\, 2016; Peksman!\, 2017; Kahimanawari\, 2018; Kalendaryo 20/20\, 2019; Faith\, Hope and Charity: Conquest of the Philippines\, 2021; Sulat: Retelling Rizal through Philately\, 2022; and Bisa\, 2023.
URL:https://alum.up.edu.ph/event/doon-po-sa-amin-marco-ruben-t-malto-ii-art-exhibit/
END:VEVENT
BEGIN:VEVENT
DTSTART;VALUE=DATE:20241202
DTEND;VALUE=DATE:20241219
DTSTAMP:20260423T090758
CREATED:20241204T222300Z
LAST-MODIFIED:20241204T222300Z
UID:18715-1733097600-1734566399@alum.up.edu.ph
SUMMARY:UP Baguio Christmas Calendar
DESCRIPTION:🎄 UP Baguio’s December Decoder 🎄\n\nOur December calendar is LIVE! From the Investiture of Prof. Joel M. Addawe as our 4th Chancellor to campus-wide celebrations marking our 22-year journey\, we’re serving up experiences you DON’T want to miss.\n\nSwipe to reveal our FULL December lineup and get ready to mark your calendars. Merry minds\, scholarly spirits\, all in one epic month! ❄️\n\nSource: UP Baguio Public Affairs Facebook
URL:https://alum.up.edu.ph/event/up-baguio-christmas-calendar/
END:VEVENT
BEGIN:VEVENT
DTSTART;VALUE=DATE:20241203
DTEND;VALUE=DATE:20241207
DTSTAMP:20260423T090758
CREATED:20241112T215203Z
LAST-MODIFIED:20241112T215203Z
UID:18289-1733184000-1733529599@alum.up.edu.ph
SUMMARY:WORLD IKAT TEXTILES SYMPOSIUM
DESCRIPTION:WORLD IKAT TEXTILES SYMPOSIUM (WITS) in Baguio City on December 3-6\, 2024 at the Baguio Convention and Cultural Center\nOn behalf of the organizers\, we would like to invite the UPB community to participate in the World Ikat Textile Symposium (WITS) on December 3-6\, 2024. The CBCC and the CORDITEX-UPB are co-convenors of the event.\n\nYou can check the registration details via:\nhttps://www.facebook.com/worldikat\nhttps://witsbaguioph.com\n\nSource: University of the Philippines Baguio Facebook
URL:https://alum.up.edu.ph/event/world-ikat-textiles-symposium/
END:VEVENT
BEGIN:VEVENT
DTSTART;TZID=UTC:20241203T080000
DTEND;TZID=UTC:20241213T170000
DTSTAMP:20260423T090758
CREATED:20241203T220940Z
LAST-MODIFIED:20241203T220940Z
UID:18700-1733212800-1734109200@alum.up.edu.ph
SUMMARY:"Huling Hirit sa 35th! SWF Aklatang Bayan Booksale"
DESCRIPTION:Handa na ba kayo? Narito na ang “Huling Hirit sa 35th! SWF Aklatang Bayan Booksale” na magaganap ngayong 3-13 Disyembre 2024 sa SWF Saliksikang Filipino Resource Center\, Institute for Small Scale Industries (ISSI)\, UP Diliman.\n\nMay deskuwentong 35% sa mga piling aklat at 10% naman sa mga bagong publikasyon.\n\nTara na!\n\nSource: Sentro ng Wikang Filipino – UP Diliman Facebook
URL:https://alum.up.edu.ph/event/huling-hirit-sa-35th-swf-aklatang-bayan-booksale/
END:VEVENT
BEGIN:VEVENT
DTSTART;TZID=UTC:20241204T080000
DTEND;TZID=UTC:20241206T170000
DTSTAMP:20260423T090758
CREATED:20241112T220530Z
LAST-MODIFIED:20241112T220530Z
UID:18306-1733299200-1733504400@alum.up.edu.ph
SUMMARY:Shoreline Shakespeare: 6th Conference of the Asian Shakespeare Association
DESCRIPTION:The Division of Humanities is proud to be hosting the Shoreline Shakespeare: 6th Conference of the Asian Shakespeare Association this December 4 – 6\, 2024.\n\nThe conference welcomes papers that examines the literal and metaphorical meanings of the shoreline in Shakespeare and his afterlife.\n\nTo submit your proposals and know more about the conference\, you may visit this link for the full conference details: https://asianshakespeare.org/…/6th-conference-in…/…\n\nSee you in Iloilo!\n\nSource: UPV Division of Humanities Facebook
URL:https://alum.up.edu.ph/event/shoreline-shakespeare-6th-conference-of-the-asian-shakespeare-association/
END:VEVENT
BEGIN:VEVENT
DTSTART;VALUE=DATE:20241205
DTEND;VALUE=DATE:20241206
DTSTAMP:20260423T090758
CREATED:20241008T214325Z
LAST-MODIFIED:20241008T214325Z
UID:17773-1733356800-1733443199@alum.up.edu.ph
SUMMARY:"Going Home to Christmas: A Jose Mari Chan Musical"
DESCRIPTION:Happy Holidays!\n\nThe Let’s Save the Brain Foundation\, Inc. will be hosting “Going Home to Christmas: A Jose Mari Chan Musical” on December 5\, Thursday at the Carlos P. Romulo Auditorium\, RCBC Plaza\, Makati\n\nWe are knocking on your kind hearts this Christmas season to support this event! Proceeds will go to supporting the medical care of our neuro patients.\n\nTicket prices are as follows:\nOrchestra center Php 4\,000\nLodge Php 4\,000\nOrchestra Side Php 3\,500\nLodge Side Php 3\,000\nBalcony Php 2\,000\n\nYou may reserve individual tickets through this link: https://forms.gle/JEJ8gaTrE3Qh8Ns36\n\nExclusive sponsorhip packages are also available. If you have any questions\, please feel free to send a message. Thank you!\n\nSource: UP-Philippine General Hospital Adult Neurology Facebook
URL:https://alum.up.edu.ph/event/going-home-to-christmas-a-jose-mari-chan-musical/
END:VEVENT
BEGIN:VEVENT
DTSTART;TZID=UTC:20241205T080000
DTEND;TZID=UTC:20241206T170000
DTSTAMP:20260423T090758
CREATED:20241105T212917Z
LAST-MODIFIED:20241105T212917Z
UID:18127-1733385600-1733504400@alum.up.edu.ph
SUMMARY:2024 Philippine K-culture Conference
DESCRIPTION:In celebration of the 75th diplomatic anniversary between the Philippines and Korea\, UP KRC is organizing the very first Philippine K-culture Conference that dedicates to invite scholars who will share research on a variety of aspects of Korean culture\, including K-pop\, media (e.g.\, television/OTT/film)\, fandom\, gaming\, webtoons\, food\, fashion\, and other cultural phenomena. With international speakers and local scholars\, the conference looks forward to discussions and exchange of insights in depth in the Philippine as well as global K-culture arenas.\n\nRegistration: https://bit.ly/Kculture2024\n\nVenue: Pilar Herrera\, G/F Palma Hall\, University of the Philippines Diliman\nDates: 5-6 December (Thurs-Fri) 2024\nOrganizers: UP Korea Research Center\, UP Department of Linguistics\nCo-organizers: UP Center for International Studies\, UP Arirang\nProgram Viewing: https://bit.ly/KculturePH2024\n\nThis event is free and open to the public.\n\nSource: UP Korea Research Center Facebook
URL:https://alum.up.edu.ph/event/2024-philippine-k-culture-conference/
END:VEVENT
BEGIN:VEVENT
DTSTART;TZID=UTC:20241205T090000
DTEND;TZID=UTC:20241205T170000
DTSTAMP:20260423T090758
CREATED:20241028T161448Z
LAST-MODIFIED:20241028T161448Z
UID:18096-1733389200-1733418000@alum.up.edu.ph
SUMMARY:UP SOLAIR’S JOB FAIR 2024
DESCRIPTION:📢 UP SOLAIR’S JOB FAIR 2024 is happening soon! Whether you’re a job seeker looking to take the next step in your career\, or a company looking for top talent\, this is the event for you.\n\n🗓 Date: December 5\, 2024 (Thursday) ⏰ Time: 9 AM – 5 PM 📍 Venue: Isabelo de los Reyes Auditorium\, Bonifacio Hall\, SOLAIR\, UP Diliman\n\n💼 Discover new opportunities\, 🤝 Connect with top companies\, 🌱 Grow your career!\n\n🔍 For Jobseekers: https://bit.ly/SOLAIRjobfair24App\n💼 For Sponsors: https://bit.ly/SOLAIRjobfair24Com\n(Or SCAN the QR Code)\n\nSource: UP School of Labor and Industrial Relations Facebook
URL:https://alum.up.edu.ph/event/up-solairs-job-fair-2024/
END:VEVENT
BEGIN:VEVENT
DTSTART;TZID=UTC:20241205T110000
DTEND;TZID=UTC:20241205T120000
DTSTAMP:20260423T090758
CREATED:20241203T214810Z
LAST-MODIFIED:20241203T214810Z
UID:18690-1733396400-1733400000@alum.up.edu.ph
SUMMARY:“How to Improve Literacy and Numeracy Skills With Students Using Technology”
DESCRIPTION:Don’t miss this opportunity to gain valuable insights into fostering essential skills in today’s fast-evolving world! 🌏\n\nTune in to a special episode featuring Andy Lee\, the President of Innovation First International Hong Kong Ltd.\, as he discusses strategies to improve literacy and numeracy skills. In this insightful conversation\, Andy will share his expertise on how educational innovations and effective practices can empower learners to enhance these important skills. 📖➗\n\nSa Huwebes na\, December 5\, 11:00 a.m. to 12:00 p.m.. Sali na!\n\nGo Teacher Go! Kaagapay ng Makabagong Guro!\n\nSource: Go Teacher Go Facebook
URL:https://alum.up.edu.ph/event/how-to-improve-literacy-and-numeracy-skills-with-students-using-technology/
END:VEVENT
BEGIN:VEVENT
DTSTART;TZID=UTC:20241205T120000
DTEND;TZID=UTC:20241205T130000
DTSTAMP:20260423T090758
CREATED:20241203T215052Z
LAST-MODIFIED:20241203T215052Z
UID:18691-1733400000-1733403600@alum.up.edu.ph
SUMMARY:“Women in Filipino Transnational Families”
DESCRIPTION:Pag-usapan natin ang karanasan at sitwasyon ng mga tinaguriang women in Filipino transnational families bilang bahagi ng paggunita ng Kolehiyo ng Komunikasyong Pangmadla sa 16 na araw ng aktibismo laban sa gender-based violence.\n\nMakinig at makilahok sa espesyal na edisyon ng kwentuhang may utak\, kwentuhang may puso\, UP Atin ‘To!\n\nSource: DZUP Facebook
URL:https://alum.up.edu.ph/event/women-in-filipino-transnational-families/
END:VEVENT
BEGIN:VEVENT
DTSTART;TZID=UTC:20241205T173000
DTEND;TZID=UTC:20241205T183000
DTSTAMP:20260423T090758
CREATED:20241124T223312Z
LAST-MODIFIED:20241124T223312Z
UID:18578-1733419800-1733423400@alum.up.edu.ph
SUMMARY:UP Visayas Miagao Christmas Illumination Ceremony
DESCRIPTION:Christmas season in UP Visayas draws near 🎄🌟🎁\nThe illumination of UPV’s Miagao and Iloilo City campuses for the holidays\, an annual tradition in the University\, is set to take place on Dec. 5 and Dec. 6\, respectively.\n\nSee you there!\n\nSource: University of the Philippines Visayas Facebook
URL:https://alum.up.edu.ph/event/up-visayas-miagao-christmas-illumination-ceremony/
END:VEVENT
END:VCALENDAR