BEGIN:VCALENDAR
VERSION:2.0
PRODID:-//UP Alumni Website - ECPv6.15.16//NONSGML v1.0//EN
CALSCALE:GREGORIAN
METHOD:PUBLISH
X-WR-CALNAME:UP Alumni Website
X-ORIGINAL-URL:https://alum.up.edu.ph
X-WR-CALDESC:Events for UP Alumni Website
REFRESH-INTERVAL;VALUE=DURATION:PT1H
X-Robots-Tag:noindex
X-PUBLISHED-TTL:PT1H
BEGIN:VTIMEZONE
TZID:UTC
BEGIN:STANDARD
TZOFFSETFROM:+0000
TZOFFSETTO:+0000
TZNAME:UTC
DTSTART:20230101T000000
END:STANDARD
END:VTIMEZONE
BEGIN:VEVENT
DTSTART;TZID=UTC:20241118T080000
DTEND;TZID=UTC:20241213T170000
DTSTAMP:20260425T194500
CREATED:20241118T170445Z
LAST-MODIFIED:20241118T170445Z
UID:18470-1731916800-1734109200@alum.up.edu.ph
SUMMARY:Asian Center 69th Founding Anniversary
DESCRIPTION:🎉 IT’S OUR ANNIVERSARY🎉\n\nLet’s Celebrate 69 Years of Excellence!\n\nJoin us as we commemorate our 69th founding anniversary this November 2024! We have an exciting series of activities lined up to celebrate this milestone. From insightful seminars and workshops to fun-filled events and gatherings\, there’s something for everyone! View the details and sign up: bit.ly/acanniv69\n\n📅 Date: 18 November – 13 December 2024\n📍 Venue: Online and Onsite\n\nView the details and sign up: bit.ly/acanniv69\n\nLet’s come together to honor our rich history\, celebrate our achievements\, and look forward to a bright future. Mark your calendars and Stay tuned for more details! View the details and sign up: bit.ly/acanniv69\n\nSource: UP Diliman Facebook
URL:https://alum.up.edu.ph/event/asian-center-69th-founding-anniversary/
END:VEVENT
BEGIN:VEVENT
DTSTART;VALUE=DATE:20241202
DTEND;VALUE=DATE:20241219
DTSTAMP:20260425T194500
CREATED:20241204T222300Z
LAST-MODIFIED:20241204T222300Z
UID:18715-1733097600-1734566399@alum.up.edu.ph
SUMMARY:UP Baguio Christmas Calendar
DESCRIPTION:🎄 UP Baguio’s December Decoder 🎄\n\nOur December calendar is LIVE! From the Investiture of Prof. Joel M. Addawe as our 4th Chancellor to campus-wide celebrations marking our 22-year journey\, we’re serving up experiences you DON’T want to miss.\n\nSwipe to reveal our FULL December lineup and get ready to mark your calendars. Merry minds\, scholarly spirits\, all in one epic month! ❄️\n\nSource: UP Baguio Public Affairs Facebook
URL:https://alum.up.edu.ph/event/up-baguio-christmas-calendar/
END:VEVENT
BEGIN:VEVENT
DTSTART;TZID=UTC:20241203T080000
DTEND;TZID=UTC:20241213T170000
DTSTAMP:20260425T194500
CREATED:20241203T220940Z
LAST-MODIFIED:20241203T220940Z
UID:18700-1733212800-1734109200@alum.up.edu.ph
SUMMARY:"Huling Hirit sa 35th! SWF Aklatang Bayan Booksale"
DESCRIPTION:Handa na ba kayo? Narito na ang “Huling Hirit sa 35th! SWF Aklatang Bayan Booksale” na magaganap ngayong 3-13 Disyembre 2024 sa SWF Saliksikang Filipino Resource Center\, Institute for Small Scale Industries (ISSI)\, UP Diliman.\n\nMay deskuwentong 35% sa mga piling aklat at 10% naman sa mga bagong publikasyon.\n\nTara na!\n\nSource: Sentro ng Wikang Filipino – UP Diliman Facebook
URL:https://alum.up.edu.ph/event/huling-hirit-sa-35th-swf-aklatang-bayan-booksale/
END:VEVENT
BEGIN:VEVENT
DTSTART;TZID=UTC:20241209T103000
DTEND;TZID=UTC:20241209T113000
DTSTAMP:20260425T194500
CREATED:20241201T214701Z
LAST-MODIFIED:20241201T214716Z
UID:18664-1733740200-1733743800@alum.up.edu.ph
SUMMARY:Seminar on Advance Manufacturing of Metallic Materials
DESCRIPTION:You are invited to a seminar on Advance Manufacturing of Metallic Materials. This event will feature two expert-led lectures on topics in additive manufacturing.\n\nFeatured Lectures:\n\n🔹 Dr. Jubert Pasco: “Phase Transformation Behavior of Additively Manufactured Co-Cr-Mo Alloy”\nThis lecture explores the unique structural characteristics and solute distribution of CoCrMo alloys fabricated using the Laser Powder Bed Fusion (L-PBF) technique\n\n🔹 Dr. Clodualdo Aranas Jr.: “Introduction to Directed Energy Deposition (DED) Additive Manufacturing”\n\nThe seminar will provide basic knowledge about Directed Energy Deposition (DED) technology and its applications across various industries\n📅 Date: December 9\, 2024\n🕓 Time: 10:30 AM\n📍 Location: DMMME Conference (In-person)\n💻 Join Virtually: Register via the link below or scan the QR code on the event poster to participate online.\n\nhttps://tinyurl.com/DMMMESeminar6\n\nSource: UP Department of Mining\, Metallurgical\, and Materials Engineering Facebook
URL:https://alum.up.edu.ph/event/seminar-on-advance-manufacturing-of-metallic-materials/
END:VEVENT
BEGIN:VEVENT
DTSTART;TZID=UTC:20241209T130000
DTEND;TZID=UTC:20241209T150000
DTSTAMP:20260425T194500
CREATED:20241203T221458Z
LAST-MODIFIED:20241203T221458Z
UID:18707-1733749200-1733756400@alum.up.edu.ph
SUMMARY:DMMME Graduate Colloquium
DESCRIPTION:📢 GRADUATE COLLOQUIUM 🎓\n\nJoin us for the DMMME Graduate Colloquium on December 9\, 2024\, at 1:00 PM at the Conference Room. This colloquium will feature presentations and discussions of the currents studies by the graduate students of the department.\n\nYou may access the abstracts here:\nhttps://drive.google.com/…/1ILEIPELl10GJxNY0Oguxy5OHhCy…\n\nSee you!\n\nSource: UP Department of Mining\, Metallurgical\, and Materials Engineering Facebook
URL:https://alum.up.edu.ph/event/dmmme-graduate-colloquium-4/
END:VEVENT
BEGIN:VEVENT
DTSTART;TZID=UTC:20241209T130000
DTEND;TZID=UTC:20241209T170000
DTSTAMP:20260425T194500
CREATED:20241121T220030Z
LAST-MODIFIED:20241121T220030Z
UID:18539-1733749200-1733763600@alum.up.edu.ph
SUMMARY:HR SUMMIT 2024: Empowering Human Capital for Industry Productivity and Competitiveness
DESCRIPTION:Join us for the HR SUMMIT 2024: Empowering Human Capital for Industry Productivity and Competitiveness!\n\nOrganized by the IR 222 (HRD at the Firm Level) class under Dr. Virgel C. Binghay\, and in partnership with UP School of Labor and Industrial Relations (SOLAIR) and the Center for Industry Productivity and Competitiveness (CIPC)\, this event promises to deliver impactful insights from renowned leaders across sectors.\n\nGain valuable perspectives on enhancing human capital to boost industry productivity and competitiveness. Hear from our distinguished speakers:\nMr. Jo-Dann N. Darong\nAtty. Sonny G. Matula\nMr. Enrique C. Castillo\nModerator: Dr. Virgel Binghay\n\nDate: December 9\, 2024\nTime: 1:00 PM – 5:00 PM\nVenue: Isabelo de los Reyes Auditorium\, Bonifacio Hall\, UP SOLAIR\nRegistration is FREE: https://forms.gle/g8ayF6frDjNFvVup8\n\nHR officers and professionals are encouraged to join. Click the link or scan the QR code to secure your spot.\n\nRead more: https://solair.upd.edu.ph/hr-summit-2024-empowering…/\n\nSource: UP School of Labor and Industrial Relations Facebook
URL:https://alum.up.edu.ph/event/hr-summit-2024-empowering-human-capital-for-industry-productivity-and-competitiveness/
END:VEVENT
BEGIN:VEVENT
DTSTART;TZID=UTC:20241209T130000
DTEND;TZID=UTC:20241209T170000
DTSTAMP:20260425T194500
CREATED:20241203T212102Z
LAST-MODIFIED:20241203T212102Z
UID:18683-1733749200-1733763600@alum.up.edu.ph
SUMMARY:Tao sa Tao: Mga Totoong Kwento ng Kababaihan ng Martial Law
DESCRIPTION:As part of the 18-Day Campaign to End Violence Against Women (VAW) and in observance of International Human Rights Day\, the UPCWGs\, in partnership with the Human Rights Violations Victims’ Memorial Commission\, the Survivors’ Hub (Martial Law ‘72-‘86)\, and the CWR | Center for Women’s Resources\, present Tao sa Tao: Mga Totoong Kwento ng Kababaihan ng Martial Law.\n\nTao sa Tao is a project by the HRVVMC launched in 2022 to mark the 50th anniversary of Martial Law. It gathers survivor stories to inform students and the public about human rights violations during 1972-1986 and counter historical distortions through face-to-face storytelling.\n\nIn addition\, the UPCWGs will explore the relationship between conflict and gender-based violence\, emphasizing women’s critical roles in addressing this issue and their contributions to Women\, Peace and Security.\n\nIf you are interested in joining the activity\, please register here:\nhttps://tinyurl.com/TaoSaTaoML\n\nThe Tao sa Tao will be held on December 9\, 2024\, from 1:00 pm to 5:00 pm\, at the UPCWGS Conference Room.\n\nLika! Kwentuhan tayo! Tao sa Tao!\n\nSource: UP Center for Women’s and Gender Studies Facebook
URL:https://alum.up.edu.ph/event/tao-sa-tao-mga-totoong-kwento-ng-kababaihan-ng-martial-law/
END:VEVENT
BEGIN:VEVENT
DTSTART;TZID=UTC:20241209T170000
DTEND;TZID=UTC:20241209T200000
DTSTAMP:20260425T194500
CREATED:20241208T182211Z
LAST-MODIFIED:20241208T182211Z
UID:18756-1733763600-1733774400@alum.up.edu.ph
SUMMARY:2024 UP Manila Christmas Kick-off Ceremony
DESCRIPTION:The UP Manila community is enjoined to actively participate in the 2024 UP Manila Christmas Kick-off Ceremony\non December 9\, 2024\, with the following details:\n\n• Thanksgiving Mass – 5:00 PM to 6:00 PM at PGH Chapel\n• Christmas Tree Lighting Ceremony – 6:00 PM to 8:00 PM at PGH Grounds\n\nGuided by the theme “Paskong UP Manila: Sama-Samang Nagpapasalamat at Nagdiriwang\,”\nthe Kick-off Ceremony will also be live streamed in the UP Manila official Facebook page (https://facebook.com/UPMANILAOFFICIAL).\n\nWe look forward to everyone’s presence and participation as we celebrate the Christmas season at UP Manila!\n\nSource: University of the Philippines Manila Facebook
URL:https://alum.up.edu.ph/event/2024-up-manila-christmas-kick-off-ceremony/
END:VEVENT
END:VCALENDAR