BEGIN:VCALENDAR
VERSION:2.0
PRODID:-//UP Alumni Website - ECPv6.15.16//NONSGML v1.0//EN
CALSCALE:GREGORIAN
METHOD:PUBLISH
X-WR-CALNAME:UP Alumni Website
X-ORIGINAL-URL:https://alum.up.edu.ph
X-WR-CALDESC:Events for UP Alumni Website
REFRESH-INTERVAL;VALUE=DURATION:PT1H
X-Robots-Tag:noindex
X-PUBLISHED-TTL:PT1H
BEGIN:VTIMEZONE
TZID:UTC
BEGIN:STANDARD
TZOFFSETFROM:+0000
TZOFFSETTO:+0000
TZNAME:UTC
DTSTART:20230101T000000
END:STANDARD
END:VTIMEZONE
BEGIN:VEVENT
DTSTART;VALUE=DATE:20241202
DTEND;VALUE=DATE:20241219
DTSTAMP:20260424T211118
CREATED:20241204T222300Z
LAST-MODIFIED:20241204T222300Z
UID:18715-1733097600-1734566399@alum.up.edu.ph
SUMMARY:UP Baguio Christmas Calendar
DESCRIPTION:🎄 UP Baguio’s December Decoder 🎄\n\nOur December calendar is LIVE! From the Investiture of Prof. Joel M. Addawe as our 4th Chancellor to campus-wide celebrations marking our 22-year journey\, we’re serving up experiences you DON’T want to miss.\n\nSwipe to reveal our FULL December lineup and get ready to mark your calendars. Merry minds\, scholarly spirits\, all in one epic month! ❄️\n\nSource: UP Baguio Public Affairs Facebook
URL:https://alum.up.edu.ph/event/up-baguio-christmas-calendar/
END:VEVENT
BEGIN:VEVENT
DTSTART;TZID=UTC:20241214T090000
DTEND;TZID=UTC:20250222T160000
DTSTAMP:20260424T211118
CREATED:20250107T174711Z
LAST-MODIFIED:20250107T174711Z
UID:18872-1734166800-1740240000@alum.up.edu.ph
SUMMARY:Unfolding (언폴딩) Exhibition
DESCRIPTION:Unfolding (언폴딩)\nInhwan Oh and Kyungmook Kim\nPreview on 14 December 2024\, on view until 22 February 2025\n1/F Galleries\nUP Vargas Museum\n\nThe UP Vargas Museum\, together with the Ministry of Culture\, Sports\, and Tourism of the Republic of Korea\, the Korea Arts Management Service\, and the Fund for Korean Art Abroad\, presents the exhibition of works by artists Inhwan Oh and Kyungmook Kim organized by Dominic Mangila. Unfolding (언폴딩) considers the experiences of two artists who embody othered identities in a society largely devoted to masculine ideals. Inhwan Oh and Kyungmook Kim unpack vignettes of life in South Korea as members of the LGBTQIA+ community in film and video works\, and through art that engages labor and marks processes.\n\nThrough them\, they summon the worlds of prisons and places of incarceration juxtaposed with spaces of freedom and gaiety– to discover and mark a social identity that refuses to settle with the laws and sanctions of a patriarchal nation.\n\nUnfolding (언폴딩) will be on view at the 1/F Galleries of the UP Vargas Museum starting 14 December 2024. Write to vargasmuseum@up.edu.ph for details and related information. The museum is located inside the University of the Philippines Diliman Campus and is open from Tuesdays to Saturdays except holidays\, 9:00 AM to 5:00 PM.\n\nFor updates on events\, exhibitions\, and advisories check our socials on Facebook\, Instagram\, or Twitter @upvargasmuseum.\n\n__________________________\nAbout the artist\n\nInhwan Oh\n\nInhwan Oh (b. 1965) is Associate Professor at the Department of Painting of the College of Fine Arts at Seoul National University. His participatory works and site-specific projects contextualize a particular space and time and seek to dismantle the cultural codes  formed in the relationship between the identities of individuals and groups within a patriarchal society. Some of his more recent solo exhibitions were held at the Smith Gallery of Davidson College in North Carolina (2019)\,  BAIK ART in Los Angeles\, California (2019)\, and Bongsan Cultural Center\, South Korea (2018)  He recently participated in group exhibitions at the Arsenale in Venice\, Italy (2019) and at the National Museum of Modern and Contemporary Art in Gwacheon\, South Korea (2018). He was a recipient of the National Museum of Modern and Contemporary Art and SBS Foundation’s Korea Artist Prize in 2015.\nKyungmook Kim\nKyungmook Kim’s (b. 1985) video art\, documentary\, and narrative films expand the form of cinema by exploring the precarity of the marginalized such as homosexuals\, transsexuals\, sex workers\, and North Korean defectors. He made his directorial debut with Me and Doll-playing in 2004. Some of his other notable films include his Things Trilogy (2005-2014)\, A Cheonggyecheon Dog (2008)\, and Grace Period (2015). His films have been selected for and received awards in international film festivals such as the Venice Film Festival the BFI London Film Festival\, and the Museum of Modern Art in New York. Among his awards include the Idea Generation Grant of The School of the Art Institute of Chicago (2019)\, The Association of Korean Independent Film & Video’s Indie Filmmaker of the Year Award (2014)\, and Muju International Film Festival’s Best Director Award (2014).\n_________________________\nAbout the museum\n\nThe University of the Philippines Jorge B. Vargas Museum and Filipiniana Research Center is a center for Philippine art and culture with the core thrusts of research\, curation\, and education. The Museum is home to the collections of art\, books\, archives\, memorabilia\, coins\, and stamps of Jorge B. Vargas\, a significant political figure in the twentieth-century Philippines and an alumnus of the University of the Philippines An avid collector with a vision of sharing Philippine art with future generations\, Mr. Vargas donated the holdings he acquired across his illustrious career in public service\, sports\, and scouting to his alma mater in 1978. Since it opened its doors to the public in 1987\, the institution has been visited by students\, researchers\, scholars\, and the public. The Museum has galleries for permanent as well as temporary exhibitions. The galleries are also spaces for educational events such as workshops\, lectures\, symposia\, walkthroughs\, and talks by artists and curators. The library accommodates researchers\, scholars\, students\, and artists; it also hosts small exhibitions within its spaces.\n\nFacebook: vargasmuseum.upd\nInstagram: @upvargasmuseum\nYouTube: Vargas Museum UP Diliman\nSpotify: Vargas on Air\nTikTok: @upvargasmuseum\n\nContact Information:\nRoxas Avenue\, University of the Philippines Campus\nDiliman\, Quezon City 1101 Metro Manila Philippines\nDirect Line: (+632) 8928 1927\nUP Trunkline: (+632) 8981 8500 local 4024\n\nSource: UP Vargas Museum Facebook
URL:https://alum.up.edu.ph/event/unfolding-%ec%96%b8%ed%8f%b4%eb%94%a9-exhibition/
END:VEVENT
BEGIN:VEVENT
DTSTART;VALUE=DATE:20241217
DTEND;VALUE=DATE:20241219
DTSTAMP:20260424T211118
CREATED:20241204T225554Z
LAST-MODIFIED:20241204T225554Z
UID:18725-1734393600-1734566399@alum.up.edu.ph
SUMMARY:Pasko Pasada [ha] UP Tacloban
DESCRIPTION:🎄Pasko Pasada [ha] UP Tacloban✨️\n\nWe’re turning on this year’s Christmas lights at the Oblation on 3 December.\n\nOn 17 December is the annual faculty and staff Christmas assembly and the 2024 UP Tacloban Harangdón Awards\, followed by the student-led annual Paskuhan ha UP lantern parade and Christmas contests.\n\nAnd then on 18 December is the Pamasko han Pahinungód with the children of Brgy. San Juan and Brgy. San Pedro in Sta. Rita\, Samar.\n\n✨️Maupay nga Pasko ha aton nga tanan!🎄\n\nSource: University of the Philippines Tacloban Facebook
URL:https://alum.up.edu.ph/event/pasko-pasada-ha-up-tacloban/
END:VEVENT
BEGIN:VEVENT
DTSTART;TZID=UTC:20241217T110000
DTEND;TZID=UTC:20241218T153000
DTSTAMP:20260424T211118
CREATED:20241212T214321Z
LAST-MODIFIED:20241212T214321Z
UID:18790-1734433200-1734535800@alum.up.edu.ph
SUMMARY:VSB Faculty Grant and Professorial Chair Lecture Series
DESCRIPTION:[ANNOUNCEMENT] VSB Faculty Grant and Professorial Chair Lecture Series – December 2024\n\nYou are all cordially invited to attend the research lectures of:\n\n– Prof. Debbie Chua Bun Pho on December 17\, 2024 (Tuesday) at 11 AM in VSB Rm 106 entitled Company Profile of Listed Philippine Property and Industrial Companies Using the Fair Value Model on Investment Properties\n\n– Prof. Daniel Vincent H. Borja on December 18\, 2024 (Wednesday) at 8 AM in VSB Rm 106 entitled Liquidity Funding Risk\n\n– Prof. Helena Agnes S. Valderrama on December 18\, 2024 (Wednesday) at 2 PM in VSB Rm 106 entitled Governance and Related Party Interests in the Philippine Power Sector: An Exploratory Analysis\n\nSource: UP Virata School of Business Facebook
URL:https://alum.up.edu.ph/event/vsb-faculty-grant-and-professorial-chair-lecture-series/
END:VEVENT
BEGIN:VEVENT
DTSTART;TZID=UTC:20241218T160000
DTEND;TZID=UTC:20241218T200000
DTSTAMP:20260424T211118
CREATED:20241215T161530Z
LAST-MODIFIED:20241215T164746Z
UID:18811-1734537600-1734552000@alum.up.edu.ph
SUMMARY:UP Diliman ‘Year-End Program 2024’
DESCRIPTION:“Tatlong malalaking aktibidad ang gaganapin sa UP Diliman (UPD) sa pagdiriwang ng ‘Year-End Program 2024’ na may temang ‘Nilay at Sikhay.’\n\n“Binigyang-diin ng tema ngayong taon ang pananatili ng UPD na nakatindig at matatag sa kabila ng mga pagsubok at patuloy na pagharap nito sa mga hamon bilang isang akademikong institusyon at komunidad. Ngayong taon\, ipagbubunyi ng UPD ang mga nakamit nitong tagumpay at pagninilayan ang mga kailangan pang tugunan. Dagdag pa rito\, binibigyang-diin din na makakamit lamang ng Pamantasan ang mga mithiin at adhikain nito kung sasabayan ito ng ‘pagsikhay ang pagninilay\, ng paglikha ang pagsasadiwa\, at ng paggawa ang pagpuna.’”\n\nBasahin ang buong artikulo sa https://upd.edu.ph/upd-year-end-program-2024-nilay-at…/.\n\nSource: UP Diliman Facebook
URL:https://alum.up.edu.ph/event/up-diliman-year-end-program-2024/
END:VEVENT
BEGIN:VEVENT
DTSTART;TZID=UTC:20241218T160000
DTEND;TZID=UTC:20241218T200000
DTSTAMP:20260424T211118
CREATED:20241215T183143Z
LAST-MODIFIED:20241215T183143Z
UID:18816-1734537600-1734552000@alum.up.edu.ph
SUMMARY:Balik Lantern Parade
DESCRIPTION:ATTENTION UP ALUMNI! Namiss ninyo na ba ang UP? Sama na kayo sa Balik Lantern Parade sa Dec. 18\, 2024\, UP Diliman. Tara magsiuwian na!\n\nAbangan lang ang mga detalye sa mga susunod na araw.\n\nPara ‘di kayo mahuli sa balita\, i-like at follow ang aming social media pages:\nhttps://www.facebook.com/official.upoar\nhttps://www.instagram.com/official.upoar\nhttps://www.twitter.com/official_upoar
URL:https://alum.up.edu.ph/event/balik-lantern-parade/
END:VEVENT
END:VCALENDAR