BEGIN:VCALENDAR
VERSION:2.0
PRODID:-//UP Alumni Website - ECPv6.15.16//NONSGML v1.0//EN
CALSCALE:GREGORIAN
METHOD:PUBLISH
X-WR-CALNAME:UP Alumni Website
X-ORIGINAL-URL:https://alum.up.edu.ph
X-WR-CALDESC:Events for UP Alumni Website
REFRESH-INTERVAL;VALUE=DURATION:PT1H
X-Robots-Tag:noindex
X-PUBLISHED-TTL:PT1H
BEGIN:VTIMEZONE
TZID:UTC
BEGIN:STANDARD
TZOFFSETFROM:+0000
TZOFFSETTO:+0000
TZNAME:UTC
DTSTART:20230101T000000
END:STANDARD
END:VTIMEZONE
BEGIN:VEVENT
DTSTART;TZID=UTC:20241214T090000
DTEND;TZID=UTC:20250222T160000
DTSTAMP:20260422T055351
CREATED:20250107T174711Z
LAST-MODIFIED:20250107T174711Z
UID:18872-1734166800-1740240000@alum.up.edu.ph
SUMMARY:Unfolding (언폴딩) Exhibition
DESCRIPTION:Unfolding (언폴딩)\nInhwan Oh and Kyungmook Kim\nPreview on 14 December 2024\, on view until 22 February 2025\n1/F Galleries\nUP Vargas Museum\n\nThe UP Vargas Museum\, together with the Ministry of Culture\, Sports\, and Tourism of the Republic of Korea\, the Korea Arts Management Service\, and the Fund for Korean Art Abroad\, presents the exhibition of works by artists Inhwan Oh and Kyungmook Kim organized by Dominic Mangila. Unfolding (언폴딩) considers the experiences of two artists who embody othered identities in a society largely devoted to masculine ideals. Inhwan Oh and Kyungmook Kim unpack vignettes of life in South Korea as members of the LGBTQIA+ community in film and video works\, and through art that engages labor and marks processes.\n\nThrough them\, they summon the worlds of prisons and places of incarceration juxtaposed with spaces of freedom and gaiety– to discover and mark a social identity that refuses to settle with the laws and sanctions of a patriarchal nation.\n\nUnfolding (언폴딩) will be on view at the 1/F Galleries of the UP Vargas Museum starting 14 December 2024. Write to vargasmuseum@up.edu.ph for details and related information. The museum is located inside the University of the Philippines Diliman Campus and is open from Tuesdays to Saturdays except holidays\, 9:00 AM to 5:00 PM.\n\nFor updates on events\, exhibitions\, and advisories check our socials on Facebook\, Instagram\, or Twitter @upvargasmuseum.\n\n__________________________\nAbout the artist\n\nInhwan Oh\n\nInhwan Oh (b. 1965) is Associate Professor at the Department of Painting of the College of Fine Arts at Seoul National University. His participatory works and site-specific projects contextualize a particular space and time and seek to dismantle the cultural codes  formed in the relationship between the identities of individuals and groups within a patriarchal society. Some of his more recent solo exhibitions were held at the Smith Gallery of Davidson College in North Carolina (2019)\,  BAIK ART in Los Angeles\, California (2019)\, and Bongsan Cultural Center\, South Korea (2018)  He recently participated in group exhibitions at the Arsenale in Venice\, Italy (2019) and at the National Museum of Modern and Contemporary Art in Gwacheon\, South Korea (2018). He was a recipient of the National Museum of Modern and Contemporary Art and SBS Foundation’s Korea Artist Prize in 2015.\nKyungmook Kim\nKyungmook Kim’s (b. 1985) video art\, documentary\, and narrative films expand the form of cinema by exploring the precarity of the marginalized such as homosexuals\, transsexuals\, sex workers\, and North Korean defectors. He made his directorial debut with Me and Doll-playing in 2004. Some of his other notable films include his Things Trilogy (2005-2014)\, A Cheonggyecheon Dog (2008)\, and Grace Period (2015). His films have been selected for and received awards in international film festivals such as the Venice Film Festival the BFI London Film Festival\, and the Museum of Modern Art in New York. Among his awards include the Idea Generation Grant of The School of the Art Institute of Chicago (2019)\, The Association of Korean Independent Film & Video’s Indie Filmmaker of the Year Award (2014)\, and Muju International Film Festival’s Best Director Award (2014).\n_________________________\nAbout the museum\n\nThe University of the Philippines Jorge B. Vargas Museum and Filipiniana Research Center is a center for Philippine art and culture with the core thrusts of research\, curation\, and education. The Museum is home to the collections of art\, books\, archives\, memorabilia\, coins\, and stamps of Jorge B. Vargas\, a significant political figure in the twentieth-century Philippines and an alumnus of the University of the Philippines An avid collector with a vision of sharing Philippine art with future generations\, Mr. Vargas donated the holdings he acquired across his illustrious career in public service\, sports\, and scouting to his alma mater in 1978. Since it opened its doors to the public in 1987\, the institution has been visited by students\, researchers\, scholars\, and the public. The Museum has galleries for permanent as well as temporary exhibitions. The galleries are also spaces for educational events such as workshops\, lectures\, symposia\, walkthroughs\, and talks by artists and curators. The library accommodates researchers\, scholars\, students\, and artists; it also hosts small exhibitions within its spaces.\n\nFacebook: vargasmuseum.upd\nInstagram: @upvargasmuseum\nYouTube: Vargas Museum UP Diliman\nSpotify: Vargas on Air\nTikTok: @upvargasmuseum\n\nContact Information:\nRoxas Avenue\, University of the Philippines Campus\nDiliman\, Quezon City 1101 Metro Manila Philippines\nDirect Line: (+632) 8928 1927\nUP Trunkline: (+632) 8981 8500 local 4024\n\nSource: UP Vargas Museum Facebook
URL:https://alum.up.edu.ph/event/unfolding-%ec%96%b8%ed%8f%b4%eb%94%a9-exhibition/
END:VEVENT
BEGIN:VEVENT
DTSTART;TZID=UTC:20250120T100000
DTEND;TZID=UTC:20250120T110000
DTSTAMP:20260422T055351
CREATED:20250112T172531Z
LAST-MODIFIED:20250112T172531Z
UID:18898-1737367200-1737370800@alum.up.edu.ph
SUMMARY:“Studying the Beginning of Life With Omics Technologies and Bioinformatics”
DESCRIPTION:Join us as we welcome 2025 with a hybrid research seminar to be given by Dr. Sarah Mae Penir on January 20\, 2025 at 10 AM in NIMBB Rm 105-107.\n\nRegister using this link:\n\nhttps://up-edu.zoom.us/…/register/cS1ud3gtQJCScuyKf73g8w
URL:https://alum.up.edu.ph/event/studying-the-beginning-of-life-with-omics-technologies-and-bioinformatics/
END:VEVENT
BEGIN:VEVENT
DTSTART;TZID=UTC:20250120T130000
DTEND;TZID=UTC:20250120T143000
DTSTAMP:20260422T055351
CREATED:20250108T172632Z
LAST-MODIFIED:20250108T172632Z
UID:18878-1737378000-1737383400@alum.up.edu.ph
SUMMARY:“Computer Vision in the Wild: Fireside Chat and Research Talk with Rangel Daroya”
DESCRIPTION:Everyone is invited to “Computer Vision in the Wild: Fireside Chat and Research Talk with Rangel Daroya” on Monday\, January 20\, 2025 @ 1:00-2:30 PM.\n\nJoin us as Rangel Daroya\, a PhD student at the University of Massachusetts Amherst\, shares her expertise in computer vision and its impactful applications in fields like remote sensing and environmental sustainability. Gain insights into how AI models are adapted for domain-specific challenges and the latest advancements in multi-task and transfer learning.\n\nRegister now and secure your place\, whether you want to attend the event in person at UP Diliman or virtually via Zoom. Registration and participation are free of charge.\n\n👉 https://bit.ly/upaifiresidetalkJan2025\n\nDon’t miss this opportunity to learn from cutting-edge AI research!\n\nWe look forward to seeing you there!\n\nSource: UP Diliman Artificial Intelligence Program Facebook
URL:https://alum.up.edu.ph/event/computer-vision-in-the-wild-fireside-chat-and-research-talk-with-rangel-daroya/
END:VEVENT
BEGIN:VEVENT
DTSTART;TZID=UTC:20250120T140000
DTEND;TZID=UTC:20250120T160000
DTSTAMP:20260422T055351
CREATED:20250116T164646Z
LAST-MODIFIED:20250116T164646Z
UID:18957-1737381600-1737388800@alum.up.edu.ph
SUMMARY:The MSI@50 Lecture Series: "Paving the Way to Sustainability: Collaborating in the Science-Society Interface"
DESCRIPTION:The MSI@50 Lecture Series returns!\n\nFor its twenty-second entry\, Dr. Michael Atrigenio will discuss fostering mutual understanding between science and society for addressing global issues.\n\nThe MSI@50 Lecture Series is an official UNESCO Ocean Decade activity that features the various topics and disciplines in marine science our faculty members and collaborators specialize in. As one of the Institute’s major events for our 50th Anniversary\, the Lecture Series celebrates the many ways UP MSI and its partners have gone beyond borders to forward marine science for the people.\n\nDr. Atrigenio’s seminar is on January 20\, 2PM to 4PM at the MSI AVR.\n\nRegister now: bit.ly/MSIat50LS22\n\nSource: UP Marine Science Institute Facebook
URL:https://alum.up.edu.ph/event/the-msi50-lecture-series-paving-the-way-to-sustainability-collaborating-in-the-science-society-interface/
END:VEVENT
END:VCALENDAR