BEGIN:VCALENDAR
VERSION:2.0
PRODID:-//UP Alumni Website - ECPv6.15.16//NONSGML v1.0//EN
CALSCALE:GREGORIAN
METHOD:PUBLISH
X-WR-CALNAME:UP Alumni Website
X-ORIGINAL-URL:https://alum.up.edu.ph
X-WR-CALDESC:Events for UP Alumni Website
REFRESH-INTERVAL;VALUE=DURATION:PT1H
X-Robots-Tag:noindex
X-PUBLISHED-TTL:PT1H
BEGIN:VTIMEZONE
TZID:UTC
BEGIN:STANDARD
TZOFFSETFROM:+0000
TZOFFSETTO:+0000
TZNAME:UTC
DTSTART:20230101T000000
END:STANDARD
END:VTIMEZONE
BEGIN:VEVENT
DTSTART;TZID=UTC:20241214T090000
DTEND;TZID=UTC:20250222T160000
DTSTAMP:20260422T141359
CREATED:20250107T174711Z
LAST-MODIFIED:20250107T174711Z
UID:18872-1734166800-1740240000@alum.up.edu.ph
SUMMARY:Unfolding (언폴딩) Exhibition
DESCRIPTION:Unfolding (언폴딩)\nInhwan Oh and Kyungmook Kim\nPreview on 14 December 2024\, on view until 22 February 2025\n1/F Galleries\nUP Vargas Museum\n\nThe UP Vargas Museum\, together with the Ministry of Culture\, Sports\, and Tourism of the Republic of Korea\, the Korea Arts Management Service\, and the Fund for Korean Art Abroad\, presents the exhibition of works by artists Inhwan Oh and Kyungmook Kim organized by Dominic Mangila. Unfolding (언폴딩) considers the experiences of two artists who embody othered identities in a society largely devoted to masculine ideals. Inhwan Oh and Kyungmook Kim unpack vignettes of life in South Korea as members of the LGBTQIA+ community in film and video works\, and through art that engages labor and marks processes.\n\nThrough them\, they summon the worlds of prisons and places of incarceration juxtaposed with spaces of freedom and gaiety– to discover and mark a social identity that refuses to settle with the laws and sanctions of a patriarchal nation.\n\nUnfolding (언폴딩) will be on view at the 1/F Galleries of the UP Vargas Museum starting 14 December 2024. Write to vargasmuseum@up.edu.ph for details and related information. The museum is located inside the University of the Philippines Diliman Campus and is open from Tuesdays to Saturdays except holidays\, 9:00 AM to 5:00 PM.\n\nFor updates on events\, exhibitions\, and advisories check our socials on Facebook\, Instagram\, or Twitter @upvargasmuseum.\n\n__________________________\nAbout the artist\n\nInhwan Oh\n\nInhwan Oh (b. 1965) is Associate Professor at the Department of Painting of the College of Fine Arts at Seoul National University. His participatory works and site-specific projects contextualize a particular space and time and seek to dismantle the cultural codes  formed in the relationship between the identities of individuals and groups within a patriarchal society. Some of his more recent solo exhibitions were held at the Smith Gallery of Davidson College in North Carolina (2019)\,  BAIK ART in Los Angeles\, California (2019)\, and Bongsan Cultural Center\, South Korea (2018)  He recently participated in group exhibitions at the Arsenale in Venice\, Italy (2019) and at the National Museum of Modern and Contemporary Art in Gwacheon\, South Korea (2018). He was a recipient of the National Museum of Modern and Contemporary Art and SBS Foundation’s Korea Artist Prize in 2015.\nKyungmook Kim\nKyungmook Kim’s (b. 1985) video art\, documentary\, and narrative films expand the form of cinema by exploring the precarity of the marginalized such as homosexuals\, transsexuals\, sex workers\, and North Korean defectors. He made his directorial debut with Me and Doll-playing in 2004. Some of his other notable films include his Things Trilogy (2005-2014)\, A Cheonggyecheon Dog (2008)\, and Grace Period (2015). His films have been selected for and received awards in international film festivals such as the Venice Film Festival the BFI London Film Festival\, and the Museum of Modern Art in New York. Among his awards include the Idea Generation Grant of The School of the Art Institute of Chicago (2019)\, The Association of Korean Independent Film & Video’s Indie Filmmaker of the Year Award (2014)\, and Muju International Film Festival’s Best Director Award (2014).\n_________________________\nAbout the museum\n\nThe University of the Philippines Jorge B. Vargas Museum and Filipiniana Research Center is a center for Philippine art and culture with the core thrusts of research\, curation\, and education. The Museum is home to the collections of art\, books\, archives\, memorabilia\, coins\, and stamps of Jorge B. Vargas\, a significant political figure in the twentieth-century Philippines and an alumnus of the University of the Philippines An avid collector with a vision of sharing Philippine art with future generations\, Mr. Vargas donated the holdings he acquired across his illustrious career in public service\, sports\, and scouting to his alma mater in 1978. Since it opened its doors to the public in 1987\, the institution has been visited by students\, researchers\, scholars\, and the public. The Museum has galleries for permanent as well as temporary exhibitions. The galleries are also spaces for educational events such as workshops\, lectures\, symposia\, walkthroughs\, and talks by artists and curators. The library accommodates researchers\, scholars\, students\, and artists; it also hosts small exhibitions within its spaces.\n\nFacebook: vargasmuseum.upd\nInstagram: @upvargasmuseum\nYouTube: Vargas Museum UP Diliman\nSpotify: Vargas on Air\nTikTok: @upvargasmuseum\n\nContact Information:\nRoxas Avenue\, University of the Philippines Campus\nDiliman\, Quezon City 1101 Metro Manila Philippines\nDirect Line: (+632) 8928 1927\nUP Trunkline: (+632) 8981 8500 local 4024\n\nSource: UP Vargas Museum Facebook
URL:https://alum.up.edu.ph/event/unfolding-%ec%96%b8%ed%8f%b4%eb%94%a9-exhibition/
END:VEVENT
BEGIN:VEVENT
DTSTART;TZID=UTC:20250129T080000
DTEND;TZID=UTC:20250131T170000
DTSTAMP:20260422T141359
CREATED:20250102T215550Z
LAST-MODIFIED:20250102T215550Z
UID:18829-1738137600-1738342800@alum.up.edu.ph
SUMMARY:5th International Conference on Interprofessional Education\, Practice & Care (ICON-IPEPC 2025)
DESCRIPTION:5th International Conference on Interprofessional Education\, Practice & Care\n“Technology-Enhanced Interprofessional Education Practice & Care”\nDate: 29th – 31st May 2025\nVenue: Manipal University College Malaysia\, Melaka Campus\, Malaysia\n(Hybrid Conference)\nThe registration is open for 5th edition of ICON-IPEPC 2025.\nRegistration Link: https://forms.gle/kJpNnRtFogQH1YJx7\n\nSource: NTTCHP UP Manila Facebook
URL:https://alum.up.edu.ph/event/5th-international-conference-on-interprofessional-education-practice-care-icon-ipepc-2025/
END:VEVENT
BEGIN:VEVENT
DTSTART;TZID=UTC:20250131T120000
DTEND;TZID=UTC:20250131T130000
DTSTAMP:20260422T141359
CREATED:20250116T153212Z
LAST-MODIFIED:20250130T190503Z
UID:18954-1738324800-1738328400@alum.up.edu.ph
SUMMARY:Health UPdates Webinar #224 (“Leaking Bladder in Women”: Ano Ang Solusyon?)
DESCRIPTION:The University of the Philippines\,\nin partnership with the UP Manila – National Institutes of Health\,\nand in cooperation with UP Philippine General Hospital and UP College of Medicine\,\nwould like to invite you to attend this webinar! \n  \nRegistration slots are limited to this HEALTH UPDATES webinar\nSo sign up NOW:\nbit.ly/HealthUpdatesWebinar224 \n  \nWebinar #224\nJanuary 31\, 2025 (Friday) 12nn\nLeaking Bladder in Women\nAno ang Solusyon?\n\nPresenter:\nDR. JOANNE KAREN S. AGUINALDO\nAssociate Professor III\, Division of Urogynecology and Pelvic Reconstructive Surgery\nDepartment of Obstetrics and Gynecology\nUP – Philippine General Hospital\n\nReactor:\nDR. DIVINE S. MACANIP\nFellow\, Division of Urogynecology and Pelvic Reconstructive Surgery\nDepartment of Obstetrics and Gynecology\nUP – Philippine General Hospital\n\nMS. EDITHA VALENCIA\nPerspective from Patient\n\n———————————————————–\n\nWebinar #224\nJanuary 31\, 2025 (Friday) 12nn\nLeaking Bladder in Women\nAno ang Solusyon?\n\nUrinary incontinence (UI)\, or the involuntary leakage of urine\, represents a significant health concern affecting millions worldwide\, impacting quality of life across various demographics. While often perceived as an issue primarily affecting older adults\, UI can manifest at any age\, influenced by a complex interplay of physiological\, lifestyle\, and environmental factors.\n\nIn this week’s episode\, we will try to provide a comprehensive understanding of this prevalent condition and the various types of UI\, including stress\, urge\, mixed\, overflow\, and functional incontinence. Attendees will gain valuable insights into the multifactorial etiology of UI\, encompassing risk factors such as age\, pregnancy\, childbirth\, menopause\, obesity\, diabetes\, neurological disorders\, and certain medications. We will also address the often-overlooked impact of lifestyle choices\, such as fluid intake\, dietary habits\, and physical activity\, on bladder function.\n\nOur expert speakers will discuss the various diagnostic tools and methods employed in evaluating UI\, including patient history\, physical examination\, bladder diaries\, and urodynamic studies. In addition\, our speakers will provide an overview of current management strategies\, ranging from conservative approaches like lifestyle modifications\, pelvic floor muscle training (Kegel exercises)\, and bladder retraining\, to more advanced interventions such as pharmacotherapy and surgical options.\n\nOur main presenter is Dr. Joanne Karen S. Aguinaldo\, who is an Associate Professor III from the Division of Urogynecology and Pelvic Reconstructive Surgery of the UP-PGH Department of Obstetrics and Gynecology. Our reactors are Dr. Divine S. Macanip\, who is a fellow-in-training from the same division\, and Ms. Editha Valencia\, who will provide her insights from the patient’s perspective.\n\nJoin us as we foster a collaborative approach to managing UI\, ultimately improving the lives of those affected by this common yet often underreported condition.
URL:https://alum.up.edu.ph/event/health-updates-webinar-224/
END:VEVENT
BEGIN:VEVENT
DTSTART;TZID=UTC:20250131T120000
DTEND;TZID=UTC:20250131T130000
DTSTAMP:20260422T141359
CREATED:20250129T172702Z
LAST-MODIFIED:20250129T172702Z
UID:19062-1738324800-1738328400@alum.up.edu.ph
SUMMARY:"Accessing and Utilizing Firm-Level Data from the PSA Data Enclave Center"
DESCRIPTION:HAPPENING NEXT WEEK!\n\nWe invite you to our Brown Bag Seminar on “Accessing and Utilizing Firm-Level Data from the PSA Data Enclave Center” and learn how to tap into valuable datasets like:\n\n✅ ASPBI/CPBI\n\n✅ List of Establishments\n\n✅ Survey of ICT (SICT)\n\n✅ IMTS Trade Transactions\n\nFind out how to access and use these datasets for research\, with real examples to inspire your work. Perfect for graduate students and undergraduate thesis writers!\n\nPlease register using this link (tinyurl.com/48d8wsun) or by scanning the QR code below.\n\nWe look forward to seeing you there!\n\nSource: UP School of Economics Facebook
URL:https://alum.up.edu.ph/event/accessing-and-utilizing-firm-level-data-from-the-psa-data-enclave-center/
END:VEVENT
BEGIN:VEVENT
DTSTART;TZID=UTC:20250131T130000
DTEND;TZID=UTC:20250131T140000
DTSTAMP:20260422T141359
CREATED:20250129T161838Z
LAST-MODIFIED:20250129T161838Z
UID:19043-1738328400-1738332000@alum.up.edu.ph
SUMMARY:BANTAYANON: "Liminality" as an Identifying Feature of Bantayanon Grammar
DESCRIPTION:[Philippine Indigenous Languages Lecture Series]\nBANTAYANON [bfx]: “Liminality” as an Identifying Feature of Bantayanon Grammar\n31 January | Friday | 1:00 PM\nCSSP Health & Wellness Center\n\nBrian Baran\nInstructor\nUP Department of Linguistics\n\n—\n\nThe opening installment of the 2025 Philippine Indigenous Languages Lecture Series (PILLS) will be on Bantayanon [bfx]\, a language spoken on the Bantayan island in Cebu and surrounding islands.\n\n—\n\nBantayanon (ISO 639-3 [bfx]) is a language that is not too well known outside of its home Island of Bantayan in the Province of Cebu. That may be because the language has been and perhaps continues to be confused with Cebuano\, Hiligaynon\, and the other languages spoken on the island and this multilingual nature of the Bantayanon and tendency to switch to Cebuano has resulted in some speakers describing their speech as saksak-sinagol ‘hodgepodge.’\n\nWhile Bantayanon is and should be considered a distinct language\, I attempt to show in this lecture that the boundaries between Bantayanon and the other languages of Bantayan are not discrete and that this “liminality” or in-betweenness is the identifying and distinguishing feature of Bantayanon grammar. To demonstrate this\, I will look at three examples of liminality in the language’s grammar including the varying realizations of the lateral consonant /l/\, the dichotomy between the markers =y and sing\, and the synonymity of lat\, pod\, and sad ‘also.’ I will also attempt to explore some of the possible functionalities of this liminality in linguistic accommodation\, identity establishment\, and boundary-making and their implications in the further study of Bantayanon and other similar languages as indiscrete yet distinct grammatical systems.\n\nAng Bantayanon nga Binisaya (ISO 639-3 [bfx])\, usa sya ka sinultian nga di kaayo kilyado sa gwa sang Isla sang Bantayan sa Lalawigan sang Sugbo. Ang rason sini basi tungod kay padayon nga ang ini nga sinultian maabihan nga Sinugboanon nga Binisaya\, Hinilonggo/Hiligaynon\, o nano pa na sinultian sang isla kag ining pagka-multilinggwal sang mga Bantayanon kag ang ila nga kasagad sa pag-Sinugboanon mao tingay ang rason kon ngaa gitawag nila ini nga sinultiang saksak-sinagol.\n\nBisan tuod lain nga sinultian ang Bantayanon kag angay lini kilyaon isip lain na sinultian\, akon ipakita sini na lektyur nga di tin-aw ang utdanan sang Bantayanon kag iban pa nga mga sinultian kag ang ini nga “pagkataliwa” o pagkaara sang tunga-tunga amo ang timailhan kag nagpalain sang usa ka gramatikang Bantayanon. Aron mapakita ang akon buot pasabot\, pagahisgotan ko ang tyo ka pananglitan sang pagkataliwa sa gramatika sini nga sinultian labot na ang lain-lain nga pagkalitok sang katingog lateral nga /l/\, ang dikotomiya sang mga pangmarka nga =y kag sing\, kag ang pagkasinonimo sang lat\, pod\, kag sad. Dugang pa sini\, usisaon lat nakon ang pipila ka mga possible nga kapuslanan sini nga pagkataliwa sa linggwistik nga pakasama\, pag-establisar sing kakilyaan\, kag pagmuhon kag ang ila lat nga mga implikasyon sang padayon nga pagtuon sang Bantayanon kag sang iban pa nga subong nga sinultian isip mga nalain pero daw di gayd bwag nga mga sistemang gramatikanhon.\n\nSource: UP Department of Linguistics Facebook
URL:https://alum.up.edu.ph/event/bantayanon-liminality-as-an-identifying-feature-of-bantayanon-grammar/
END:VEVENT
BEGIN:VEVENT
DTSTART;TZID=UTC:20250131T160000
DTEND;TZID=UTC:20250131T170000
DTSTAMP:20260422T141359
CREATED:20250102T223146Z
LAST-MODIFIED:20250102T223146Z
UID:18835-1738339200-1738342800@alum.up.edu.ph
SUMMARY:Bigger Isn't Always Better: Insights on Nano-Sized Drug Delivery and Imaging
DESCRIPTION:You are invited to the first IPS Research Hour webinar for the year 2025\, hosted by the Institute of Pharmaceutical Sciences – National Institutes of Health\, UP Manila:\n\n“Bigger Isn’t Always Better: Insights on Nano-Sized Drug Delivery and Imaging”\n\nThe webinar will explore nano-based drug delivery and imaging systems and their utilization in precision medicine as diagnostic and therapeutic interventions.\n\nRegister now and guarantee your spot: https://bit.ly/IPSResearchHour-January2025\n\nWho should attend the webinar? Those involved in drug delivery systems\, nanotechnology\, and pharmaceutical formulation; Professionals working on designing and optimizing nano-based imaging and therapeutic tools used in precision medicine; Graduate and undergraduate students particularly those studying pharmaceutical sciences\, biomedical engineering\, biotechnology\, and related fields; Professors and lecturers focusing on drug delivery\, nanotechnology\, and medical imaging; Industry professionals involved in pharmaceutical\, cosmetics\, biotechnology\, and healthcare industries exploring nano-based product development; Policy makers and regulators engaged in healthcare policy\, drug approvals\, and regulatory affairs related to nanomedicine.\n\nIf there is any problem with this link\, don’t hesitate to get in touch with the NIH-IPS secretariat email c/o Ms. Ana Rose Palmes through ips_nih.upm@up.edu.ph. After registering\, you will receive a confirmation email containing information about joining the meeting in Zoom.\n\nSee you at the webinar!\n\nSource: Institute of Pharmaceutical Sciences – NIH Facebook
URL:https://alum.up.edu.ph/event/bigger-isnt-always-better-insights-on-nano-sized-drug-delivery-and-imaging/
END:VEVENT
BEGIN:VEVENT
DTSTART;TZID=UTC:20250131T173000
DTEND;TZID=UTC:20250131T190000
DTSTAMP:20260422T141359
CREATED:20250129T162424Z
LAST-MODIFIED:20250129T162424Z
UID:19052-1738344600-1738350000@alum.up.edu.ph
SUMMARY:Participatory Tools and Mapping Methods for Community-Engaged Learning
DESCRIPTION:Consultation\, collaboration\, outreach and shared leadership are some of the key words/terms that characterise the works of community-engaged geographers involved in participatory mapping practices and advocacies.\n\nCommunity-engaged learning emphasizes collaboration and participation to achieve mutually beneficial outcomes for both students and community partners. By connecting concepts with real-world applications\, this approach enables students to actively contribute to solving local challenges while developing critical thinking\, problem-solving\, and collaboration skills. It facilitates the connection between higher education and local communities by fostering community awareness and encouraging the involvement of students in addressing pressing local issues.\n\nFor the first Heo/Geo lecture for 2025\, the Philippine Geographical Society (PGS) and the UP Department of Geography through its Geographic Information Systems and Techniques (GIST) research group\, cordially invite you to a lecture of UPD Geography faculty Ma. Simeona Martinez titled Participatory Tools and Mapping Methods for Community-Engaged Learning. This online talk will be on Friday\, the 31st of January 2025 at 5:30 in the afternoon.\n\nIn Ony Martinez’s community-engaged research\, mapping and spatial tools contribute to place-based learning by enabling students and communities to visualize places at various scales and explore the distribution of spatial features such as infrastructure or resources in relation to potentials and risks in their locality and surrounding areas. In effect\, spatial tools help educators and students bridge the gap between abstract knowledge and community realities. Similarly\, maps serve as essential resources for community members to identify challenges and devise strategies to address these issues collaboratively.\n\nThis lecture introduces practical tools and participatory mapping methods that educators can integrate into their teaching practices to promote collaborative and experiential learning. These methods\, traditionally used for community appraisal\, mobilization\, and planning\, facilitate working with communities in documenting community assets and in addressing spatial issues in a collective and engaging way\, where students co-produce meaningful outputs in partnership with community members and support organizations. Through participatory mapping\, students and communities can collaboratively document assets and analyze community issues. Drawing on both literature and personal experience\, the presentation will reflect on the contextuality of place\, forms of participation\, and the role spatial technologies in fostering critical place-based and community-oriented learning.\n\nProf Ony Martinez teaches mapping methods and the use of Geographic Information Systems for collaborative research in diverse areas such as hazard and disaster risk reduction\, land cover change\, and development planning. She also develops learning modules on digital cartography and basic techniques in analyzing and interpreting remotely-sensed imagery. She is co-convenor of the Program on Alternative Development in the University of the Philippines Center for Integrative and Development Studies (UP CIDS- AltDev) and a member of the core research team of Counter-mapping PH Network.\n\nThe talk given by Ony Martinez is the 85th lecture since the Department of Geography re-instituted (and subsequently rebranded the Geography Colloquium into the Heo/Geo Lecture Series) a space that invites academics\, civil society\, community and industry practitioners to share their research\, advocacy\, and technology-knowledge to geography students\, faculty and staff. Prof Martinez’s talk fits most of the 17 Sustainable Development Goals (SDGs) by United Nations Sustainable Development\, but especially #10 (Reduced Inequalities) and #11 (Sustainable Cities and Communities).\n\nTo participate in the talk\, please register through this link: https://tinyurl.com/54zf2uwd\n\nSource: UP Department of Geography Facebook
URL:https://alum.up.edu.ph/event/participatory-tools-and-mapping-methods-for-community-engaged-learning/
END:VEVENT
END:VCALENDAR